{"text_format":"1","workbook":"xlsx","n_sheets":164,"sheets":["Feuil1","A modifier","Liste","Classement","1A","1B","1C","1D","1E","1F","1G","1H","2A","2B","2C","2D","2E","2F","2G","2H","3A","3B","3C","3D","3E","3F","3G","3H","4A","4B","4C","4D","4E","4F","4G","4H","5A","5B","5C","5D","5E","5F","5G","5H","6A","6B","6C","6D","6E","6F","6G","6H","7A","7B","7C","7D","7E","7F","7G","7H","8A","8B","8C","8D","8E","8F","8G","8H","9A","9B","9C","9D","9E","9F","9G","9H","10A","10B","10C","10D","10E","10F","10G","10H","11A","11B","11C","11D","11E","11F","11G","11H","12A","12B","12C","12D","12E","12F","12G","12H","13A","13B","13C","13D","13E","13F","13G","13H","14A","14B","14C","14D","14E","14F","14G","14H","15A","15B","15C","15D","15E","15F","15G","15H","16A","16B","16C","16D","16E","16F","16G","16H","cible 1","cible 1 (2)","cible 2","cible 2 (2)","cible 3","cible 3 (2)","cible 4","cible 4 (2)","cible 5","cible 5 (2)","cible 6","cible 6 (2)","cible 7","cible 7 (2)","cible 8","cible 8 (2)","cible 9","cible 9 (2)","cible 10","cible 10 (2)","cible 11","cible 11 (2)","cible 12","cible 12 (2)","cible 13","cible 13 (2)","cible 14","cible 14 (2)","cible 15","cible 15 (2)","cible 16","cible 16 (2)"],"not_rendered":{"charts":0,"images":2,"macros":1,"external_links":0,"defined_names":41,"comments":0,"pivot_tables":0},"unopened":[],"bounds":{"document_bytes":16777216,"sheet_cells":100000,"rows_first":2000,"rows_last":500,"rows_between":2000,"halvings":0,"cell_chars":16384,"cell_head_chars":4096},"cells_cut":0,"cells_raw":0,"read":"whole","date_system":"1900"}

{"sheet":"Feuil1","index":0,"n_rows":32,"n_cols":24,"rows_kept":32,"cut":false,"hidden":false,"merged":[[26,1,27,8],[18,12,21,12],[1,2,1,7],[4,1,4,2],[5,1,5,2],[6,1,6,2],[2,3,2,5],[3,1,3,2],[5,3,5,6],[4,3,4,6],[6,3,6,6],[22,8,25,8],[10,10,13,10],[14,10,17,10],[18,10,21,10],[22,10,25,10],[10,22,11,23],[10,18,10,21],[11,20,11,21],[10,6,13,6],[14,6,17,6],[11,18,11,19],[10,8,13,8],[14,8,17,8],[10,12,13,12],[14,12,17,12],[10,2,13,2],[14,2,17,2],[18,2,21,2],[22,2,25,2],[10,4,13,4],[14,4,17,4],[18,4,21,4],[22,4,25,4],[10,16,13,16],[14,16,17,16],[18,16,21,16],[22,16,25,16],[1,9,1,10],[9,3,9,9],[3,3,3,6],[22,12,25,12],[10,14,13,14],[14,14,17,14],[18,14,21,14],[22,14,25,14],[18,6,21,6],[22,6,25,6],[7,1,7,6],[18,8,21,8]]}
[]
[null,null,"Bonjour et bienvenue"]
[null,null,null,"Modifier avant impression"]
[null,"N° du tir",null,"2ème Tir"]
[null,"Organisateur",null,"Cie La Flèche Macairoise"]
[null,"Challenge",null,"2ème étape Challenge CHAIRMARTIN"]
[null,"Date",null,"2023-01-14"]
[null,"A CE JOUR L'IMPRESSION CE FAIT FEUILLE PAR FEUILLE",null,null,null,null,null,"Créer et mis à disposition par HURTAULT Jimmy Cie La Flèche Macairoise"]
[]
[null,"N° Cible","Libre","Cliquer sur le tir pour l'afficher , possibilité de modifier le numéro des cibles"]
[null,"1A","1ABCD","3A","3ABCD","5A","5ABCD","7A","7ABCD","9A","9ABCD","11A","11ABCD","13A","13ABCD","15A","15ABCD",null,"Nombre d'inscrits par :",null,null,null,"Nombre de blason à prévoir par catégorie"]
[null,"1B",null,"3B",null,"5B",null,"7B",null,"9B",null,"11B",null,"13B",null,"15B",null,null,"Club",null,"Catégorie"]
[null,"1C",null,"3C",null,"5C",null,"7C",null,"9C",null,"11C",null,"13C",null,"15C",null,null,{"$f":"COUNTIF(Liste!D:D,\"ANGERS\")","v":0},"ANGERS",{"$f":"COUNTIF(Liste!F:F,\"JFCL3\")","v":0},"JFCL3",{"$f":"U13+U17+U21+U25","v":0},"N3 80cm à 10m"]
[null,"1D",null,"3D",null,"5D",null,"7D",null,"9D",null,"11D",null,"13D",null,"15D",null,null,{"$f":"COUNTIF(Liste!D:D,\"BEAUPREAU\")","v":0},"BEAUPREAU",{"$f":"COUNTIF(Liste!F:F,\"JFCL2\")","v":0},"JFCL2",{"$f":"U14+U18+U22+U26","v":0},"N2 80 cm à 15m"]
[null,"1E","1EFGH","3E","3EFGH","5E","5EFGH","7E","7EFGH","9E","9EFGH","11E","11EFGH","13E","13EFGH","15E","15EFGH",null,{"$f":"COUNTIF(Liste!D:D,\"POUANCÉ\")","v":0},"CANDÉ",{"$f":"COUNTIF(Liste!F:F,\"JFCL1\")","v":0},"JFCL1",{"$f":"U15+U19+U23+U27","v":0},"N1 60cm à 15m"]
[null,"1F",null,"3F",null,"5F",null,"7F",null,"9F",null,"11F",null,"13F",null,"15F",null,null,{"$f":"COUNTIF(Liste!D:D,\"CHEMILLÉ\")","v":0},"CHEMILLÉ",{"$f":"COUNTIF(Liste!F:F,\"JFCLAS\")","v":0},"JFCLAS",{"$f":"U16+U20+U24+U28","v":0},"AS 40cm à 15m"]
[null,"1G",null,"3G",null,"5G",null,"7G",null,"9G",null,"11G",null,"13G",null,"15G",null,null,{"$f":"COUNTIF(Liste!D:D,\"CHOLET TAC\")","v":0},"CHOLET TAC",{"$f":"COUNTIF(Liste!F:F,\"JHCL3\")","v":0},"JHCL3",{"$f":"SUM(W13:W16)","v":0},"TOTAL"]
[null,"1H",null,"3H",null,"5H",null,"7H",null,"9H",null,"11H",null,"13H",null,"15H",null,null,{"$f":"COUNTIF(Liste!D:D,\"DAUMERAIS\")","v":0},"DAUMERAIS",{"$f":"COUNTIF(Liste!F:F,\"JHCL2\")","v":0},"JHCL2"]
[null,"2A","2ABCD","4A","4ABCD","6A","6ABCD","8A","8ABCD","10A","10ABCD","12A","12ABCD","14A","14ABCD","16A","16ABCD",null,{"$f":"COUNTIF(Liste!D:D,\"ÉCOUFLANT\")","v":0},"ÉCOUFLANT",{"$f":"COUNTIF(Liste!F:F,\"JHCL1\")","v":0},"JHCL1"]
[null,"2B",null,"4B",null,"6B",null,"8B",null,"10B",null,"12B",null,"14B",null,"16B",null,null,{"$f":"COUNTIF(Liste!D:D,\"LE FUILET\")","v":0},"LE FUILET",{"$f":"COUNTIF(Liste!F:F,\"JHCLAS\")","v":0},"JHCLAS"]
[null,"2C",null,"4C",null,"6C",null,"8C",null,"10C",null,"12C",null,"14C",null,"16C",null,null,{"$f":"COUNTIF(Liste!D:D,\"LE MAY SUR EVRE\")","v":0},"LE MAY SUR EVRE",{"$f":"COUNTIF(Liste!F:F,\"AFCL3\")","v":0},"AFCL3"]
[null,"2D",null,"4D",null,"6D",null,"8D",null,"10D",null,"12D",null,"14D",null,"16D",null,null,{"$f":"COUNTIF(Liste!D:D,\"MAZE\")","v":0},"MAZE",{"$f":"COUNTIF(Liste!F:F,\"AFCL2\")","v":0},"AFCL2"]
[null,"2E","2EFGH","4E","4EFGH","6E","6EFGH","8E","8EFGH","10E","10EFGH","12E","12EFGH","14E","14EFGH","16E","16EFGH",null,{"$f":"COUNTIF(Liste!D:D,\"MONTREUIL JUIGNE\")","v":0},"MONTREUIL JUIGNE",{"$f":"COUNTIF(Liste!F:F,\"AFCL1\")","v":0},"AFCL1"]
[null,"2F",null,"4F",null,"6F",null,"8F",null,"10F",null,"12F",null,"14F",null,"16F",null,null,{"$f":"COUNTIF(Liste!D:D,\"MURS ERIGNE\")","v":0},"MURS ERIGNE",{"$f":"COUNTIF(Liste!F:F,\"AFCLAS\")","v":0},"AFCLAS"]
[null,"2G",null,"4G",null,"6G",null,"8G",null,"10G",null,"12G",null,"14G",null,"16G",null,null,{"$f":"COUNTIF(Liste!D:D,\"NOYANT\")","v":0},"NOYANT",{"$f":"COUNTIF(Liste!F:F,\"AHCL3\")","v":0},"AHCL3"]
[null,"2H",null,"4H",null,"6H",null,"8H",null,"10H",null,"12H",null,"14H",null,"16H",null,null,{"$f":"COUNTIF(Liste!D:D,\"CANDÉ\")","v":0},"POUANCÉ",{"$f":"COUNTIF(Liste!F:F,\"AHCL2\")","v":0},"AHCL2"]
[null,"Cliquer sur le tir pour l'afficher , couleur  à modifier selon pas de tir. LE NOM CE MODIFIE EN MODIFIANT LE NOM DANS LES CASES ORANGE",null,null,null,null,null,null,null,null,null,null,null,null,null,null,null,null,{"$f":"COUNTIF(Liste!D:D,\"SAUMUR\")","v":0},"SAUMUR",{"$f":"COUNTIF(Liste!F:F,\"AHCL1\")","v":0},"AHCL1"]
[null,null,null,null,null,null,null,null,null,null,null,null,null,null,null,null,null,null,{"$f":"COUNTIF(Liste!D:D,\"ST MACAIRE EN MAUGES\")","v":0},"ST MACAIRE EN MAUGES",{"$f":"COUNTIF(Liste!F:F,\"AHCLAS\")","v":0},"AHCLAS"]
["N3 80cm à 10m",{"$f":"C11","v":"1ABCD"},{"$f":"E11","v":"3ABCD"},{"$f":"G11","v":"5ABCD"},{"$f":"I11","v":"7ABCD"},{"$f":"K11","v":"9ABCD"},{"$f":"M11","v":"11ABCD"},{"$f":"O11","v":"13ABCD"},{"$f":"Q11","v":"15ABCD"},null,null,null,null,null,null,null,null,null,{"$f":"SUM(S13:S28)","v":0},"TOTAL",{"$f":"SUM(U13:U28)","v":0},"TOTAL"]
["N2 80 cm à 15m",{"$f":"C15","v":"1EFGH"},{"$f":"E15","v":"3EFGH"},{"$f":"G15","v":"5EFGH"},{"$f":"I15","v":"7EFGH"},{"$f":"K15","v":"9EFGH"},{"$f":"M15","v":"11EFGH"},{"$f":"O15","v":"13EFGH"},{"$f":"Q15","v":"15EFGH"}]
["N1 60cm à 15m",{"$f":"C19","v":"2ABCD"},{"$f":"E19","v":"4ABCD"},{"$f":"G19","v":"6ABCD"},{"$f":"I19","v":"8ABCD"},{"$f":"K19","v":"10ABCD"},{"$f":"M19","v":"12ABCD"},{"$f":"O19","v":"14ABCD"},{"$f":"Q19","v":"16ABCD"}]
["AS 40cm à 15m",{"$f":"C23","v":"2EFGH"},{"$f":"E23","v":"4EFGH"},{"$f":"G23","v":"6EFGH"},{"$f":"I23","v":"8EFGH"},{"$f":"K23","v":"10EFGH"},{"$f":"M23","v":"12EFGH"},{"$f":"O23","v":"14EFGH"},{"$f":"Q23","v":"16EFGH"}]

{"sheet":"A modifier","index":1,"n_rows":6,"n_cols":4,"rows_kept":6,"cut":false,"hidden":false,"merged":[]}
[null,null,null,"CL"]
[null,null,null,"BB"]
[null,null,null,"CO"]
[]
[null,null,null,"Oui"]
[null,null,null,"Non"]

{"sheet":"Liste","index":2,"n_rows":233,"n_cols":11,"rows_kept":233,"cut":false,"hidden":false,"merged":[]}
[null,"Cible","NOM PRÉNOM","CLUB","LICENCE","CATÉGORIE","1ER TIR","2ÈME TIR","TOTAL TIR","PAYER","CLASSEMENT "]
[{"$f":"F2&\" \"&K2","v":" 1"},null,null,null,null,null,null,null,{"$f":"G2+H2","v":0},null,{"$f":"COUNTIFS(F:F,F2,I:I,\">\"&I2)+1","v":1}]
[{"$f":"F3&\" \"&K3","v":" 1"},null,null,null,null,null,null,null,{"$f":"G3+H3","v":0},null,{"$f":"COUNTIFS(F:F,F3,I:I,\">\"&I3)+1","v":1}]
[{"$f":"F4&\" \"&K4","v":" 1"},null,null,null,null,null,null,null,{"$f":"G4+H4","v":0},null,{"$f":"COUNTIFS(F:F,F4,I:I,\">\"&I4)+1","v":1}]
[{"$f":"F5&\" \"&K5","v":" 1"},null,null,null,null,null,null,null,{"$f":"G5+H5","v":0},null,{"$f":"COUNTIFS(F:F,F5,I:I,\">\"&I5)+1","v":1}]
[" 1",null,null,null,null,null,null,null,0,null,1]
[" 1",null,null,null,null,null,null,null,0,null,1]
[" 1",null,null,null,null,null,null,null,0,null,1]
[" 1",null,null,null,null,null,null,null,0,null,1]
[" 1",null,null,null,null,null,null,null,0,null,1]
[" 1",null,null,null,null,null,null,null,0,null,1]
[" 1",null,null,null,null,null,null,null,0,null,1]
[" 1",null,null,null,null,null,null,null,0,null,1]
[" 1",null,null,null,null,null,null,null,0,null,1]
[" 1",null,null,null,null,null,null,null,0,null,1]
[" 1",null,null,null,null,null,null,null,0,null,1]
[" 1",null,null,null,null,null,null,null,0,null,1]
[" 1",null,null,null,null,null,null,null,0,null,1]
[" 1",null,null,null,null,null,null,null,0,null,1]
[" 1",null,null,null,null,null,null,null,0,null,1]
[" 1",null,null,null,null,null,null,null,0,null,1]
[" 1",null,null,null,null,null,null,null,0,null,1]
[{"$f":"F23&\" \"&K23","v":" 1"},null,null,null,null,null,null,null,{"$f":"G23+H23","v":0},null,{"$f":"COUNTIFS(F:F,F23,I:I,\">\"&I23)+1","v":1}]
[" 1",null,null,null,null,null,null,null,0,null,1]
[" 1",null,null,null,null,null,null,null,0,null,1]
[" 1",null,null,null,null,null,null,null,0,null,1]
[" 1",null,null,null,null,null,null,null,0,null,1]
[" 1",null,null,null,null,null,null,null,0,null,1]
[" 1",null,null,null,null,null,null,null,0,null,1]
[" 1",null,null,null,null,null,null,null,0,null,1]
[" 1",null,null,null,null,null,null,null,0,null,1]
[" 1",null,null,null,null,null,null,null,0,null,1]
[" 1",null,null,null,null,null,null,null,0,null,1]
[" 1",null,null,null,null,null,null,null,0,null,1]
[" 1",null,null,null,null,null,null,null,0,null,1]
[" 1",null,null,null,null,null,null,null,0,null,1]
[" 1",null,null,null,null,null,null,null,0,null,1]
[" 1",null,null,null,null,null,null,null,0,null,1]
[" 1",null,null,null,null,null,null,null,0,null,1]
[" 1",null,null,null,null,null,null,null,0,null,1]
[" 1",null,null,null,null,null,null,null,0,null,1]
[{"$f":"F42&\" \"&K42","v":" 1"},null,null,null,null,null,null,null,{"$f":"G42+H42","v":0},null,{"$f":"COUNTIFS(F:F,F42,I:I,\">\"&I42)+1","v":1}]
[{"$f":"F43&\" \"&K43","v":" 1"},null,null,null,null,null,null,null,{"$f":"G43+H43","v":0},null,{"$f":"COUNTIFS(F:F,F43,I:I,\">\"&I43)+1","v":1}]
[" 1",null,null,null,null,null,null,null,0,null,1]
[" 1",null,null,null,null,null,null,null,0,null,1]
[" 1",null,null,null,null,null,null,null,0,null,1]
[" 1",null,null,null,null,null,null,null,0,null,1]
[" 1",null,null,null,null,null,null,null,0,null,1]
[" 1",null,null,null,null,null,null,null,0,null,1]
[" 1",null,null,null,null,null,null,null,0,null,1]
[" 1",null,null,null,null,null,null,null,0,null,1]
[" 1",null,null,null,null,null,null,null,0,null,1]
[" 1",null,null,null,null,null,null,null,0,null,1]
[" 1",null,null,null,null,null,null,null,0,null,1]
[" 1",null,null,null,null,null,null,null,0,null,1]
[" 1",null,null,null,null,null,null,null,0,null,1]
[" 1",null,null,null,null,null,null,null,0,null,1]
[" 1",null,null,null,null,null,null,null,0,null,1]
[" 1",null,null,null,null,null,null,null,0,null,1]
[" 1",null,null,null,null,null,null,null,0,null,1]
[" 1",null,null,null,null,null,null,null,0,null,1]
[" 1",null,null,null,null,null,null,null,0,null,1]
[" 1",null,null,null,null,null,null,null,0,null,1]
[" 1",null,null,null,null,null,null,null,0,null,1]
[" 1",null,null,null,null,null,null,null,0,null,1]
[" 1",null,null,null,null,null,null,null,0,null,1]
[" 1",null,null,null,null,null,null,null,0,null,1]
[" 1",null,null,null,null,null,null,null,0,null,1]
[" 1",null,null,null,null,null,null,null,0,null,1]
[" 1",null,null,null,null,null,null,null,0,null,1]
[{"$f":"F71&\" \"&K71","v":" 1"},null,null,null,null,null,null,null,{"$f":"G71+H71","v":0},null,{"$f":"COUNTIFS(F:F,F71,I:I,\">\"&I71)+1","v":1}]
[{"$f":"F72&\" \"&K72","v":" 1"},null,null,null,null,null,null,null,{"$f":"G72+H72","v":0},null,{"$f":"COUNTIFS(F:F,F72,I:I,\">\"&I72)+1","v":1}]
[" 1",null,null,null,null,null,null,null,0,null,1]
[" 1",null,null,null,null,null,null,null,0,null,1]
[" 1",null,null,null,null,null,null,null,0,null,1]
[" 1",null,null,null,null,null,null,null,0,null,1]
[" 1",null,null,null,null,null,null,null,0,null,1]
[" 1",null,null,null,null,null,null,null,0,null,1]
[" 1",null,null,null,null,null,null,null,0,null,1]
[" 1",null,null,null,null,null,null,null,0,null,1]
[" 1",null,null,null,null,null,null,null,0,null,1]
[" 1",null,null,null,null,null,null,null,0,null,1]
[" 1",null,null,null,null,null,null,null,0,null,1]
[" 1",null,null,null,null,null,null,null,0,null,1]
[{"$f":"F85&\" \"&K85","v":" 1"},null,null,null,null,null,null,null,{"$f":"G85+H85","v":0},null,{"$f":"COUNTIFS(F:F,F85,I:I,\">\"&I85)+1","v":1}]
[{"$f":"F86&\" \"&K86","v":" 1"},null,null,null,null,null,null,null,{"$f":"G86+H86","v":0},null,{"$f":"COUNTIFS(F:F,F86,I:I,\">\"&I86)+1","v":1}]
[{"$f":"F87&\" \"&K87","v":" 1"},null,null,null,null,null,null,null,{"$f":"G87+H87","v":0},null,{"$f":"COUNTIFS(F:F,F87,I:I,\">\"&I87)+1","v":1}]
[{"$f":"F88&\" \"&K88","v":" 1"},null,null,null,null,null,null,null,{"$f":"G88+H88","v":0},null,{"$f":"COUNTIFS(F:F,F88,I:I,\">\"&I88)+1","v":1}]
[{"$f":"F89&\" \"&K89","v":" 1"},null,null,null,null,null,null,null,{"$f":"G89+H89","v":0},null,{"$f":"COUNTIFS(F:F,F89,I:I,\">\"&I89)+1","v":1}]
[{"$f":"F90&\" \"&K90","v":" 1"},null,null,null,null,null,null,null,{"$f":"G90+H90","v":0},null,{"$f":"COUNTIFS(F:F,F90,I:I,\">\"&I90)+1","v":1}]
[{"$f":"F91&\" \"&K91","v":" 1"},null,null,null,null,null,null,null,{"$f":"G91+H91","v":0},null,{"$f":"COUNTIFS(F:F,F91,I:I,\">\"&I91)+1","v":1}]
[{"$f":"F92&\" \"&K92","v":" 1"},null,null,null,null,null,null,null,{"$f":"G92+H92","v":0},null,{"$f":"COUNTIFS(F:F,F92,I:I,\">\"&I92)+1","v":1}]
[{"$f":"F93&\" \"&K93","v":" 1"},null,null,null,null,null,null,null,{"$f":"G93+H93","v":0},null,{"$f":"COUNTIFS(F:F,F93,I:I,\">\"&I93)+1","v":1}]
[{"$f":"F94&\" \"&K94","v":" 1"},null,null,null,null,null,null,null,{"$f":"G94+H94","v":0},null,{"$f":"COUNTIFS(F:F,F94,I:I,\">\"&I94)+1","v":1}]
[{"$f":"F95&\" \"&K95","v":" 1"},null,null,null,null,null,null,null,{"$f":"G95+H95","v":0},null,{"$f":"COUNTIFS(F:F,F95,I:I,\">\"&I95)+1","v":1}]
[{"$f":"F96&\" \"&K96","v":" 1"},null,null,null,null,null,null,null,{"$f":"G96+H96","v":0},null,{"$f":"COUNTIFS(F:F,F96,I:I,\">\"&I96)+1","v":1}]
[{"$f":"F97&\" \"&K97","v":" 1"},null,null,null,null,null,null,null,{"$f":"G97+H97","v":0},null,{"$f":"COUNTIFS(F:F,F97,I:I,\">\"&I97)+1","v":1}]
[{"$f":"F98&\" \"&K98","v":" 1"},null,null,null,null,null,null,null,{"$f":"G98+H98","v":0},null,{"$f":"COUNTIFS(F:F,F98,I:I,\">\"&I98)+1","v":1}]
[{"$f":"F99&\" \"&K99","v":" 1"},null,null,null,null,null,null,null,{"$f":"G99+H99","v":0},null,{"$f":"COUNTIFS(F:F,F99,I:I,\">\"&I99)+1","v":1}]
[{"$f":"F100&\" \"&K100","v":" 1"},null,null,null,null,null,null,null,{"$f":"G100+H100","v":0},null,{"$f":"COUNTIFS(F:F,F100,I:I,\">\"&I100)+1","v":1}]
[{"$f":"F101&\" \"&K101","v":" 1"},null,null,null,null,null,null,null,{"$f":"G101+H101","v":0},null,{"$f":"COUNTIFS(F:F,F101,I:I,\">\"&I101)+1","v":1}]
[{"$f":"F102&\" \"&K102","v":" 1"},null,null,null,null,null,null,null,{"$f":"G102+H102","v":0},null,{"$f":"COUNTIFS(F:F,F102,I:I,\">\"&I102)+1","v":1}]
[{"$f":"F103&\" \"&K103","v":" 1"},null,null,null,null,null,null,null,{"$f":"G103+H103","v":0},null,{"$f":"COUNTIFS(F:F,F103,I:I,\">\"&I103)+1","v":1}]
[{"$f":"F104&\" \"&K104","v":" 1"},null,null,null,null,null,null,null,{"$f":"G104+H104","v":0},null,{"$f":"COUNTIFS(F:F,F104,I:I,\">\"&I104)+1","v":1}]
[{"$f":"F105&\" \"&K105","v":" 1"},null,null,null,null,null,null,null,{"$f":"G105+H105","v":0},null,{"$f":"COUNTIFS(F:F,F105,I:I,\">\"&I105)+1","v":1}]
[{"$f":"F106&\" \"&K106","v":" 1"},null,null,null,null,null,null,null,{"$f":"G106+H106","v":0},null,{"$f":"COUNTIFS(F:F,F106,I:I,\">\"&I106)+1","v":1}]
[{"$f":"F107&\" \"&K107","v":" 1"},null,null,null,null,null,null,null,{"$f":"G107+H107","v":0},null,{"$f":"COUNTIFS(F:F,F107,I:I,\">\"&I107)+1","v":1}]
[{"$f":"F108&\" \"&K108","v":" 1"},null,null,null,null,null,null,null,{"$f":"G108+H108","v":0},null,{"$f":"COUNTIFS(F:F,F108,I:I,\">\"&I108)+1","v":1}]
[{"$f":"F109&\" \"&K109","v":" 1"},null,null,null,null,null,null,null,{"$f":"G109+H109","v":0},null,{"$f":"COUNTIFS(F:F,F109,I:I,\">\"&I109)+1","v":1}]
[{"$f":"F110&\" \"&K110","v":" 1"},null,null,null,null,null,null,null,{"$f":"G110+H110","v":0},null,{"$f":"COUNTIFS(F:F,F110,I:I,\">\"&I110)+1","v":1}]
[{"$f":"F111&\" \"&K111","v":" 1"},null,null,null,null,null,null,null,{"$f":"G111+H111","v":0},null,{"$f":"COUNTIFS(F:F,F111,I:I,\">\"&I111)+1","v":1}]
[{"$f":"F112&\" \"&K112","v":" 1"},null,null,null,null,null,null,null,{"$f":"G112+H112","v":0},null,{"$f":"COUNTIFS(F:F,F112,I:I,\">\"&I112)+1","v":1}]
[{"$f":"F113&\" \"&K113","v":" 1"},null,null,null,null,null,null,null,{"$f":"G113+H113","v":0},null,{"$f":"COUNTIFS(F:F,F113,I:I,\">\"&I113)+1","v":1}]
[{"$f":"F114&\" \"&K114","v":" 1"},null,null,null,null,null,null,null,{"$f":"G114+H114","v":0},null,{"$f":"COUNTIFS(F:F,F114,I:I,\">\"&I114)+1","v":1}]
[{"$f":"F115&\" \"&K115","v":" 1"},null,null,null,null,null,null,null,{"$f":"G115+H115","v":0},null,{"$f":"COUNTIFS(F:F,F115,I:I,\">\"&I115)+1","v":1}]
[{"$f":"F116&\" \"&K116","v":" 1"},null,null,null,null,null,null,null,{"$f":"G116+H116","v":0},null,{"$f":"COUNTIFS(F:F,F116,I:I,\">\"&I116)+1","v":1}]
[{"$f":"F117&\" \"&K117","v":" 1"},null,null,null,null,null,null,null,{"$f":"G117+H117","v":0},null,{"$f":"COUNTIFS(F:F,F117,I:I,\">\"&I117)+1","v":1}]
[{"$f":"F118&\" \"&K118","v":" 1"},null,null,null,null,null,null,null,{"$f":"G118+H118","v":0},null,{"$f":"COUNTIFS(F:F,F118,I:I,\">\"&I118)+1","v":1}]
[{"$f":"F119&\" \"&K119","v":" 1"},null,null,null,null,null,null,null,{"$f":"G119+H119","v":0},null,{"$f":"COUNTIFS(F:F,F119,I:I,\">\"&I119)+1","v":1}]
[{"$f":"F120&\" \"&K120","v":" 1"},null,null,null,null,null,null,null,{"$f":"G120+H120","v":0},null,{"$f":"COUNTIFS(F:F,F120,I:I,\">\"&I120)+1","v":1}]
[{"$f":"F121&\" \"&K121","v":" 1"},null,null,null,null,null,null,null,{"$f":"G121+H121","v":0},null,{"$f":"COUNTIFS(F:F,F121,I:I,\">\"&I121)+1","v":1}]
[{"$f":"F122&\" \"&K122","v":" 1"},null,null,null,null,null,null,null,{"$f":"G122+H122","v":0},null,{"$f":"COUNTIFS(F:F,F122,I:I,\">\"&I122)+1","v":1}]
[{"$f":"F123&\" \"&K123","v":" 1"},null,null,null,null,null,null,null,{"$f":"G123+H123","v":0},null,{"$f":"COUNTIFS(F:F,F123,I:I,\">\"&I123)+1","v":1}]
[{"$f":"F124&\" \"&K124","v":" 1"},null,null,null,null,null,null,null,{"$f":"G124+H124","v":0},null,{"$f":"COUNTIFS(F:F,F124,I:I,\">\"&I124)+1","v":1}]
[{"$f":"F125&\" \"&K125","v":" 1"},null,null,null,null,null,null,null,{"$f":"G125+H125","v":0},null,{"$f":"COUNTIFS(F:F,F125,I:I,\">\"&I125)+1","v":1}]
[{"$f":"F126&\" \"&K126","v":" 1"},null,null,null,null,null,null,null,{"$f":"G126+H126","v":0},null,{"$f":"COUNTIFS(F:F,F126,I:I,\">\"&I126)+1","v":1}]
[{"$f":"F127&\" \"&K127","v":" 1"},null,null,null,null,null,null,null,{"$f":"G127+H127","v":0},null,{"$f":"COUNTIFS(F:F,F127,I:I,\">\"&I127)+1","v":1}]
[{"$f":"F128&\" \"&K128","v":" 1"},null,null,null,null,null,null,null,{"$f":"G128+H128","v":0},null,{"$f":"COUNTIFS(F:F,F128,I:I,\">\"&I128)+1","v":1}]
[{"$f":"F129&\" \"&K129","v":" 1"},null,null,null,null,null,null,null,{"$f":"G129+H129","v":0},null,{"$f":"COUNTIFS(F:F,F129,I:I,\">\"&I129)+1","v":1}]
[{"$f":"F130&\" \"&K130","v":" 1"},null,null,null,null,null,null,null,{"$f":"G130+H130","v":0},null,{"$f":"COUNTIFS(F:F,F130,I:I,\">\"&I130)+1","v":1}]
[{"$f":"F131&\" \"&K131","v":" 1"},null,null,null,null,null,null,null,{"$f":"G131+H131","v":0},null,{"$f":"COUNTIFS(F:F,F131,I:I,\">\"&I131)+1","v":1}]
[{"$f":"F132&\" \"&K132","v":" 1"},null,null,null,null,null,null,null,{"$f":"G132+H132","v":0},null,{"$f":"COUNTIFS(F:F,F132,I:I,\">\"&I132)+1","v":1}]
[{"$f":"F133&\" \"&K133","v":" 1"},null,null,null,null,null,null,null,{"$f":"G133+H133","v":0},null,{"$f":"COUNTIFS(F:F,F133,I:I,\">\"&I133)+1","v":1}]
[{"$f":"F134&\" \"&K134","v":" 1"},null,null,null,null,null,null,null,{"$f":"G134+H134","v":0},null,{"$f":"COUNTIFS(F:F,F134,I:I,\">\"&I134)+1","v":1}]
[{"$f":"F135&\" \"&K135","v":" 1"},null,null,null,null,null,null,null,{"$f":"G135+H135","v":0},null,{"$f":"COUNTIFS(F:F,F135,I:I,\">\"&I135)+1","v":1}]
[{"$f":"F136&\" \"&K136","v":" 1"},null,null,null,null,null,null,null,{"$f":"G136+H136","v":0},null,{"$f":"COUNTIFS(F:F,F136,I:I,\">\"&I136)+1","v":1}]
[{"$f":"F137&\" \"&K137","v":" 1"},null,null,null,null,null,null,null,{"$f":"G137+H137","v":0},null,{"$f":"COUNTIFS(F:F,F137,I:I,\">\"&I137)+1","v":1}]
[{"$f":"F138&\" \"&K138","v":" 1"},null,null,null,null,null,null,null,{"$f":"G138+H138","v":0},null,{"$f":"COUNTIFS(F:F,F138,I:I,\">\"&I138)+1","v":1}]
[{"$f":"F139&\" \"&K139","v":" 1"},null,null,null,null,null,null,null,{"$f":"G139+H139","v":0},null,{"$f":"COUNTIFS(F:F,F139,I:I,\">\"&I139)+1","v":1}]
[{"$f":"F140&\" \"&K140","v":" 1"},null,null,null,null,null,null,null,{"$f":"G140+H140","v":0},null,{"$f":"COUNTIFS(F:F,F140,I:I,\">\"&I140)+1","v":1}]
[{"$f":"F141&\" \"&K141","v":" 1"},null,null,null,null,null,null,null,{"$f":"G141+H141","v":0},null,{"$f":"COUNTIFS(F:F,F141,I:I,\">\"&I141)+1","v":1}]
[{"$f":"F142&\" \"&K142","v":" 1"},null,null,null,null,null,null,null,{"$f":"G142+H142","v":0},null,{"$f":"COUNTIFS(F:F,F142,I:I,\">\"&I142)+1","v":1}]
[{"$f":"F143&\" \"&K143","v":" 1"},null,null,null,null,null,null,null,{"$f":"G143+H143","v":0},null,{"$f":"COUNTIFS(F:F,F143,I:I,\">\"&I143)+1","v":1}]
[{"$f":"F144&\" \"&K144","v":" 1"},null,null,null,null,null,null,null,{"$f":"G144+H144","v":0},null,{"$f":"COUNTIFS(F:F,F144,I:I,\">\"&I144)+1","v":1}]
[{"$f":"F145&\" \"&K145","v":" 1"},null,null,null,null,null,null,null,{"$f":"G145+H145","v":0},null,{"$f":"COUNTIFS(F:F,F145,I:I,\">\"&I145)+1","v":1}]
[{"$f":"F146&\" \"&K146","v":" 1"},null,null,null,null,null,null,null,{"$f":"G146+H146","v":0},null,{"$f":"COUNTIFS(F:F,F146,I:I,\">\"&I146)+1","v":1}]
[{"$f":"F147&\" \"&K147","v":" 1"},null,null,null,null,null,null,null,{"$f":"G147+H147","v":0},null,{"$f":"COUNTIFS(F:F,F147,I:I,\">\"&I147)+1","v":1}]
[{"$f":"F148&\" \"&K148","v":" 1"},null,null,null,null,null,null,null,{"$f":"G148+H148","v":0},null,{"$f":"COUNTIFS(F:F,F148,I:I,\">\"&I148)+1","v":1}]
[{"$f":"F149&\" \"&K149","v":" 1"},null,null,null,null,null,null,null,{"$f":"G149+H149","v":0},null,{"$f":"COUNTIFS(F:F,F149,I:I,\">\"&I149)+1","v":1}]
[{"$f":"F150&\" \"&K150","v":" 1"},null,null,null,null,null,null,null,{"$f":"G150+H150","v":0},null,{"$f":"COUNTIFS(F:F,F150,I:I,\">\"&I150)+1","v":1}]
[{"$f":"F151&\" \"&K151","v":" "}]
[{"$f":"F152&\" \"&K152","v":" "}]
[{"$f":"F153&\" \"&K153","v":" "}]
[{"$f":"F154&\" \"&K154","v":" "}]
[{"$f":"F155&\" \"&K155","v":" "}]
[{"$f":"F156&\" \"&K156","v":" "}]
[{"$f":"F157&\" \"&K157","v":" "}]
[{"$f":"F158&\" \"&K158","v":" "}]
[{"$f":"F159&\" \"&K159","v":" "}]
[{"$f":"F160&\" \"&K160","v":" "}]
[{"$f":"F161&\" \"&K161","v":" "}]
[{"$f":"F162&\" \"&K162","v":" "}]
[{"$f":"F163&\" \"&K163","v":" "}]
[{"$f":"F164&\" \"&K164","v":" "}]
[{"$f":"F165&\" \"&K165","v":" "}]
[{"$f":"F166&\" \"&K166","v":" "}]
[{"$f":"F167&\" \"&K167","v":" "}]
[{"$f":"F168&\" \"&K168","v":" "}]
[{"$f":"F169&\" \"&K169","v":" "}]
[{"$f":"F170&\" \"&K170","v":" "}]
[{"$f":"F171&\" \"&K171","v":" "}]
[{"$f":"F172&\" \"&K172","v":" "}]
[{"$f":"F173&\" \"&K173","v":" "}]
[{"$f":"F174&\" \"&K174","v":" "}]
[{"$f":"F175&\" \"&K175","v":" "}]
[{"$f":"F176&\" \"&K176","v":" "}]
[{"$f":"F177&\" \"&K177","v":" "}]
[{"$f":"F178&\" \"&K178","v":" "}]
[{"$f":"F179&\" \"&K179","v":" "}]
[{"$f":"F180&\" \"&K180","v":" "}]
[{"$f":"F181&\" \"&K181","v":" "}]
[{"$f":"F182&\" \"&K182","v":" "}]
[{"$f":"F183&\" \"&K183","v":" "}]
[{"$f":"F184&\" \"&K184","v":" "}]
[{"$f":"F185&\" \"&K185","v":" "}]
[{"$f":"F186&\" \"&K186","v":" "}]
[{"$f":"F187&\" \"&K187","v":" "}]
[{"$f":"F188&\" \"&K188","v":" "}]
[{"$f":"F189&\" \"&K189","v":" "}]
[{"$f":"F190&\" \"&K190","v":" "}]
[{"$f":"F191&\" \"&K191","v":" "}]
[{"$f":"F192&\" \"&K192","v":" "}]
[{"$f":"F193&\" \"&K193","v":" "}]
[{"$f":"F194&\" \"&K194","v":" "}]
[{"$f":"F195&\" \"&K195","v":" "}]
[{"$f":"F196&\" \"&K196","v":" "}]
[{"$f":"F197&\" \"&K197","v":" "}]
[{"$f":"F198&\" \"&K198","v":" "}]
[{"$f":"F199&\" \"&K199","v":" "}]
[{"$f":"F200&\" \"&K200","v":" "}]
[{"$f":"F201&\" \"&K201","v":" "}]
[{"$f":"F202&\" \"&K202","v":" "}]
[{"$f":"F203&\" \"&K203","v":" "}]
[{"$f":"F204&\" \"&K204","v":" "}]
[{"$f":"F205&\" \"&K205","v":" "}]
[{"$f":"F206&\" \"&K206","v":" "}]
[{"$f":"F207&\" \"&K207","v":" "}]
[{"$f":"F208&\" \"&K208","v":" "}]
[{"$f":"F209&\" \"&K209","v":" "}]
[{"$f":"F210&\" \"&K210","v":" "}]
[{"$f":"F211&\" \"&K211","v":" "}]
[{"$f":"F212&\" \"&K212","v":" "}]
[{"$f":"F213&\" \"&K213","v":" "}]
[{"$f":"F214&\" \"&K214","v":" "}]
[{"$f":"F215&\" \"&K215","v":" "}]
[{"$f":"F216&\" \"&K216","v":" "}]
[{"$f":"F217&\" \"&K217","v":" "}]
[{"$f":"F218&\" \"&K218","v":" "}]
[{"$f":"F219&\" \"&K219","v":" "}]
[{"$f":"F220&\" \"&K220","v":" "}]
[{"$f":"F221&\" \"&K221","v":" "}]
[{"$f":"F222&\" \"&K222","v":" "}]
[{"$f":"F223&\" \"&K223","v":" "}]
[{"$f":"F224&\" \"&K224","v":" "}]
[{"$f":"F225&\" \"&K225","v":" "}]
[{"$f":"F226&\" \"&K226","v":" "}]
[{"$f":"F227&\" \"&K227","v":" "}]
[{"$f":"F228&\" \"&K228","v":" "}]
[{"$f":"F229&\" \"&K229","v":" "}]
[{"$f":"F230&\" \"&K230","v":" "}]
[{"$f":"F231&\" \"&K231","v":" "}]
[{"$f":"F232&\" \"&K232","v":" "}]
[{"$f":"F233&\" \"&K233","v":" "}]

{"sheet":"Classement","index":3,"n_rows":23,"n_cols":19,"rows_kept":23,"cut":false,"hidden":false,"merged":[[0,0,0,3],[0,5,0,8],[0,10,0,13],[0,15,0,18],[6,5,6,8],[18,0,18,3],[18,5,18,8],[18,10,18,13],[18,15,18,18],[6,0,6,3],[6,10,6,13],[6,15,6,18],[12,0,12,3],[12,5,12,8],[12,10,12,13],[12,15,12,18]]}
["Jeune Femme Classique Niveau 3",null,null,null,null,"Jeune Femme Classique Niveau 2",null,null,null,null,"Jeune Femme Classique Niveau 1",null,null,null,null,"Jeune Femme Classique Niveau AS"]
["Club","Nom/Prénom","Place","Points",null,"Club","Nom/Prénom","Place","Points",null,"Club","Nom/Prénom","Place","Points",null,"Club","Nom/Prénom","Place","Points"]
[{"$f":"IF(ISNA(VLOOKUP(C3,Liste!A:K,4,FALSE)),\"\",VLOOKUP(C3,Liste!A:K,4,FALSE))","v":""},{"$f":"IF(ISNA(VLOOKUP(C3,Liste!A:K,3,FALSE)),\"\",VLOOKUP(C3,Liste!A:K,3,FALSE))","v":""},"JFCL3 1",{"$f":"IF(ISNA(VLOOKUP(C3,Liste!A:K,9,FALSE)),\"\",VLOOKUP(C3,Liste!A:K,9,FALSE))","v":""},null,{"$f":"IF(ISNA(VLOOKUP(H3,Liste!A:K,4,FALSE)),\"\",VLOOKUP(H3,Liste!A:K,4,FALSE))","v":""},{"$f":"IF(ISNA(VLOOKUP(H3,Liste!A:K,3,FALSE)),\"\",VLOOKUP(H3,Liste!A:K,3,FALSE))","v":""},"JFCL2 1",{"$f":"IF(ISNA(VLOOKUP(H3,Liste!A:K,9,FALSE)),\"\",VLOOKUP(H3,Liste!A:K,9,FALSE))","v":""},null,{"$f":"IF(ISNA(VLOOKUP(M3,Liste!A:K,4,FALSE)),\"\",VLOOKUP(M3,Liste!A:K,4,FALSE))","v":""},{"$f":"IF(ISNA(VLOOKUP(M3,Liste!A:K,3,FALSE)),\"\",VLOOKUP(M3,Liste!A:K,3,FALSE))","v":""},"JFCL1 1",{"$f":"IF(ISNA(VLOOKUP(M3,Liste!A:K,9,FALSE)),\"\",VLOOKUP(M3,Liste!A:K,9,FALSE))","v":""},null,{"$f":"IF(ISNA(VLOOKUP(R3,Liste!A:K,4,FALSE)),\"\",VLOOKUP(R3,Liste!A:K,4,FALSE))","v":""},{"$f":"IF(ISNA(VLOOKUP(R3,Liste!A:K,3,FALSE)),\"\",VLOOKUP(R3,Liste!A:K,3,FALSE))","v":""},"JFCLAS 1",{"$f":"IF(ISNA(VLOOKUP(R3,Liste!A:K,9,FALSE)),\"\",VLOOKUP(R3,Liste!A:K,9,FALSE))","v":""}]
[{"$f":"IF(ISNA(VLOOKUP(C4,Liste!A:K,4,FALSE)),\"\",VLOOKUP(C4,Liste!A:K,4,FALSE))","v":""},{"$f":"IF(ISNA(VLOOKUP(C4,Liste!A:K,3,FALSE)),\"\",VLOOKUP(C4,Liste!A:K,3,FALSE))","v":""},"JFCL3 2",{"$f":"IF(ISNA(VLOOKUP(C4,Liste!A:K,9,FALSE)),\"\",VLOOKUP(C4,Liste!A:K,9,FALSE))","v":""},null,{"$f":"IF(ISNA(VLOOKUP(H4,Liste!A:K,4,FALSE)),\"\",VLOOKUP(H4,Liste!A:K,4,FALSE))","v":""},{"$f":"IF(ISNA(VLOOKUP(H4,Liste!A:K,3,FALSE)),\"\",VLOOKUP(H4,Liste!A:K,3,FALSE))","v":""},"JFCL2 2",{"$f":"IF(ISNA(VLOOKUP(H4,Liste!A:K,9,FALSE)),\"\",VLOOKUP(H4,Liste!A:K,9,FALSE))","v":""},null,{"$f":"IF(ISNA(VLOOKUP(M4,Liste!A:K,4,FALSE)),\"\",VLOOKUP(M4,Liste!A:K,4,FALSE))","v":""},{"$f":"IF(ISNA(VLOOKUP(M4,Liste!A:K,3,FALSE)),\"\",VLOOKUP(M4,Liste!A:K,3,FALSE))","v":""},"JFCL1 2",{"$f":"IF(ISNA(VLOOKUP(M4,Liste!A:K,9,FALSE)),\"\",VLOOKUP(M4,Liste!A:K,9,FALSE))","v":""},null,{"$f":"IF(ISNA(VLOOKUP(R4,Liste!A:K,4,FALSE)),\"\",VLOOKUP(R4,Liste!A:K,4,FALSE))","v":""},{"$f":"IF(ISNA(VLOOKUP(R4,Liste!A:K,3,FALSE)),\"\",VLOOKUP(R4,Liste!A:K,3,FALSE))","v":""},"JFCLAS 2",{"$f":"IF(ISNA(VLOOKUP(R4,Liste!A:K,9,FALSE)),\"\",VLOOKUP(R4,Liste!A:K,9,FALSE))","v":""}]
[{"$f":"IF(ISNA(VLOOKUP(C5,Liste!A:K,4,FALSE)),\"\",VLOOKUP(C5,Liste!A:K,4,FALSE))","v":""},{"$f":"IF(ISNA(VLOOKUP(C5,Liste!A:K,3,FALSE)),\"\",VLOOKUP(C5,Liste!A:K,3,FALSE))","v":""},"JFCL3 3",{"$f":"IF(ISNA(VLOOKUP(C5,Liste!A:K,9,FALSE)),\"\",VLOOKUP(C5,Liste!A:K,9,FALSE))","v":""},null,{"$f":"IF(ISNA(VLOOKUP(H5,Liste!A:K,4,FALSE)),\"\",VLOOKUP(H5,Liste!A:K,4,FALSE))","v":""},{"$f":"IF(ISNA(VLOOKUP(H5,Liste!A:K,3,FALSE)),\"\",VLOOKUP(H5,Liste!A:K,3,FALSE))","v":""},"JFCL2 3",{"$f":"IF(ISNA(VLOOKUP(H5,Liste!A:K,9,FALSE)),\"\",VLOOKUP(H5,Liste!A:K,9,FALSE))","v":""},null,{"$f":"IF(ISNA(VLOOKUP(M5,Liste!A:K,4,FALSE)),\"\",VLOOKUP(M5,Liste!A:K,4,FALSE))","v":""},{"$f":"IF(ISNA(VLOOKUP(M5,Liste!A:K,3,FALSE)),\"\",VLOOKUP(M5,Liste!A:K,3,FALSE))","v":""},"JFCL1 3",{"$f":"IF(ISNA(VLOOKUP(M5,Liste!A:K,9,FALSE)),\"\",VLOOKUP(M5,Liste!A:K,9,FALSE))","v":""},null,{"$f":"IF(ISNA(VLOOKUP(R5,Liste!A:K,4,FALSE)),\"\",VLOOKUP(R5,Liste!A:K,4,FALSE))","v":""},{"$f":"IF(ISNA(VLOOKUP(R5,Liste!A:K,3,FALSE)),\"\",VLOOKUP(R5,Liste!A:K,3,FALSE))","v":""},"JFCLAS 3",{"$f":"IF(ISNA(VLOOKUP(R5,Liste!A:K,9,FALSE)),\"\",VLOOKUP(R5,Liste!A:K,9,FALSE))","v":""}]
[]
["Jeune Homme Classique Niveau 3",null,null,null,null,"Jeune Homme Classique Niveau 2",null,null,null,null,"Jeune Homme Classique Niveau 1",null,null,null,null,"Jeune Homme Classique Niveau AS"]
["Club","Nom/Prénom","Place","Points",null,"Club","Nom/Prénom","Place","Points",null,"Club","Nom/Prénom","Place","Points",null,"Club","Nom/Prénom","Place","Points"]
[{"$f":"IF(ISNA(VLOOKUP(C9,Liste!A:K,4,FALSE)),\"\",VLOOKUP(C9,Liste!A:K,4,FALSE))","v":""},{"$f":"IF(ISNA(VLOOKUP(C9,Liste!A:K,3,FALSE)),\"\",VLOOKUP(C9,Liste!A:K,3,FALSE))","v":""},"JHCL3 1",{"$f":"IF(ISNA(VLOOKUP(C9,Liste!A:K,9,FALSE)),\"\",VLOOKUP(C9,Liste!A:K,9,FALSE))","v":""},null,{"$f":"IF(ISNA(VLOOKUP(H9,Liste!A:K,4,FALSE)),\"\",VLOOKUP(H9,Liste!A:K,4,FALSE))","v":""},{"$f":"IF(ISNA(VLOOKUP(H9,Liste!A:K,3,FALSE)),\"\",VLOOKUP(H9,Liste!A:K,3,FALSE))","v":""},"JHCL2 1",{"$f":"IF(ISNA(VLOOKUP(H9,Liste!A:K,9,FALSE)),\"\",VLOOKUP(H9,Liste!A:K,9,FALSE))","v":""},null,{"$f":"IF(ISNA(VLOOKUP(M9,Liste!A:K,4,FALSE)),\"\",VLOOKUP(M9,Liste!A:K,4,FALSE))","v":""},{"$f":"IF(ISNA(VLOOKUP(M9,Liste!A:K,3,FALSE)),\"\",VLOOKUP(M9,Liste!A:K,3,FALSE))","v":""},"JHCL1 1",{"$f":"IF(ISNA(VLOOKUP(M9,Liste!A:K,9,FALSE)),\"\",VLOOKUP(M9,Liste!A:K,9,FALSE))","v":""},null,{"$f":"IF(ISNA(VLOOKUP(R9,Liste!A:K,4,FALSE)),\"\",VLOOKUP(R9,Liste!A:K,4,FALSE))","v":""},{"$f":"IF(ISNA(VLOOKUP(R9,Liste!A:K,3,FALSE)),\"\",VLOOKUP(R9,Liste!A:K,3,FALSE))","v":""},"JHCLAS 1",{"$f":"IF(ISNA(VLOOKUP(R9,Liste!A:K,9,FALSE)),\"\",VLOOKUP(R9,Liste!A:K,9,FALSE))","v":""}]
[{"$f":"IF(ISNA(VLOOKUP(C10,Liste!A:K,4,FALSE)),\"\",VLOOKUP(C10,Liste!A:K,4,FALSE))","v":""},{"$f":"IF(ISNA(VLOOKUP(C10,Liste!A:K,3,FALSE)),\"\",VLOOKUP(C10,Liste!A:K,3,FALSE))","v":""},"JHCL3 2",{"$f":"IF(ISNA(VLOOKUP(C10,Liste!A:K,9,FALSE)),\"\",VLOOKUP(C10,Liste!A:K,9,FALSE))","v":""},null,{"$f":"IF(ISNA(VLOOKUP(H10,Liste!A:K,4,FALSE)),\"\",VLOOKUP(H10,Liste!A:K,4,FALSE))","v":""},{"$f":"IF(ISNA(VLOOKUP(H10,Liste!A:K,3,FALSE)),\"\",VLOOKUP(H10,Liste!A:K,3,FALSE))","v":""},"JHCL2 2",{"$f":"IF(ISNA(VLOOKUP(H10,Liste!A:K,9,FALSE)),\"\",VLOOKUP(H10,Liste!A:K,9,FALSE))","v":""},null,{"$f":"IF(ISNA(VLOOKUP(M10,Liste!A:K,4,FALSE)),\"\",VLOOKUP(M10,Liste!A:K,4,FALSE))","v":""},{"$f":"IF(ISNA(VLOOKUP(M10,Liste!A:K,3,FALSE)),\"\",VLOOKUP(M10,Liste!A:K,3,FALSE))","v":""},"JHCL1 2",{"$f":"IF(ISNA(VLOOKUP(M10,Liste!A:K,9,FALSE)),\"\",VLOOKUP(M10,Liste!A:K,9,FALSE))","v":""},null,{"$f":"IF(ISNA(VLOOKUP(R10,Liste!A:K,4,FALSE)),\"\",VLOOKUP(R10,Liste!A:K,4,FALSE))","v":""},{"$f":"IF(ISNA(VLOOKUP(R10,Liste!A:K,3,FALSE)),\"\",VLOOKUP(R10,Liste!A:K,3,FALSE))","v":""},"JHCLAS 2",{"$f":"IF(ISNA(VLOOKUP(R10,Liste!A:K,9,FALSE)),\"\",VLOOKUP(R10,Liste!A:K,9,FALSE))","v":""}]
[{"$f":"IF(ISNA(VLOOKUP(C11,Liste!A:K,4,FALSE)),\"\",VLOOKUP(C11,Liste!A:K,4,FALSE))","v":""},{"$f":"IF(ISNA(VLOOKUP(C11,Liste!A:K,3,FALSE)),\"\",VLOOKUP(C11,Liste!A:K,3,FALSE))","v":""},"JHCL3 3",{"$f":"IF(ISNA(VLOOKUP(C11,Liste!A:K,9,FALSE)),\"\",VLOOKUP(C11,Liste!A:K,9,FALSE))","v":""},null,{"$f":"IF(ISNA(VLOOKUP(H11,Liste!A:K,4,FALSE)),\"\",VLOOKUP(H11,Liste!A:K,4,FALSE))","v":""},{"$f":"IF(ISNA(VLOOKUP(H11,Liste!A:K,3,FALSE)),\"\",VLOOKUP(H11,Liste!A:K,3,FALSE))","v":""},"JHCL2 3",{"$f":"IF(ISNA(VLOOKUP(H11,Liste!A:K,9,FALSE)),\"\",VLOOKUP(H11,Liste!A:K,9,FALSE))","v":""},null,{"$f":"IF(ISNA(VLOOKUP(M11,Liste!A:K,4,FALSE)),\"\",VLOOKUP(M11,Liste!A:K,4,FALSE))","v":""},{"$f":"IF(ISNA(VLOOKUP(M11,Liste!A:K,3,FALSE)),\"\",VLOOKUP(M11,Liste!A:K,3,FALSE))","v":""},"JHCL1 3",{"$f":"IF(ISNA(VLOOKUP(M11,Liste!A:K,9,FALSE)),\"\",VLOOKUP(M11,Liste!A:K,9,FALSE))","v":""},null,{"$f":"IF(ISNA(VLOOKUP(R11,Liste!A:K,4,FALSE)),\"\",VLOOKUP(R11,Liste!A:K,4,FALSE))","v":""},{"$f":"IF(ISNA(VLOOKUP(R11,Liste!A:K,3,FALSE)),\"\",VLOOKUP(R11,Liste!A:K,3,FALSE))","v":""},"JHCLAS 3",{"$f":"IF(ISNA(VLOOKUP(R11,Liste!A:K,9,FALSE)),\"\",VLOOKUP(R11,Liste!A:K,9,FALSE))","v":""}]
[]
["Adulte Femme Classique Niveau 3",null,null,null,null,"Adulte Femme Classique Niveau 2",null,null,null,null,"Adulte Femme Classique Niveau 1",null,null,null,null,"Adulte Femme Classique Niveau AS"]
["Club","Nom/Prénom","Place","Points",null,"Club","Nom/Prénom","Place","Points",null,"Club","Nom/Prénom","Place","Points",null,"Club","Nom/Prénom","Place","Points"]
[{"$f":"IF(ISNA(VLOOKUP(C15,Liste!A:K,4,FALSE)),\"\",VLOOKUP(C15,Liste!A:K,4,FALSE))","v":""},{"$f":"IF(ISNA(VLOOKUP(C15,Liste!A:K,3,FALSE)),\"\",VLOOKUP(C15,Liste!A:K,3,FALSE))","v":""},"AFCL3 1",{"$f":"IF(ISNA(VLOOKUP(C15,Liste!A:K,9,FALSE)),\"\",VLOOKUP(C15,Liste!A:K,9,FALSE))","v":""},null,{"$f":"IF(ISNA(VLOOKUP(H15,Liste!A:K,4,FALSE)),\"\",VLOOKUP(H15,Liste!A:K,4,FALSE))","v":""},{"$f":"IF(ISNA(VLOOKUP(H15,Liste!A:K,3,FALSE)),\"\",VLOOKUP(H15,Liste!A:K,3,FALSE))","v":""},"AFCL2 1",{"$f":"IF(ISNA(VLOOKUP(H15,Liste!A:K,9,FALSE)),\"\",VLOOKUP(H15,Liste!A:K,9,FALSE))","v":""},null,{"$f":"IF(ISNA(VLOOKUP(M15,Liste!A:K,4,FALSE)),\"\",VLOOKUP(M15,Liste!A:K,4,FALSE))","v":""},{"$f":"IF(ISNA(VLOOKUP(M15,Liste!A:K,3,FALSE)),\"\",VLOOKUP(M15,Liste!A:K,3,FALSE))","v":""},"AFCL1 1",{"$f":"IF(ISNA(VLOOKUP(M15,Liste!A:K,9,FALSE)),\"\",VLOOKUP(M15,Liste!A:K,9,FALSE))","v":""},null,{"$f":"IF(ISNA(VLOOKUP(R15,Liste!A:K,4,FALSE)),\"\",VLOOKUP(R15,Liste!A:K,4,FALSE))","v":""},{"$f":"IF(ISNA(VLOOKUP(R15,Liste!A:K,3,FALSE)),\"\",VLOOKUP(R15,Liste!A:K,3,FALSE))","v":""},"AFCLAS 1",{"$f":"IF(ISNA(VLOOKUP(R15,Liste!A:K,9,FALSE)),\"\",VLOOKUP(R15,Liste!A:K,9,FALSE))","v":""}]
[{"$f":"IF(ISNA(VLOOKUP(C16,Liste!A:K,4,FALSE)),\"\",VLOOKUP(C16,Liste!A:K,4,FALSE))","v":""},{"$f":"IF(ISNA(VLOOKUP(C16,Liste!A:K,3,FALSE)),\"\",VLOOKUP(C16,Liste!A:K,3,FALSE))","v":""},"AFCL3 2",{"$f":"IF(ISNA(VLOOKUP(C16,Liste!A:K,9,FALSE)),\"\",VLOOKUP(C16,Liste!A:K,9,FALSE))","v":""},null,{"$f":"IF(ISNA(VLOOKUP(H16,Liste!A:K,4,FALSE)),\"\",VLOOKUP(H16,Liste!A:K,4,FALSE))","v":""},{"$f":"IF(ISNA(VLOOKUP(H16,Liste!A:K,3,FALSE)),\"\",VLOOKUP(H16,Liste!A:K,3,FALSE))","v":""},"AFCL2 2",{"$f":"IF(ISNA(VLOOKUP(H16,Liste!A:K,9,FALSE)),\"\",VLOOKUP(H16,Liste!A:K,9,FALSE))","v":""},null,{"$f":"IF(ISNA(VLOOKUP(M16,Liste!A:K,4,FALSE)),\"\",VLOOKUP(M16,Liste!A:K,4,FALSE))","v":""},{"$f":"IF(ISNA(VLOOKUP(M16,Liste!A:K,3,FALSE)),\"\",VLOOKUP(M16,Liste!A:K,3,FALSE))","v":""},"AFCL1 2",{"$f":"IF(ISNA(VLOOKUP(M16,Liste!A:K,9,FALSE)),\"\",VLOOKUP(M16,Liste!A:K,9,FALSE))","v":""},null,{"$f":"IF(ISNA(VLOOKUP(R16,Liste!A:K,4,FALSE)),\"\",VLOOKUP(R16,Liste!A:K,4,FALSE))","v":""},{"$f":"IF(ISNA(VLOOKUP(R16,Liste!A:K,3,FALSE)),\"\",VLOOKUP(R16,Liste!A:K,3,FALSE))","v":""},"AFCLAS 2",{"$f":"IF(ISNA(VLOOKUP(R16,Liste!A:K,9,FALSE)),\"\",VLOOKUP(R16,Liste!A:K,9,FALSE))","v":""}]
[{"$f":"IF(ISNA(VLOOKUP(C17,Liste!A:K,4,FALSE)),\"\",VLOOKUP(C17,Liste!A:K,4,FALSE))","v":""},{"$f":"IF(ISNA(VLOOKUP(C17,Liste!A:K,3,FALSE)),\"\",VLOOKUP(C17,Liste!A:K,3,FALSE))","v":""},"AFCL3 3",{"$f":"IF(ISNA(VLOOKUP(C17,Liste!A:K,9,FALSE)),\"\",VLOOKUP(C17,Liste!A:K,9,FALSE))","v":""},null,{"$f":"IF(ISNA(VLOOKUP(H17,Liste!A:K,4,FALSE)),\"\",VLOOKUP(H17,Liste!A:K,4,FALSE))","v":""},{"$f":"IF(ISNA(VLOOKUP(H17,Liste!A:K,3,FALSE)),\"\",VLOOKUP(H17,Liste!A:K,3,FALSE))","v":""},"AFCL2 3",{"$f":"IF(ISNA(VLOOKUP(H17,Liste!A:K,9,FALSE)),\"\",VLOOKUP(H17,Liste!A:K,9,FALSE))","v":""},null,{"$f":"IF(ISNA(VLOOKUP(M17,Liste!A:K,4,FALSE)),\"\",VLOOKUP(M17,Liste!A:K,4,FALSE))","v":""},{"$f":"IF(ISNA(VLOOKUP(M17,Liste!A:K,3,FALSE)),\"\",VLOOKUP(M17,Liste!A:K,3,FALSE))","v":""},"AFCL1 3",{"$f":"IF(ISNA(VLOOKUP(M17,Liste!A:K,9,FALSE)),\"\",VLOOKUP(M17,Liste!A:K,9,FALSE))","v":""},null,{"$f":"IF(ISNA(VLOOKUP(R17,Liste!A:K,4,FALSE)),\"\",VLOOKUP(R17,Liste!A:K,4,FALSE))","v":""},{"$f":"IF(ISNA(VLOOKUP(R17,Liste!A:K,3,FALSE)),\"\",VLOOKUP(R17,Liste!A:K,3,FALSE))","v":""},"AFCLAS 3",{"$f":"IF(ISNA(VLOOKUP(R17,Liste!A:K,9,FALSE)),\"\",VLOOKUP(R17,Liste!A:K,9,FALSE))","v":""}]
[]
["Adulte Homme Classique Niveau 3",null,null,null,null,"Adulte Homme Classique Niveau 2",null,null,null,null,"Adulte Homme Classique Niveau 1",null,null,null,null,"Adulte Homme Classique Niveau AS"]
["Club","Nom/Prénom","Place","Points",null,"Club","Nom/Prénom","Place","Points",null,"Club","Nom/Prénom","Place","Points",null,"Club","Nom/Prénom","Place","Points"]
[{"$f":"IF(ISNA(VLOOKUP(C21,Liste!A:K,4,FALSE)),\"\",VLOOKUP(C21,Liste!A:K,4,FALSE))","v":""},{"$f":"IF(ISNA(VLOOKUP(C21,Liste!A:K,3,FALSE)),\"\",VLOOKUP(C21,Liste!A:K,3,FALSE))","v":""},"AHCL3 1",{"$f":"IF(ISNA(VLOOKUP(C21,Liste!A:K,9,FALSE)),\"\",VLOOKUP(C21,Liste!A:K,9,FALSE))","v":""},null,{"$f":"IF(ISNA(VLOOKUP(H21,Liste!A:K,4,FALSE)),\"\",VLOOKUP(H21,Liste!A:K,4,FALSE))","v":""},{"$f":"IF(ISNA(VLOOKUP(H21,Liste!A:K,3,FALSE)),\"\",VLOOKUP(H21,Liste!A:K,3,FALSE))","v":""},"AHCL2 1",{"$f":"IF(ISNA(VLOOKUP(H21,Liste!A:K,9,FALSE)),\"\",VLOOKUP(H21,Liste!A:K,9,FALSE))","v":""},null,{"$f":"IF(ISNA(VLOOKUP(M21,Liste!A:K,4,FALSE)),\"\",VLOOKUP(M21,Liste!A:K,4,FALSE))","v":""},{"$f":"IF(ISNA(VLOOKUP(M21,Liste!A:K,3,FALSE)),\"\",VLOOKUP(M21,Liste!A:K,3,FALSE))","v":""},"AHCL1 1",{"$f":"IF(ISNA(VLOOKUP(M21,Liste!A:K,9,FALSE)),\"\",VLOOKUP(M21,Liste!A:K,9,FALSE))","v":""},null,{"$f":"IF(ISNA(VLOOKUP(R21,Liste!A:K,4,FALSE)),\"\",VLOOKUP(R21,Liste!A:K,4,FALSE))","v":""},{"$f":"IF(ISNA(VLOOKUP(R21,Liste!A:K,3,FALSE)),\"\",VLOOKUP(R21,Liste!A:K,3,FALSE))","v":""},"AHCLAS 1",{"$f":"IF(ISNA(VLOOKUP(R21,Liste!A:K,9,FALSE)),\"\",VLOOKUP(R21,Liste!A:K,9,FALSE))","v":""}]
[{"$f":"IF(ISNA(VLOOKUP(C22,Liste!A:K,4,FALSE)),\"\",VLOOKUP(C22,Liste!A:K,4,FALSE))","v":""},{"$f":"IF(ISNA(VLOOKUP(C22,Liste!A:K,3,FALSE)),\"\",VLOOKUP(C22,Liste!A:K,3,FALSE))","v":""},"AHCL3 2",{"$f":"IF(ISNA(VLOOKUP(C22,Liste!A:K,9,FALSE)),\"\",VLOOKUP(C22,Liste!A:K,9,FALSE))","v":""},null,{"$f":"IF(ISNA(VLOOKUP(H22,Liste!A:K,4,FALSE)),\"\",VLOOKUP(H22,Liste!A:K,4,FALSE))","v":""},{"$f":"IF(ISNA(VLOOKUP(H22,Liste!A:K,3,FALSE)),\"\",VLOOKUP(H22,Liste!A:K,3,FALSE))","v":""},"AHCL2 2",{"$f":"IF(ISNA(VLOOKUP(H22,Liste!A:K,9,FALSE)),\"\",VLOOKUP(H22,Liste!A:K,9,FALSE))","v":""},null,{"$f":"IF(ISNA(VLOOKUP(M22,Liste!A:K,4,FALSE)),\"\",VLOOKUP(M22,Liste!A:K,4,FALSE))","v":""},{"$f":"IF(ISNA(VLOOKUP(M22,Liste!A:K,3,FALSE)),\"\",VLOOKUP(M22,Liste!A:K,3,FALSE))","v":""},"AHCL1 2",{"$f":"IF(ISNA(VLOOKUP(M22,Liste!A:K,9,FALSE)),\"\",VLOOKUP(M22,Liste!A:K,9,FALSE))","v":""},null,{"$f":"IF(ISNA(VLOOKUP(R22,Liste!A:K,4,FALSE)),\"\",VLOOKUP(R22,Liste!A:K,4,FALSE))","v":""},{"$f":"IF(ISNA(VLOOKUP(R22,Liste!A:K,3,FALSE)),\"\",VLOOKUP(R22,Liste!A:K,3,FALSE))","v":""},"AHCLAS 2",{"$f":"IF(ISNA(VLOOKUP(R22,Liste!A:K,9,FALSE)),\"\",VLOOKUP(R22,Liste!A:K,9,FALSE))","v":""}]
[{"$f":"IF(ISNA(VLOOKUP(C23,Liste!A:K,4,FALSE)),\"\",VLOOKUP(C23,Liste!A:K,4,FALSE))","v":""},{"$f":"IF(ISNA(VLOOKUP(C23,Liste!A:K,3,FALSE)),\"\",VLOOKUP(C23,Liste!A:K,3,FALSE))","v":""},"AHCL3 3",{"$f":"IF(ISNA(VLOOKUP(C23,Liste!A:K,9,FALSE)),\"\",VLOOKUP(C23,Liste!A:K,9,FALSE))","v":""},null,{"$f":"IF(ISNA(VLOOKUP(H23,Liste!A:K,4,FALSE)),\"\",VLOOKUP(H23,Liste!A:K,4,FALSE))","v":""},{"$f":"IF(ISNA(VLOOKUP(H23,Liste!A:K,3,FALSE)),\"\",VLOOKUP(H23,Liste!A:K,3,FALSE))","v":""},"AHCL2 3",{"$f":"IF(ISNA(VLOOKUP(H23,Liste!A:K,9,FALSE)),\"\",VLOOKUP(H23,Liste!A:K,9,FALSE))","v":""},null,{"$f":"IF(ISNA(VLOOKUP(M23,Liste!A:K,4,FALSE)),\"\",VLOOKUP(M23,Liste!A:K,4,FALSE))","v":""},{"$f":"IF(ISNA(VLOOKUP(M23,Liste!A:K,3,FALSE)),\"\",VLOOKUP(M23,Liste!A:K,3,FALSE))","v":""},"AHCL1 3",{"$f":"IF(ISNA(VLOOKUP(M23,Liste!A:K,9,FALSE)),\"\",VLOOKUP(M23,Liste!A:K,9,FALSE))","v":""},null,{"$f":"IF(ISNA(VLOOKUP(R23,Liste!A:K,4,FALSE)),\"\",VLOOKUP(R23,Liste!A:K,4,FALSE))","v":""},{"$f":"IF(ISNA(VLOOKUP(R23,Liste!A:K,3,FALSE)),\"\",VLOOKUP(R23,Liste!A:K,3,FALSE))","v":""},"AHCLAS 3",{"$f":"IF(ISNA(VLOOKUP(R23,Liste!A:K,9,FALSE)),\"\",VLOOKUP(R23,Liste!A:K,9,FALSE))","v":""}]

{"sheet":"1A","index":4,"n_rows":23,"n_cols":17,"rows_kept":23,"cut":false,"hidden":false,"merged":[[20,0,21,8],[20,9,21,16],[22,0,22,16],[4,15,5,15],[4,16,5,16],[12,0,12,4],[12,9,12,13],[15,9,17,12],[15,13,17,16],[13,0,13,4],[13,9,14,12],[13,13,14,16],[14,0,14,4],[4,14,5,14],[3,11,3,13],[4,0,5,0],[4,1,4,3],[4,4,5,4],[4,5,5,5],[4,6,5,6],[4,7,5,7],[4,9,5,9],[4,10,4,12],[4,13,5,13],[3,9,3,10],[0,1,0,3],[0,6,0,8],[1,1,1,3],[3,0,3,1],[3,2,3,3]]}
["Nom",{"$f":"VLOOKUP(F2,Liste!B:J,2,FALSE)","v":{"$error":"#N/A"}},null,null,"Classement",null,{"$f":"VLOOKUP(F2,Liste!B:J,5,FALSE)","v":{"$error":"#N/A"}}]
["Club",{"$f":"VLOOKUP(F2,Liste!B:E,3,FALSE)","v":{"$error":"#N/A"}},null,null,"N° cible",{"$f":"Feuil1!B11","v":"1A"}]
[]
["1er tir",null,"N° licence",null,{"$f":"VLOOKUP(F2,Liste!B:E,4,FALSE)","v":{"$error":"#N/A"}},null,null,null,null,"2ème tir"]
["Volée","Nombre de points par flèches",null,null,"Total 3 flèches","Total cumulé",10,9,null,"Volée","Nombre de points par flèches",null,null,"Total 3 flèches","Total cumulé",10,9]
[null,1,2,3,null,null,null,null,null,null,1,2,3]
[1,null,null,null,null,null,null,null,null,1]
[2,null,null,null,null,null,null,null,null,2]
[3,null,null,null,null,null,null,null,null,3]
[4,null,null,null,null,null,null,null,null,4]
[5,null,null,null,null,null,null,null,null,5]
[6,null,null,null,null,null,null,null,null,6]
["Total 1ère distance",null,null,null,null,null,null,null,null,"Total 2ème distance"]
["Report 2ème distance +",null,null,null,null,null,null,null,null,"Marqueur",null,null,null,"Archer"]
["Total général ="]
[]
[]
[]
[]
[]
[{"$f":"Feuil1!D5","v":"Cie La Flèche Macairoise"},null,null,null,null,null,null,null,null,{"$f":"Feuil1!D6","v":"2ème étape Challenge CHAIRMARTIN"}]
[]
[{"$f":"Feuil1!D7","v":"2023-01-14"}]

{"sheet":"1B","index":5,"n_rows":23,"n_cols":17,"rows_kept":23,"cut":false,"hidden":false,"merged":[[20,0,21,8],[20,9,21,16],[22,0,22,16],[4,15,5,15],[4,16,5,16],[12,0,12,4],[12,9,12,13],[15,9,17,12],[15,13,17,16],[13,0,13,4],[13,9,14,12],[13,13,14,16],[14,0,14,4],[4,14,5,14],[3,11,3,13],[4,0,5,0],[4,1,4,3],[4,4,5,4],[4,5,5,5],[4,6,5,6],[4,7,5,7],[4,9,5,9],[4,10,4,12],[4,13,5,13],[3,9,3,10],[0,1,0,3],[0,6,0,8],[1,1,1,3],[3,0,3,1],[3,2,3,3]]}
["Nom",{"$f":"VLOOKUP(F2,Liste!B:C,2,FALSE)","v":{"$error":"#N/A"}},null,null,"Classement",null,{"$f":"VLOOKUP(F2,Liste!B:J,5,FALSE)","v":{"$error":"#N/A"}}]
["Club",{"$f":"VLOOKUP(F2,Liste!B:E,3,FALSE)","v":{"$error":"#N/A"}},null,null,"N° cible",{"$f":"Feuil1!B12","v":"1B"}]
[]
["1er tir",null,"N° licence",null,{"$f":"VLOOKUP(F2,Liste!B:J,4,FALSE)","v":{"$error":"#N/A"}},null,null,null,null,"2ème tir"]
["Volée","Nombre de points par flèches",null,null,"Total 3 flèches","Total cumulé",10,9,null,"Volée","Nombre de points par flèches",null,null,"Total 3 flèches","Total cumulé",10,9]
[null,1,2,3,null,null,null,null,null,null,1,2,3]
[1,null,null,null,null,null,null,null,null,1]
[2,null,null,null,null,null,null,null,null,2]
[3,null,null,null,null,null,null,null,null,3]
[4,null,null,null,null,null,null,null,null,4]
[5,null,null,null,null,null,null,null,null,5]
[6,null,null,null,null,null,null,null,null,6]
["Total 1ère distance",null,null,null,null,null,null,null,null,"Total 2ème distance"]
["Report 2ème distance +",null,null,null,null,null,null,null,null,"Marqueur",null,null,null,"Archer"]
["Total général ="]
[]
[]
[]
[]
[]
[{"$f":"Feuil1!D5","v":"Cie La Flèche Macairoise"},null,null,null,null,null,null,null,null,{"$f":"Feuil1!D6","v":"2ème étape Challenge CHAIRMARTIN"}]
[]
[{"$f":"Feuil1!D7","v":"2023-01-14"}]

{"sheet":"1C","index":6,"n_rows":23,"n_cols":17,"rows_kept":23,"cut":false,"hidden":false,"merged":[[20,0,21,8],[20,9,21,16],[22,0,22,16],[4,15,5,15],[4,16,5,16],[12,0,12,4],[12,9,12,13],[15,9,17,12],[15,13,17,16],[13,0,13,4],[13,9,14,12],[13,13,14,16],[14,0,14,4],[4,14,5,14],[3,11,3,13],[4,0,5,0],[4,1,4,3],[4,4,5,4],[4,5,5,5],[4,6,5,6],[4,7,5,7],[4,9,5,9],[4,10,4,12],[4,13,5,13],[3,9,3,10],[0,1,0,3],[0,6,0,8],[1,1,1,3],[3,0,3,1],[3,2,3,3]]}
["Nom",{"$f":"VLOOKUP(F2,Liste!B:C,2,FALSE)","v":{"$error":"#N/A"}},null,null,"Classement",null,{"$f":"VLOOKUP(F2,Liste!B:J,5,FALSE)","v":{"$error":"#N/A"}}]
["Club",{"$f":"VLOOKUP(F2,Liste!B:E,3,FALSE)","v":{"$error":"#N/A"}},null,null,"N° cible",{"$f":"Feuil1!B13","v":"1C"}]
[]
["1er tir",null,"N° licence",null,{"$f":"VLOOKUP(F2,Liste!B:E,4,FALSE)","v":{"$error":"#N/A"}},null,null,null,null,"2ème tir"]
["Volée","Nombre de points par flèches",null,null,"Total 3 flèches","Total cumulé",10,9,null,"Volée","Nombre de points par flèches",null,null,"Total 3 flèches","Total cumulé",10,9]
[null,1,2,3,null,null,null,null,null,null,1,2,3]
[1,null,null,null,null,null,null,null,null,1]
[2,null,null,null,null,null,null,null,null,2]
[3,null,null,null,null,null,null,null,null,3]
[4,null,null,null,null,null,null,null,null,4]
[5,null,null,null,null,null,null,null,null,5]
[6,null,null,null,null,null,null,null,null,6]
["Total 1ère distance",null,null,null,null,null,null,null,null,"Total 2ème distance"]
["Report 2ème distance +",null,null,null,null,null,null,null,null,"Marqueur",null,null,null,"Archer"]
["Total général ="]
[]
[]
[]
[]
[]
[{"$f":"Feuil1!D5","v":"Cie La Flèche Macairoise"},null,null,null,null,null,null,null,null,{"$f":"Feuil1!D6","v":"2ème étape Challenge CHAIRMARTIN"}]
[]
[{"$f":"Feuil1!D7","v":"2023-01-14"}]

{"sheet":"1D","index":7,"n_rows":23,"n_cols":17,"rows_kept":23,"cut":false,"hidden":false,"merged":[[20,0,21,8],[20,9,21,16],[22,0,22,16],[4,15,5,15],[4,16,5,16],[12,0,12,4],[12,9,12,13],[15,9,17,12],[15,13,17,16],[13,0,13,4],[13,9,14,12],[13,13,14,16],[14,0,14,4],[4,14,5,14],[3,11,3,13],[4,0,5,0],[4,1,4,3],[4,4,5,4],[4,5,5,5],[4,6,5,6],[4,7,5,7],[4,9,5,9],[4,10,4,12],[4,13,5,13],[3,9,3,10],[0,1,0,3],[0,6,0,8],[1,1,1,3],[3,0,3,1],[3,2,3,3]]}
["Nom",{"$f":"VLOOKUP(F2,Liste!B:C,2,FALSE)","v":{"$error":"#N/A"}},null,null,"Classement",null,{"$f":"VLOOKUP(F2,Liste!B:J,5,FALSE)","v":{"$error":"#N/A"}}]
["Club",{"$f":"VLOOKUP(F2,Liste!B:E,3,FALSE)","v":{"$error":"#N/A"}},null,null,"N° cible",{"$f":"Feuil1!B14","v":"1D"}]
[]
["1er tir",null,"N° licence",null,{"$f":"VLOOKUP(F2,Liste!B:E,4,FALSE)","v":{"$error":"#N/A"}},null,null,null,null,"2ème tir"]
["Volée","Nombre de points par flèches",null,null,"Total 3 flèches","Total cumulé",10,9,null,"Volée","Nombre de points par flèches",null,null,"Total 3 flèches","Total cumulé",10,9]
[null,1,2,3,null,null,null,null,null,null,1,2,3]
[1,null,null,null,null,null,null,null,null,1]
[2,null,null,null,null,null,null,null,null,2]
[3,null,null,null,null,null,null,null,null,3]
[4,null,null,null,null,null,null,null,null,4]
[5,null,null,null,null,null,null,null,null,5]
[6,null,null,null,null,null,null,null,null,6]
["Total 1ère distance",null,null,null,null,null,null,null,null,"Total 2ème distance"]
["Report 2ème distance +",null,null,null,null,null,null,null,null,"Marqueur",null,null,null,"Archer"]
["Total général ="]
[]
[]
[]
[]
[]
[{"$f":"Feuil1!D5","v":"Cie La Flèche Macairoise"},null,null,null,null,null,null,null,null,{"$f":"Feuil1!D6","v":"2ème étape Challenge CHAIRMARTIN"}]
[]
[{"$f":"Feuil1!D7","v":"2023-01-14"}]

{"sheet":"1E","index":8,"n_rows":23,"n_cols":17,"rows_kept":23,"cut":false,"hidden":false,"merged":[[20,0,21,8],[20,9,21,16],[22,0,22,16],[4,15,5,15],[4,16,5,16],[12,0,12,4],[12,9,12,13],[15,9,17,12],[15,13,17,16],[13,0,13,4],[13,9,14,12],[13,13,14,16],[14,0,14,4],[4,14,5,14],[3,11,3,13],[4,0,5,0],[4,1,4,3],[4,4,5,4],[4,5,5,5],[4,6,5,6],[4,7,5,7],[4,9,5,9],[4,10,4,12],[4,13,5,13],[3,9,3,10],[0,1,0,3],[0,6,0,8],[1,1,1,3],[3,0,3,1],[3,2,3,3]]}
["Nom",{"$f":"VLOOKUP(F2,Liste!B:J,2,FALSE)","v":{"$error":"#N/A"}},null,null,"Classement",null,{"$f":"VLOOKUP(F2,Liste!B:K,5,FALSE)","v":{"$error":"#N/A"}}]
["Club",{"$f":"VLOOKUP(F2,Liste!B:E,3,FALSE)","v":{"$error":"#N/A"}},null,null,"N° cible",{"$f":"Feuil1!B15","v":"1E"}]
[]
["1er tir",null,"N° licence",null,{"$f":"VLOOKUP(F2,Liste!B:E,4,FALSE)","v":{"$error":"#N/A"}},null,null,null,null,"2ème tir"]
["Volée","Nombre de points par flèches",null,null,"Total 3 flèches","Total cumulé",10,9,null,"Volée","Nombre de points par flèches",null,null,"Total 3 flèches","Total cumulé",10,9]
[null,1,2,3,null,null,null,null,null,null,1,2,3]
[1,null,null,null,null,null,null,null,null,1]
[2,null,null,null,null,null,null,null,null,2]
[3,null,null,null,null,null,null,null,null,3]
[4,null,null,null,null,null,null,null,null,4]
[5,null,null,null,null,null,null,null,null,5]
[6,null,null,null,null,null,null,null,null,6]
["Total 1ère distance",null,null,null,null,null,null,null,null,"Total 2ème distance"]
["Report 2ème distance +",null,null,null,null,null,null,null,null,"Marqueur",null,null,null,"Archer"]
["Total général ="]
[]
[]
[]
[]
[]
[{"$f":"Feuil1!D5","v":"Cie La Flèche Macairoise"},null,null,null,null,null,null,null,null,{"$f":"Feuil1!D6","v":"2ème étape Challenge CHAIRMARTIN"}]
[]
[{"$f":"Feuil1!D7","v":"2023-01-14"}]

{"sheet":"1F","index":9,"n_rows":23,"n_cols":17,"rows_kept":23,"cut":false,"hidden":false,"merged":[[20,0,21,8],[20,9,21,16],[22,0,22,16],[4,15,5,15],[4,16,5,16],[12,0,12,4],[12,9,12,13],[15,9,17,12],[15,13,17,16],[13,0,13,4],[13,9,14,12],[13,13,14,16],[14,0,14,4],[4,14,5,14],[3,11,3,13],[4,0,5,0],[4,1,4,3],[4,4,5,4],[4,5,5,5],[4,6,5,6],[4,7,5,7],[4,9,5,9],[4,10,4,12],[4,13,5,13],[3,9,3,10],[0,1,0,3],[0,6,0,8],[1,1,1,3],[3,0,3,1],[3,2,3,3]]}
["Nom",{"$f":"VLOOKUP(F2,Liste!B:J,2,FALSE)","v":{"$error":"#N/A"}},null,null,"Classement",null,{"$f":"VLOOKUP(F2,Liste!B:K,5,FALSE)","v":{"$error":"#N/A"}}]
["Club",{"$f":"VLOOKUP(F2,Liste!B:K,3,FALSE)","v":{"$error":"#N/A"}},null,null,"N° cible",{"$f":"Feuil1!B16","v":"1F"}]
[]
["1er tir",null,"N° licence",null,{"$f":"VLOOKUP(F2,Liste!B:K,4,FALSE)","v":{"$error":"#N/A"}},null,null,null,null,"2ème tir"]
["Volée","Nombre de points par flèches",null,null,"Total 3 flèches","Total cumulé",10,9,null,"Volée","Nombre de points par flèches",null,null,"Total 3 flèches","Total cumulé",10,9]
[null,1,2,3,null,null,null,null,null,null,1,2,3]
[1,null,null,null,null,null,null,null,null,1]
[2,null,null,null,null,null,null,null,null,2]
[3,null,null,null,null,null,null,null,null,3]
[4,null,null,null,null,null,null,null,null,4]
[5,null,null,null,null,null,null,null,null,5]
[6,null,null,null,null,null,null,null,null,6]
["Total 1ère distance",null,null,null,null,null,null,null,null,"Total 2ème distance"]
["Report 2ème distance +",null,null,null,null,null,null,null,null,"Marqueur",null,null,null,"Archer"]
["Total général ="]
[]
[]
[]
[]
[]
[{"$f":"Feuil1!D5","v":"Cie La Flèche Macairoise"},null,null,null,null,null,null,null,null,{"$f":"Feuil1!D6","v":"2ème étape Challenge CHAIRMARTIN"}]
[]
[{"$f":"Feuil1!D7","v":"2023-01-14"}]

{"sheet":"1G","index":10,"n_rows":23,"n_cols":17,"rows_kept":23,"cut":false,"hidden":false,"merged":[[20,0,21,8],[20,9,21,16],[22,0,22,16],[4,15,5,15],[4,16,5,16],[12,0,12,4],[12,9,12,13],[15,9,17,12],[15,13,17,16],[13,0,13,4],[13,9,14,12],[13,13,14,16],[14,0,14,4],[4,14,5,14],[3,11,3,13],[4,0,5,0],[4,1,4,3],[4,4,5,4],[4,5,5,5],[4,6,5,6],[4,7,5,7],[4,9,5,9],[4,10,4,12],[4,13,5,13],[3,9,3,10],[0,1,0,3],[0,6,0,8],[1,1,1,3],[3,0,3,1],[3,2,3,3]]}
["Nom",{"$f":"VLOOKUP(F2,Liste!B:J,2,FALSE)","v":{"$error":"#N/A"}},null,null,"Classement",null,{"$f":"VLOOKUP(F2,Liste!B:K,5,FALSE)","v":{"$error":"#N/A"}}]
["Club",{"$f":"VLOOKUP(F2,Liste!B:K,3,FALSE)","v":{"$error":"#N/A"}},null,null,"N° cible",{"$f":"Feuil1!B17","v":"1G"}]
[]
["1er tir",null,"N° licence",null,{"$f":"VLOOKUP(F2,Liste!B:K,4,FALSE)","v":{"$error":"#N/A"}},null,null,null,null,"2ème tir"]
["Volée","Nombre de points par flèches",null,null,"Total 3 flèches","Total cumulé",10,9,null,"Volée","Nombre de points par flèches",null,null,"Total 3 flèches","Total cumulé",10,9]
[null,1,2,3,null,null,null,null,null,null,1,2,3]
[1,null,null,null,null,null,null,null,null,1]
[2,null,null,null,null,null,null,null,null,2]
[3,null,null,null,null,null,null,null,null,3]
[4,null,null,null,null,null,null,null,null,4]
[5,null,null,null,null,null,null,null,null,5]
[6,null,null,null,null,null,null,null,null,6]
["Total 1ère distance",null,null,null,null,null,null,null,null,"Total 2ème distance"]
["Report 2ème distance +",null,null,null,null,null,null,null,null,"Marqueur",null,null,null,"Archer"]
["Total général ="]
[]
[]
[]
[]
[]
[{"$f":"Feuil1!D5","v":"Cie La Flèche Macairoise"},null,null,null,null,null,null,null,null,{"$f":"Feuil1!D6","v":"2ème étape Challenge CHAIRMARTIN"}]
[]
[{"$f":"Feuil1!D7","v":"2023-01-14"}]

{"sheet":"1H","index":11,"n_rows":23,"n_cols":17,"rows_kept":23,"cut":false,"hidden":false,"merged":[[20,0,21,8],[20,9,21,16],[22,0,22,16],[4,15,5,15],[4,16,5,16],[12,0,12,4],[12,9,12,13],[15,9,17,12],[15,13,17,16],[13,0,13,4],[13,9,14,12],[13,13,14,16],[14,0,14,4],[4,14,5,14],[3,11,3,13],[4,0,5,0],[4,1,4,3],[4,4,5,4],[4,5,5,5],[4,6,5,6],[4,7,5,7],[4,9,5,9],[4,10,4,12],[4,13,5,13],[3,9,3,10],[0,1,0,3],[0,6,0,8],[1,1,1,3],[3,0,3,1],[3,2,3,3]]}
["Nom",{"$f":"VLOOKUP(F2,Liste!B:K,3,FALSE)","v":{"$error":"#N/A"}},null,null,"Classement",null,{"$f":"VLOOKUP(F2,Liste!B:K,5,FALSE)","v":{"$error":"#N/A"}}]
["Club",{"$f":"VLOOKUP(F2,Liste!B:K,3,FALSE)","v":{"$error":"#N/A"}},null,null,"N° cible",{"$f":"Feuil1!B18","v":"1H"}]
[]
["1er tir",null,"N° licence",null,{"$f":"VLOOKUP(F2,Liste!B:K,4,FALSE)","v":{"$error":"#N/A"}},null,null,null,null,"2ème tir"]
["Volée","Nombre de points par flèches",null,null,"Total 3 flèches","Total cumulé",10,9,null,"Volée","Nombre de points par flèches",null,null,"Total 3 flèches","Total cumulé",10,9]
[null,1,2,3,null,null,null,null,null,null,1,2,3]
[1,null,null,null,null,null,null,null,null,1]
[2,null,null,null,null,null,null,null,null,2]
[3,null,null,null,null,null,null,null,null,3]
[4,null,null,null,null,null,null,null,null,4]
[5,null,null,null,null,null,null,null,null,5]
[6,null,null,null,null,null,null,null,null,6]
["Total 1ère distance",null,null,null,null,null,null,null,null,"Total 2ème distance"]
["Report 2ème distance +",null,null,null,null,null,null,null,null,"Marqueur",null,null,null,"Archer"]
["Total général ="]
[]
[]
[]
[]
[]
[{"$f":"Feuil1!D5","v":"Cie La Flèche Macairoise"},null,null,null,null,null,null,null,null,{"$f":"Feuil1!D6","v":"2ème étape Challenge CHAIRMARTIN"}]
[]
[{"$f":"Feuil1!D7","v":"2023-01-14"}]

{"sheet":"2A","index":12,"n_rows":23,"n_cols":17,"rows_kept":23,"cut":false,"hidden":false,"merged":[[20,0,21,8],[20,9,21,16],[22,0,22,16],[4,15,5,15],[4,16,5,16],[12,0,12,4],[12,9,12,13],[15,9,17,12],[15,13,17,16],[13,0,13,4],[13,9,14,12],[13,13,14,16],[14,0,14,4],[4,14,5,14],[3,11,3,13],[4,0,5,0],[4,1,4,3],[4,4,5,4],[4,5,5,5],[4,6,5,6],[4,7,5,7],[4,9,5,9],[4,10,4,12],[4,13,5,13],[3,9,3,10],[0,1,0,3],[0,6,0,8],[1,1,1,3],[3,0,3,1],[3,2,3,3]]}
["Nom",{"$f":"VLOOKUP(F2,Liste!B:J,2,FALSE)","v":{"$error":"#N/A"}},null,null,"Classement",null,{"$f":"VLOOKUP(F2,Liste!B:K,5,FALSE)","v":{"$error":"#N/A"}}]
["Club",{"$f":"VLOOKUP(F2,Liste!B:K,3,FALSE)","v":{"$error":"#N/A"}},null,null,"N° cible",{"$f":"Feuil1!B19","v":"2A"}]
[]
["1er tir",null,"N° licence",null,{"$f":"VLOOKUP(F2,Liste!B:K,4,FALSE)","v":{"$error":"#N/A"}},null,null,null,null,"2ème tir"]
["Volée","Nombre de points par flèches",null,null,"Total 3 flèches","Total cumulé",10,9,null,"Volée","Nombre de points par flèches",null,null,"Total 3 flèches","Total cumulé",10,9]
[null,1,2,3,null,null,null,null,null,null,1,2,3]
[1,null,null,null,null,null,null,null,null,1]
[2,null,null,null,null,null,null,null,null,2]
[3,null,null,null,null,null,null,null,null,3]
[4,null,null,null,null,null,null,null,null,4]
[5,null,null,null,null,null,null,null,null,5]
[6,null,null,null,null,null,null,null,null,6]
["Total 1ère distance",null,null,null,null,null,null,null,null,"Total 2ème distance"]
["Report 2ème distance +",null,null,null,null,null,null,null,null,"Marqueur",null,null,null,"Archer"]
["Total général ="]
[]
[]
[]
[]
[]
[{"$f":"Feuil1!D5","v":"Cie La Flèche Macairoise"},null,null,null,null,null,null,null,null,{"$f":"Feuil1!D6","v":"2ème étape Challenge CHAIRMARTIN"}]
[]
[{"$f":"Feuil1!D7","v":"2023-01-14"}]

{"sheet":"2B","index":13,"n_rows":23,"n_cols":17,"rows_kept":23,"cut":false,"hidden":false,"merged":[[20,0,21,8],[20,9,21,16],[22,0,22,16],[4,15,5,15],[4,16,5,16],[12,0,12,4],[12,9,12,13],[15,9,17,12],[15,13,17,16],[13,0,13,4],[13,9,14,12],[13,13,14,16],[14,0,14,4],[4,14,5,14],[3,11,3,13],[4,0,5,0],[4,1,4,3],[4,4,5,4],[4,5,5,5],[4,6,5,6],[4,7,5,7],[4,9,5,9],[4,10,4,12],[4,13,5,13],[3,9,3,10],[0,1,0,3],[0,6,0,8],[1,1,1,3],[3,0,3,1],[3,2,3,3]]}
["Nom",{"$f":"VLOOKUP(F2,Liste!B:J,2,FALSE)","v":{"$error":"#N/A"}},null,null,"Classement",null,{"$f":"VLOOKUP(F2,Liste!B:K,5,FALSE)","v":{"$error":"#N/A"}}]
["Club",{"$f":"VLOOKUP(F2,Liste!B:K,3,FALSE)","v":{"$error":"#N/A"}},null,null,"N° cible",{"$f":"Feuil1!B20","v":"2B"}]
[]
["1er tir",null,"N° licence",null,{"$f":"VLOOKUP(F2,Liste!B:K,4,FALSE)","v":{"$error":"#N/A"}},null,null,null,null,"2ème tir"]
["Volée","Nombre de points par flèches",null,null,"Total 3 flèches","Total cumulé",10,9,null,"Volée","Nombre de points par flèches",null,null,"Total 3 flèches","Total cumulé",10,9]
[null,1,2,3,null,null,null,null,null,null,1,2,3]
[1,null,null,null,null,null,null,null,null,1]
[2,null,null,null,null,null,null,null,null,2]
[3,null,null,null,null,null,null,null,null,3]
[4,null,null,null,null,null,null,null,null,4]
[5,null,null,null,null,null,null,null,null,5]
[6,null,null,null,null,null,null,null,null,6]
["Total 1ère distance",null,null,null,null,null,null,null,null,"Total 2ème distance"]
["Report 2ème distance +",null,null,null,null,null,null,null,null,"Marqueur",null,null,null,"Archer"]
["Total général ="]
[]
[]
[]
[]
[]
[{"$f":"Feuil1!D5","v":"Cie La Flèche Macairoise"},null,null,null,null,null,null,null,null,{"$f":"Feuil1!D6","v":"2ème étape Challenge CHAIRMARTIN"}]
[]
[{"$f":"Feuil1!D7","v":"2023-01-14"}]

{"sheet":"2C","index":14,"n_rows":23,"n_cols":17,"rows_kept":23,"cut":false,"hidden":false,"merged":[[20,0,21,8],[20,9,21,16],[22,0,22,16],[4,15,5,15],[4,16,5,16],[12,0,12,4],[12,9,12,13],[15,9,17,12],[15,13,17,16],[13,0,13,4],[13,9,14,12],[13,13,14,16],[14,0,14,4],[4,14,5,14],[3,11,3,13],[4,0,5,0],[4,1,4,3],[4,4,5,4],[4,5,5,5],[4,6,5,6],[4,7,5,7],[4,9,5,9],[4,10,4,12],[4,13,5,13],[3,9,3,10],[0,1,0,3],[0,6,0,8],[1,1,1,3],[3,0,3,1],[3,2,3,3]]}
["Nom",{"$f":"VLOOKUP(F2,Liste!B:J,2,FALSE)","v":{"$error":"#N/A"}},null,null,"Classement",null,{"$f":"VLOOKUP(F2,Liste!B:K,5,FALSE)","v":{"$error":"#N/A"}}]
["Club",{"$f":"VLOOKUP(F2,Liste!B:K,3,FALSE)","v":{"$error":"#N/A"}},null,null,"N° cible",{"$f":"Feuil1!B21","v":"2C"}]
[]
["1er tir",null,"N° licence",null,{"$f":"VLOOKUP(F2,Liste!B:K,4,FALSE)","v":{"$error":"#N/A"}},null,null,null,null,"2ème tir"]
["Volée","Nombre de points par flèches",null,null,"Total 3 flèches","Total cumulé",10,9,null,"Volée","Nombre de points par flèches",null,null,"Total 3 flèches","Total cumulé",10,9]
[null,1,2,3,null,null,null,null,null,null,1,2,3]
[1,null,null,null,null,null,null,null,null,1]
[2,null,null,null,null,null,null,null,null,2]
[3,null,null,null,null,null,null,null,null,3]
[4,null,null,null,null,null,null,null,null,4]
[5,null,null,null,null,null,null,null,null,5]
[6,null,null,null,null,null,null,null,null,6]
["Total 1ère distance",null,null,null,null,null,null,null,null,"Total 2ème distance"]
["Report 2ème distance +",null,null,null,null,null,null,null,null,"Marqueur",null,null,null,"Archer"]
["Total général ="]
[]
[]
[]
[]
[]
[{"$f":"Feuil1!D5","v":"Cie La Flèche Macairoise"},null,null,null,null,null,null,null,null,{"$f":"Feuil1!D6","v":"2ème étape Challenge CHAIRMARTIN"}]
[]
[{"$f":"Feuil1!D7","v":"2023-01-14"}]

{"sheet":"2D","index":15,"n_rows":23,"n_cols":17,"rows_kept":23,"cut":false,"hidden":false,"merged":[[20,0,21,8],[20,9,21,16],[22,0,22,16],[4,15,5,15],[4,16,5,16],[12,0,12,4],[12,9,12,13],[15,9,17,12],[15,13,17,16],[13,0,13,4],[13,9,14,12],[13,13,14,16],[14,0,14,4],[4,14,5,14],[3,11,3,13],[4,0,5,0],[4,1,4,3],[4,4,5,4],[4,5,5,5],[4,6,5,6],[4,7,5,7],[4,9,5,9],[4,10,4,12],[4,13,5,13],[3,9,3,10],[0,1,0,3],[0,6,0,8],[1,1,1,3],[3,0,3,1],[3,2,3,3]]}
["Nom",{"$f":"VLOOKUP(F2,Liste!B:J,2,FALSE)","v":{"$error":"#N/A"}},null,null,"Classement",null,{"$f":"VLOOKUP(F2,Liste!B:K,5,FALSE)","v":{"$error":"#N/A"}}]
["Club",{"$f":"VLOOKUP(F2,Liste!B:K,3,FALSE)","v":{"$error":"#N/A"}},null,null,"N° cible",{"$f":"Feuil1!B22","v":"2D"}]
[]
["1er tir",null,"N° licence",null,{"$f":"VLOOKUP(F2,Liste!B:K,4,FALSE)","v":{"$error":"#N/A"}},null,null,null,null,"2ème tir"]
["Volée","Nombre de points par flèches",null,null,"Total 3 flèches","Total cumulé",10,9,null,"Volée","Nombre de points par flèches",null,null,"Total 3 flèches","Total cumulé",10,9]
[null,1,2,3,null,null,null,null,null,null,1,2,3]
[1,null,null,null,null,null,null,null,null,1]
[2,null,null,null,null,null,null,null,null,2]
[3,null,null,null,null,null,null,null,null,3]
[4,null,null,null,null,null,null,null,null,4]
[5,null,null,null,null,null,null,null,null,5]
[6,null,null,null,null,null,null,null,null,6]
["Total 1ère distance",null,null,null,null,null,null,null,null,"Total 2ème distance"]
["Report 2ème distance +",null,null,null,null,null,null,null,null,"Marqueur",null,null,null,"Archer"]
["Total général ="]
[]
[]
[]
[]
[]
[{"$f":"VLOOKUP(F2,Liste!B:J,2,FALSE)","v":{"$error":"#N/A"}},null,null,null,null,null,null,null,null,{"$f":"Feuil1!D6","v":"2ème étape Challenge CHAIRMARTIN"}]
[]
[{"$f":"Feuil1!D7","v":"2023-01-14"}]

{"sheet":"2E","index":16,"n_rows":23,"n_cols":17,"rows_kept":23,"cut":false,"hidden":false,"merged":[[20,0,21,8],[20,9,21,16],[22,0,22,16],[4,15,5,15],[4,16,5,16],[12,0,12,4],[12,9,12,13],[15,9,17,12],[15,13,17,16],[13,0,13,4],[13,9,14,12],[13,13,14,16],[14,0,14,4],[4,14,5,14],[3,11,3,13],[4,0,5,0],[4,1,4,3],[4,4,5,4],[4,5,5,5],[4,6,5,6],[4,7,5,7],[4,9,5,9],[4,10,4,12],[4,13,5,13],[3,9,3,10],[0,1,0,3],[0,6,0,8],[1,1,1,3],[3,0,3,1],[3,2,3,3]]}
["Nom",{"$f":"VLOOKUP(F2,Liste!B:J,2,FALSE)","v":{"$error":"#N/A"}},null,null,"Classement",null,{"$f":"VLOOKUP(F2,Liste!B:K,5,FALSE)","v":{"$error":"#N/A"}}]
["Club",{"$f":"VLOOKUP(F2,Liste!B:K,3,FALSE)","v":{"$error":"#N/A"}},null,null,"N° cible",{"$f":"Feuil1!B23","v":"2E"}]
[]
["1er tir",null,"N° licence",null,{"$f":"VLOOKUP(F2,Liste!B:K,4,FALSE)","v":{"$error":"#N/A"}},null,null,null,null,"2ème tir"]
["Volée","Nombre de points par flèches",null,null,"Total 3 flèches","Total cumulé",10,9,null,"Volée","Nombre de points par flèches",null,null,"Total 3 flèches","Total cumulé",10,9]
[null,1,2,3,null,null,null,null,null,null,1,2,3]
[1,null,null,null,null,null,null,null,null,1]
[2,null,null,null,null,null,null,null,null,2]
[3,null,null,null,null,null,null,null,null,3]
[4,null,null,null,null,null,null,null,null,4]
[5,null,null,null,null,null,null,null,null,5]
[6,null,null,null,null,null,null,null,null,6]
["Total 1ère distance",null,null,null,null,null,null,null,null,"Total 2ème distance"]
["Report 2ème distance +",null,null,null,null,null,null,null,null,"Marqueur",null,null,null,"Archer"]
["Total général ="]
[]
[]
[]
[]
[]
[{"$f":"Feuil1!D5","v":"Cie La Flèche Macairoise"},null,null,null,null,null,null,null,null,{"$f":"Feuil1!D6","v":"2ème étape Challenge CHAIRMARTIN"}]
[]
[{"$f":"Feuil1!D7","v":"2023-01-14"}]

{"sheet":"2F","index":17,"n_rows":23,"n_cols":17,"rows_kept":23,"cut":false,"hidden":false,"merged":[[20,0,21,8],[20,9,21,16],[22,0,22,16],[4,15,5,15],[4,16,5,16],[12,0,12,4],[12,9,12,13],[15,9,17,12],[15,13,17,16],[13,0,13,4],[13,9,14,12],[13,13,14,16],[14,0,14,4],[4,14,5,14],[3,11,3,13],[4,0,5,0],[4,1,4,3],[4,4,5,4],[4,5,5,5],[4,6,5,6],[4,7,5,7],[4,9,5,9],[4,10,4,12],[4,13,5,13],[3,9,3,10],[0,1,0,3],[0,6,0,8],[1,1,1,3],[3,0,3,1],[3,2,3,3]]}
["Nom",{"$f":"VLOOKUP(F2,Liste!B:J,2,FALSE)","v":{"$error":"#N/A"}},null,null,"Classement",null,{"$f":"VLOOKUP(F2,Liste!B:K,5,FALSE)","v":{"$error":"#N/A"}}]
["Club",{"$f":"VLOOKUP(F2,Liste!B:K,3,FALSE)","v":{"$error":"#N/A"}},null,null,"N° cible",{"$f":"Feuil1!B24","v":"2F"}]
[]
["1er tir",null,"N° licence",null,{"$f":"VLOOKUP(F2,Liste!B:K,4,FALSE)","v":{"$error":"#N/A"}},null,null,null,null,"2ème tir"]
["Volée","Nombre de points par flèches",null,null,"Total 3 flèches","Total cumulé",10,9,null,"Volée","Nombre de points par flèches",null,null,"Total 3 flèches","Total cumulé",10,9]
[null,1,2,3,null,null,null,null,null,null,1,2,3]
[1,null,null,null,null,null,null,null,null,1]
[2,null,null,null,null,null,null,null,null,2]
[3,null,null,null,null,null,null,null,null,3]
[4,null,null,null,null,null,null,null,null,4]
[5,null,null,null,null,null,null,null,null,5]
[6,null,null,null,null,null,null,null,null,6]
["Total 1ère distance",null,null,null,null,null,null,null,null,"Total 2ème distance"]
["Report 2ème distance +",null,null,null,null,null,null,null,null,"Marqueur",null,null,null,"Archer"]
["Total général ="]
[]
[]
[]
[]
[]
[{"$f":"Feuil1!D5","v":"Cie La Flèche Macairoise"},null,null,null,null,null,null,null,null,{"$f":"Feuil1!D6","v":"2ème étape Challenge CHAIRMARTIN"}]
[]
[{"$f":"Feuil1!D7","v":"2023-01-14"}]

{"sheet":"2G","index":18,"n_rows":23,"n_cols":17,"rows_kept":23,"cut":false,"hidden":false,"merged":[[20,0,21,8],[20,9,21,16],[22,0,22,16],[4,15,5,15],[4,16,5,16],[12,0,12,4],[12,9,12,13],[15,9,17,12],[15,13,17,16],[13,0,13,4],[13,9,14,12],[13,13,14,16],[14,0,14,4],[4,14,5,14],[3,11,3,13],[4,0,5,0],[4,1,4,3],[4,4,5,4],[4,5,5,5],[4,6,5,6],[4,7,5,7],[4,9,5,9],[4,10,4,12],[4,13,5,13],[3,9,3,10],[0,1,0,3],[0,6,0,8],[1,1,1,3],[3,0,3,1],[3,2,3,3]]}
["Nom",{"$f":"VLOOKUP(F2,Liste!B:K,2,FALSE)","v":{"$error":"#N/A"}},null,null,"Classement",null,{"$f":"VLOOKUP(F2,Liste!B:K,5,FALSE)","v":{"$error":"#N/A"}}]
["Club",{"$f":"VLOOKUP(F2,Liste!B:K,3,FALSE)","v":{"$error":"#N/A"}},null,null,"N° cible",{"$f":"Feuil1!B25","v":"2G"}]
[]
["1er tir",null,"N° licence",null,{"$f":"VLOOKUP(F2,Liste!B:K,4,FALSE)","v":{"$error":"#N/A"}},null,null,null,null,"2ème tir"]
["Volée","Nombre de points par flèches",null,null,"Total 3 flèches","Total cumulé",10,9,null,"Volée","Nombre de points par flèches",null,null,"Total 3 flèches","Total cumulé",10,9]
[null,1,2,3,null,null,null,null,null,null,1,2,3]
[1,null,null,null,null,null,null,null,null,1]
[2,null,null,null,null,null,null,null,null,2]
[3,null,null,null,null,null,null,null,null,3]
[4,null,null,null,null,null,null,null,null,4]
[5,null,null,null,null,null,null,null,null,5]
[6,null,null,null,null,null,null,null,null,6]
["Total 1ère distance",null,null,null,null,null,null,null,null,"Total 2ème distance"]
["Report 2ème distance +",null,null,null,null,null,null,null,null,"Marqueur",null,null,null,"Archer"]
["Total général ="]
[]
[]
[]
[]
[]
[{"$f":"Feuil1!D5","v":"Cie La Flèche Macairoise"},null,null,null,null,null,null,null,null,{"$f":"Feuil1!D6","v":"2ème étape Challenge CHAIRMARTIN"}]
[]
[{"$f":"Feuil1!D7","v":"2023-01-14"}]

{"sheet":"2H","index":19,"n_rows":23,"n_cols":17,"rows_kept":23,"cut":false,"hidden":false,"merged":[[20,0,21,8],[20,9,21,16],[22,0,22,16],[4,15,5,15],[4,16,5,16],[12,0,12,4],[12,9,12,13],[15,9,17,12],[15,13,17,16],[13,0,13,4],[13,9,14,12],[13,13,14,16],[14,0,14,4],[4,14,5,14],[3,11,3,13],[4,0,5,0],[4,1,4,3],[4,4,5,4],[4,5,5,5],[4,6,5,6],[4,7,5,7],[4,9,5,9],[4,10,4,12],[4,13,5,13],[3,9,3,10],[0,1,0,3],[0,6,0,8],[1,1,1,3],[3,0,3,1],[3,2,3,3]]}
["Nom",{"$f":"VLOOKUP(F2,Liste!B:K,2,FALSE)","v":{"$error":"#N/A"}},null,null,"Classement",null,{"$f":"VLOOKUP(F2,Liste!B:K,5,FALSE)","v":{"$error":"#N/A"}}]
["Club",{"$f":"VLOOKUP(F2,Liste!B:K,3,FALSE)","v":{"$error":"#N/A"}},null,null,"N° cible",{"$f":"Feuil1!B26","v":"2H"}]
[]
["1er tir",null,"N° licence",null,{"$f":"VLOOKUP(F2,Liste!B:K,4,FALSE)","v":{"$error":"#N/A"}},null,null,null,null,"2ème tir"]
["Volée","Nombre de points par flèches",null,null,"Total 3 flèches","Total cumulé",10,9,null,"Volée","Nombre de points par flèches",null,null,"Total 3 flèches","Total cumulé",10,9]
[null,1,2,3,null,null,null,null,null,null,1,2,3]
[1,null,null,null,null,null,null,null,null,1]
[2,null,null,null,null,null,null,null,null,2]
[3,null,null,null,null,null,null,null,null,3]
[4,null,null,null,null,null,null,null,null,4]
[5,null,null,null,null,null,null,null,null,5]
[6,null,null,null,null,null,null,null,null,6]
["Total 1ère distance",null,null,null,null,null,null,null,null,"Total 2ème distance"]
["Report 2ème distance +",null,null,null,null,null,null,null,null,"Marqueur",null,null,null,"Archer"]
["Total général ="]
[]
[]
[]
[]
[]
[{"$f":"Feuil1!D5","v":"Cie La Flèche Macairoise"},null,null,null,null,null,null,null,null,{"$f":"Feuil1!D6","v":"2ème étape Challenge CHAIRMARTIN"}]
[]
[{"$f":"Feuil1!D7","v":"2023-01-14"}]

{"sheet":"3A","index":20,"n_rows":23,"n_cols":17,"rows_kept":23,"cut":false,"hidden":false,"merged":[[20,0,21,8],[20,9,21,16],[22,0,22,16],[4,15,5,15],[4,16,5,16],[12,0,12,4],[12,9,12,13],[15,9,17,12],[15,13,17,16],[13,0,13,4],[13,9,14,12],[13,13,14,16],[14,0,14,4],[4,14,5,14],[3,11,3,13],[4,0,5,0],[4,1,4,3],[4,4,5,4],[4,5,5,5],[4,6,5,6],[4,7,5,7],[4,9,5,9],[4,10,4,12],[4,13,5,13],[3,9,3,10],[0,1,0,3],[0,6,0,8],[1,1,1,3],[3,0,3,1],[3,2,3,3]]}
["Nom",{"$f":"VLOOKUP(F2,Liste!B:K,2,FALSE)","v":{"$error":"#N/A"}},null,null,"Classement",null,{"$f":"VLOOKUP(F2,Liste!B:K,5,FALSE)","v":{"$error":"#N/A"}}]
["Club",{"$f":"VLOOKUP(F2,Liste!B:K,3,FALSE)","v":{"$error":"#N/A"}},null,null,"N° cible",{"$f":"Feuil1!D11","v":"3A"}]
[]
["1er tir",null,"N° licence",null,{"$f":"VLOOKUP(F2,Liste!B:K,4,FALSE)","v":{"$error":"#N/A"}},null,null,null,null,"2ème tir"]
["Volée","Nombre de points par flèches",null,null,"Total 3 flèches","Total cumulé",10,9,null,"Volée","Nombre de points par flèches",null,null,"Total 3 flèches","Total cumulé",10,9]
[null,1,2,3,null,null,null,null,null,null,1,2,3]
[1,null,null,null,null,null,null,null,null,1]
[2,null,null,null,null,null,null,null,null,2]
[3,null,null,null,null,null,null,null,null,3]
[4,null,null,null,null,null,null,null,null,4]
[5,null,null,null,null,null,null,null,null,5]
[6,null,null,null,null,null,null,null,null,6]
["Total 1ère distance",null,null,null,null,null,null,null,null,"Total 2ème distance"]
["Report 2ème distance +",null,null,null,null,null,null,null,null,"Marqueur",null,null,null,"Archer"]
["Total général ="]
[]
[]
[]
[]
[]
[{"$f":"Feuil1!D5","v":"Cie La Flèche Macairoise"},null,null,null,null,null,null,null,null,{"$f":"Feuil1!D6","v":"2ème étape Challenge CHAIRMARTIN"}]
[]
[{"$f":"Feuil1!D7","v":"2023-01-14"}]

{"sheet":"3B","index":21,"n_rows":23,"n_cols":17,"rows_kept":23,"cut":false,"hidden":false,"merged":[[20,0,21,8],[20,9,21,16],[22,0,22,16],[4,15,5,15],[4,16,5,16],[12,0,12,4],[12,9,12,13],[15,9,17,12],[15,13,17,16],[13,0,13,4],[13,9,14,12],[13,13,14,16],[14,0,14,4],[4,14,5,14],[3,11,3,13],[4,0,5,0],[4,1,4,3],[4,4,5,4],[4,5,5,5],[4,6,5,6],[4,7,5,7],[4,9,5,9],[4,10,4,12],[4,13,5,13],[3,9,3,10],[0,1,0,3],[0,6,0,8],[1,1,1,3],[3,0,3,1],[3,2,3,3]]}
["Nom",{"$f":"VLOOKUP(F2,Liste!B:K,2,FALSE)","v":{"$error":"#N/A"}},null,null,"Classement",null,{"$f":"VLOOKUP(F2,Liste!B:K,5,FALSE)","v":{"$error":"#N/A"}}]
["Club",{"$f":"VLOOKUP(F2,Liste!B:K,3,FALSE)","v":{"$error":"#N/A"}},null,null,"N° cible",{"$f":"Feuil1!D12","v":"3B"}]
[]
["1er tir",null,"N° licence",null,{"$f":"VLOOKUP(F2,Liste!B:K,4,FALSE)","v":{"$error":"#N/A"}},null,null,null,null,"2ème tir"]
["Volée","Nombre de points par flèches",null,null,"Total 3 flèches","Total cumulé",10,9,null,"Volée","Nombre de points par flèches",null,null,"Total 3 flèches","Total cumulé",10,9]
[null,1,2,3,null,null,null,null,null,null,1,2,3]
[1,null,null,null,null,null,null,null,null,1]
[2,null,null,null,null,null,null,null,null,2]
[3,null,null,null,null,null,null,null,null,3]
[4,null,null,null,null,null,null,null,null,4]
[5,null,null,null,null,null,null,null,null,5]
[6,null,null,null,null,null,null,null,null,6]
["Total 1ère distance",null,null,null,null,null,null,null,null,"Total 2ème distance"]
["Report 2ème distance +",null,null,null,null,null,null,null,null,"Marqueur",null,null,null,"Archer"]
["Total général ="]
[]
[]
[]
[]
[]
[{"$f":"Feuil1!D5","v":"Cie La Flèche Macairoise"},null,null,null,null,null,null,null,null,{"$f":"Feuil1!D6","v":"2ème étape Challenge CHAIRMARTIN"}]
[]
[{"$f":"Feuil1!D7","v":"2023-01-14"}]

{"sheet":"3C","index":22,"n_rows":23,"n_cols":17,"rows_kept":23,"cut":false,"hidden":false,"merged":[[20,0,21,8],[20,9,21,16],[22,0,22,16],[4,15,5,15],[4,16,5,16],[12,0,12,4],[12,9,12,13],[15,9,17,12],[15,13,17,16],[13,0,13,4],[13,9,14,12],[13,13,14,16],[14,0,14,4],[4,14,5,14],[3,11,3,13],[4,0,5,0],[4,1,4,3],[4,4,5,4],[4,5,5,5],[4,6,5,6],[4,7,5,7],[4,9,5,9],[4,10,4,12],[4,13,5,13],[3,9,3,10],[0,1,0,3],[0,6,0,8],[1,1,1,3],[3,0,3,1],[3,2,3,3]]}
["Nom",{"$f":"VLOOKUP(F2,Liste!B:K,2,FALSE)","v":{"$error":"#N/A"}},null,null,"Classement",null,{"$f":"VLOOKUP(F2,Liste!B:K,5,FALSE)","v":{"$error":"#N/A"}}]
["Club",{"$f":"VLOOKUP(F2,Liste!B:K,3,FALSE)","v":{"$error":"#N/A"}},null,null,"N° cible",{"$f":"Feuil1!D13","v":"3C"}]
[]
["1er tir",null,"N° licence",null,{"$f":"VLOOKUP(F2,Liste!B:K,4,FALSE)","v":{"$error":"#N/A"}},null,null,null,null,"2ème tir"]
["Volée","Nombre de points par flèches",null,null,"Total 3 flèches","Total cumulé",10,9,null,"Volée","Nombre de points par flèches",null,null,"Total 3 flèches","Total cumulé",10,9]
[null,1,2,3,null,null,null,null,null,null,1,2,3]
[1,null,null,null,null,null,null,null,null,1]
[2,null,null,null,null,null,null,null,null,2]
[3,null,null,null,null,null,null,null,null,3]
[4,null,null,null,null,null,null,null,null,4]
[5,null,null,null,null,null,null,null,null,5]
[6,null,null,null,null,null,null,null,null,6]
["Total 1ère distance",null,null,null,null,null,null,null,null,"Total 2ème distance"]
["Report 2ème distance +",null,null,null,null,null,null,null,null,"Marqueur",null,null,null,"Archer"]
["Total général ="]
[]
[]
[]
[]
[]
[{"$f":"Feuil1!D5","v":"Cie La Flèche Macairoise"},null,null,null,null,null,null,null,null,{"$f":"Feuil1!D6","v":"2ème étape Challenge CHAIRMARTIN"}]
[]
[{"$f":"Feuil1!D7","v":"2023-01-14"}]

{"sheet":"3D","index":23,"n_rows":23,"n_cols":17,"rows_kept":23,"cut":false,"hidden":false,"merged":[[20,0,21,8],[20,9,21,16],[22,0,22,16],[4,15,5,15],[4,16,5,16],[12,0,12,4],[12,9,12,13],[15,9,17,12],[15,13,17,16],[13,0,13,4],[13,9,14,12],[13,13,14,16],[14,0,14,4],[4,14,5,14],[3,11,3,13],[4,0,5,0],[4,1,4,3],[4,4,5,4],[4,5,5,5],[4,6,5,6],[4,7,5,7],[4,9,5,9],[4,10,4,12],[4,13,5,13],[3,9,3,10],[0,1,0,3],[0,6,0,8],[1,1,1,3],[3,0,3,1],[3,2,3,3]]}
["Nom",{"$f":"VLOOKUP(F2,Liste!B:K,2,FALSE)","v":{"$error":"#N/A"}},null,null,"Classement",null,{"$f":"VLOOKUP(F2,Liste!B:K,5,FALSE)","v":{"$error":"#N/A"}}]
["Club",{"$f":"VLOOKUP(F2,Liste!B:K,3,FALSE)","v":{"$error":"#N/A"}},null,null,"N° cible",{"$f":"Feuil1!D14","v":"3D"}]
[]
["1er tir",null,"N° licence",null,{"$f":"VLOOKUP(F2,Liste!B:K,4,FALSE)","v":{"$error":"#N/A"}},null,null,null,null,"2ème tir"]
["Volée","Nombre de points par flèches",null,null,"Total 3 flèches","Total cumulé",10,9,null,"Volée","Nombre de points par flèches",null,null,"Total 3 flèches","Total cumulé",10,9]
[null,1,2,3,null,null,null,null,null,null,1,2,3]
[1,null,null,null,null,null,null,null,null,1]
[2,null,null,null,null,null,null,null,null,2]
[3,null,null,null,null,null,null,null,null,3]
[4,null,null,null,null,null,null,null,null,4]
[5,null,null,null,null,null,null,null,null,5]
[6,null,null,null,null,null,null,null,null,6]
["Total 1ère distance",null,null,null,null,null,null,null,null,"Total 2ème distance"]
["Report 2ème distance +",null,null,null,null,null,null,null,null,"Marqueur",null,null,null,"Archer"]
["Total général ="]
[]
[]
[]
[]
[]
[{"$f":"Feuil1!D5","v":"Cie La Flèche Macairoise"},null,null,null,null,null,null,null,null,{"$f":"Feuil1!D6","v":"2ème étape Challenge CHAIRMARTIN"}]
[]
[{"$f":"Feuil1!D7","v":"2023-01-14"}]

{"sheet":"3E","index":24,"n_rows":23,"n_cols":17,"rows_kept":23,"cut":false,"hidden":false,"merged":[[20,0,21,8],[20,9,21,16],[22,0,22,16],[4,15,5,15],[4,16,5,16],[12,0,12,4],[12,9,12,13],[15,9,17,12],[15,13,17,16],[13,0,13,4],[13,9,14,12],[13,13,14,16],[14,0,14,4],[4,14,5,14],[3,11,3,13],[4,0,5,0],[4,1,4,3],[4,4,5,4],[4,5,5,5],[4,6,5,6],[4,7,5,7],[4,9,5,9],[4,10,4,12],[4,13,5,13],[3,9,3,10],[0,1,0,3],[0,6,0,8],[1,1,1,3],[3,0,3,1],[3,2,3,3]]}
["Nom",{"$f":"VLOOKUP(F2,Liste!B:K,2,FALSE)","v":{"$error":"#N/A"}},null,null,"Classement",null,{"$f":"VLOOKUP(F2,Liste!B:K,5,FALSE)","v":{"$error":"#N/A"}}]
["Club",{"$f":"VLOOKUP(F2,Liste!B:K,3,FALSE)","v":{"$error":"#N/A"}},null,null,"N° cible",{"$f":"Feuil1!D15","v":"3E"}]
[]
["1er tir",null,"N° licence",null,{"$f":"VLOOKUP(F2,Liste!B:K,4,FALSE)","v":{"$error":"#N/A"}},null,null,null,null,"2ème tir"]
["Volée","Nombre de points par flèches",null,null,"Total 3 flèches","Total cumulé",10,9,null,"Volée","Nombre de points par flèches",null,null,"Total 3 flèches","Total cumulé",10,9]
[null,1,2,3,null,null,null,null,null,null,1,2,3]
[1,null,null,null,null,null,null,null,null,1]
[2,null,null,null,null,null,null,null,null,2]
[3,null,null,null,null,null,null,null,null,3]
[4,null,null,null,null,null,null,null,null,4]
[5,null,null,null,null,null,null,null,null,5]
[6,null,null,null,null,null,null,null,null,6]
["Total 1ère distance",null,null,null,null,null,null,null,null,"Total 2ème distance"]
["Report 2ème distance +",null,null,null,null,null,null,null,null,"Marqueur",null,null,null,"Archer"]
["Total général ="]
[]
[]
[]
[]
[]
[{"$f":"Feuil1!D5","v":"Cie La Flèche Macairoise"},null,null,null,null,null,null,null,null,{"$f":"Feuil1!D6","v":"2ème étape Challenge CHAIRMARTIN"}]
[]
[{"$f":"Feuil1!D7","v":"2023-01-14"}]

{"sheet":"3F","index":25,"n_rows":23,"n_cols":17,"rows_kept":23,"cut":false,"hidden":false,"merged":[[20,0,21,8],[20,9,21,16],[22,0,22,16],[4,15,5,15],[4,16,5,16],[12,0,12,4],[12,9,12,13],[15,9,17,12],[15,13,17,16],[13,0,13,4],[13,9,14,12],[13,13,14,16],[14,0,14,4],[4,14,5,14],[3,11,3,13],[4,0,5,0],[4,1,4,3],[4,4,5,4],[4,5,5,5],[4,6,5,6],[4,7,5,7],[4,9,5,9],[4,10,4,12],[4,13,5,13],[3,9,3,10],[0,1,0,3],[0,6,0,8],[1,1,1,3],[3,0,3,1],[3,2,3,3]]}
["Nom",{"$f":"VLOOKUP(F2,Liste!B:K,2,FALSE)","v":{"$error":"#N/A"}},null,null,"Classement",null,{"$f":"VLOOKUP(F2,Liste!B:K,5,FALSE)","v":{"$error":"#N/A"}}]
["Club",{"$f":"VLOOKUP(F2,Liste!B:K,3,FALSE)","v":{"$error":"#N/A"}},null,null,"N° cible",{"$f":"Feuil1!D16","v":"3F"}]
[]
["1er tir",null,"N° licence",null,{"$f":"VLOOKUP(F2,Liste!B:K,4,FALSE)","v":{"$error":"#N/A"}},null,null,null,null,"2ème tir"]
["Volée","Nombre de points par flèches",null,null,"Total 3 flèches","Total cumulé",10,9,null,"Volée","Nombre de points par flèches",null,null,"Total 3 flèches","Total cumulé",10,9]
[null,1,2,3,null,null,null,null,null,null,1,2,3]
[1,null,null,null,null,null,null,null,null,1]
[2,null,null,null,null,null,null,null,null,2]
[3,null,null,null,null,null,null,null,null,3]
[4,null,null,null,null,null,null,null,null,4]
[5,null,null,null,null,null,null,null,null,5]
[6,null,null,null,null,null,null,null,null,6]
["Total 1ère distance",null,null,null,null,null,null,null,null,"Total 2ème distance"]
["Report 2ème distance +",null,null,null,null,null,null,null,null,"Marqueur",null,null,null,"Archer"]
["Total général ="]
[]
[]
[]
[]
[]
[{"$f":"Feuil1!D5","v":"Cie La Flèche Macairoise"},null,null,null,null,null,null,null,null,{"$f":"Feuil1!D6","v":"2ème étape Challenge CHAIRMARTIN"}]
[]
[{"$f":"Feuil1!D7","v":"2023-01-14"}]

{"sheet":"3G","index":26,"n_rows":23,"n_cols":17,"rows_kept":23,"cut":false,"hidden":false,"merged":[[20,0,21,8],[20,9,21,16],[22,0,22,16],[4,15,5,15],[4,16,5,16],[12,0,12,4],[12,9,12,13],[15,9,17,12],[15,13,17,16],[13,0,13,4],[13,9,14,12],[13,13,14,16],[14,0,14,4],[4,14,5,14],[3,11,3,13],[4,0,5,0],[4,1,4,3],[4,4,5,4],[4,5,5,5],[4,6,5,6],[4,7,5,7],[4,9,5,9],[4,10,4,12],[4,13,5,13],[3,9,3,10],[0,1,0,3],[0,6,0,8],[1,1,1,3],[3,0,3,1],[3,2,3,3]]}
["Nom",{"$f":"VLOOKUP(F2,Liste!B:K,2,FALSE)","v":{"$error":"#N/A"}},null,null,"Classement",null,{"$f":"VLOOKUP(F2,Liste!B:K,5,FALSE)","v":{"$error":"#N/A"}}]
["Club",{"$f":"VLOOKUP(F2,Liste!B:K,3,FALSE)","v":{"$error":"#N/A"}},null,null,"N° cible",{"$f":"Feuil1!D17","v":"3G"}]
[]
["1er tir",null,"N° licence",null,{"$f":"VLOOKUP(F2,Liste!B:K,4,FALSE)","v":{"$error":"#N/A"}},null,null,null,null,"2ème tir"]
["Volée","Nombre de points par flèches",null,null,"Total 3 flèches","Total cumulé",10,9,null,"Volée","Nombre de points par flèches",null,null,"Total 3 flèches","Total cumulé",10,9]
[null,1,2,3,null,null,null,null,null,null,1,2,3]
[1,null,null,null,null,null,null,null,null,1]
[2,null,null,null,null,null,null,null,null,2]
[3,null,null,null,null,null,null,null,null,3]
[4,null,null,null,null,null,null,null,null,4]
[5,null,null,null,null,null,null,null,null,5]
[6,null,null,null,null,null,null,null,null,6]
["Total 1ère distance",null,null,null,null,null,null,null,null,"Total 2ème distance"]
["Report 2ème distance +",null,null,null,null,null,null,null,null,"Marqueur",null,null,null,"Archer"]
["Total général ="]
[]
[]
[]
[]
[]
[{"$f":"Feuil1!D5","v":"Cie La Flèche Macairoise"},null,null,null,null,null,null,null,null,{"$f":"Feuil1!D6","v":"2ème étape Challenge CHAIRMARTIN"}]
[]
[{"$f":"Feuil1!D7","v":"2023-01-14"}]

{"sheet":"3H","index":27,"n_rows":23,"n_cols":17,"rows_kept":23,"cut":false,"hidden":false,"merged":[[20,0,21,8],[20,9,21,16],[22,0,22,16],[4,15,5,15],[4,16,5,16],[12,0,12,4],[12,9,12,13],[15,9,17,12],[15,13,17,16],[13,0,13,4],[13,9,14,12],[13,13,14,16],[14,0,14,4],[4,14,5,14],[3,11,3,13],[4,0,5,0],[4,1,4,3],[4,4,5,4],[4,5,5,5],[4,6,5,6],[4,7,5,7],[4,9,5,9],[4,10,4,12],[4,13,5,13],[3,9,3,10],[0,1,0,3],[0,6,0,8],[1,1,1,3],[3,0,3,1],[3,2,3,3]]}
["Nom",{"$f":"VLOOKUP(F2,Liste!B:K,2,FALSE)","v":{"$error":"#N/A"}},null,null,"Classement",null,{"$f":"VLOOKUP(F2,Liste!B:K,5,FALSE)","v":{"$error":"#N/A"}}]
["Club",{"$f":"VLOOKUP(F2,Liste!B:K,3,FALSE)","v":{"$error":"#N/A"}},null,null,"N° cible",{"$f":"Feuil1!D18","v":"3H"}]
[]
["1er tir",null,"N° licence",null,{"$f":"VLOOKUP(F2,Liste!B:K,4,FALSE)","v":{"$error":"#N/A"}},null,null,null,null,"2ème tir"]
["Volée","Nombre de points par flèches",null,null,"Total 3 flèches","Total cumulé",10,9,null,"Volée","Nombre de points par flèches",null,null,"Total 3 flèches","Total cumulé",10,9]
[null,1,2,3,null,null,null,null,null,null,1,2,3]
[1,null,null,null,null,null,null,null,null,1]
[2,null,null,null,null,null,null,null,null,2]
[3,null,null,null,null,null,null,null,null,3]
[4,null,null,null,null,null,null,null,null,4]
[5,null,null,null,null,null,null,null,null,5]
[6,null,null,null,null,null,null,null,null,6]
["Total 1ère distance",null,null,null,null,null,null,null,null,"Total 2ème distance"]
["Report 2ème distance +",null,null,null,null,null,null,null,null,"Marqueur",null,null,null,"Archer"]
["Total général ="]
[]
[]
[]
[]
[]
[{"$f":"Feuil1!D5","v":"Cie La Flèche Macairoise"},null,null,null,null,null,null,null,null,{"$f":"Feuil1!D6","v":"2ème étape Challenge CHAIRMARTIN"}]
[]
[{"$f":"Feuil1!D7","v":"2023-01-14"}]

{"sheet":"4A","index":28,"n_rows":23,"n_cols":17,"rows_kept":23,"cut":false,"hidden":false,"merged":[[20,0,21,8],[20,9,21,16],[22,0,22,16],[4,15,5,15],[4,16,5,16],[12,0,12,4],[12,9,12,13],[15,9,17,12],[15,13,17,16],[13,0,13,4],[13,9,14,12],[13,13,14,16],[14,0,14,4],[4,14,5,14],[3,11,3,13],[4,0,5,0],[4,1,4,3],[4,4,5,4],[4,5,5,5],[4,6,5,6],[4,7,5,7],[4,9,5,9],[4,10,4,12],[4,13,5,13],[3,9,3,10],[0,1,0,3],[0,6,0,8],[1,1,1,3],[3,0,3,1],[3,2,3,3]]}
["Nom",{"$f":"VLOOKUP(F2,Liste!B:K,2,FALSE)","v":{"$error":"#N/A"}},null,null,"Classement",null,{"$f":"VLOOKUP(F2,Liste!B:K,5,FALSE)","v":{"$error":"#N/A"}}]
["Club",{"$f":"VLOOKUP(F2,Liste!B:K,3,FALSE)","v":{"$error":"#N/A"}},null,null,"N° cible",{"$f":"Feuil1!D19","v":"4A"}]
[]
["1er tir",null,"N° licence",null,{"$f":"VLOOKUP(F2,Liste!B:K,4,FALSE)","v":{"$error":"#N/A"}},null,null,null,null,"2ème tir"]
["Volée","Nombre de points par flèches",null,null,"Total 3 flèches","Total cumulé",10,9,null,"Volée","Nombre de points par flèches",null,null,"Total 3 flèches","Total cumulé",10,9]
[null,1,2,3,null,null,null,null,null,null,1,2,3]
[1,null,null,null,null,null,null,null,null,1]
[2,null,null,null,null,null,null,null,null,2]
[3,null,null,null,null,null,null,null,null,3]
[4,null,null,null,null,null,null,null,null,4]
[5,null,null,null,null,null,null,null,null,5]
[6,null,null,null,null,null,null,null,null,6]
["Total 1ère distance",null,null,null,null,null,null,null,null,"Total 2ème distance"]
["Report 2ème distance +",null,null,null,null,null,null,null,null,"Marqueur",null,null,null,"Archer"]
["Total général ="]
[]
[]
[]
[]
[]
[{"$f":"Feuil1!D5","v":"Cie La Flèche Macairoise"},null,null,null,null,null,null,null,null,{"$f":"Feuil1!D6","v":"2ème étape Challenge CHAIRMARTIN"}]
[]
[{"$f":"Feuil1!D7","v":"2023-01-14"}]

{"sheet":"4B","index":29,"n_rows":23,"n_cols":17,"rows_kept":23,"cut":false,"hidden":false,"merged":[[20,0,21,8],[20,9,21,16],[22,0,22,16],[4,15,5,15],[4,16,5,16],[12,0,12,4],[12,9,12,13],[15,9,17,12],[15,13,17,16],[13,0,13,4],[13,9,14,12],[13,13,14,16],[14,0,14,4],[4,14,5,14],[3,11,3,13],[4,0,5,0],[4,1,4,3],[4,4,5,4],[4,5,5,5],[4,6,5,6],[4,7,5,7],[4,9,5,9],[4,10,4,12],[4,13,5,13],[3,9,3,10],[0,1,0,3],[0,6,0,8],[1,1,1,3],[3,0,3,1],[3,2,3,3]]}
["Nom",{"$f":"VLOOKUP(F2,Liste!B:K,2,FALSE)","v":{"$error":"#N/A"}},null,null,"Classement",null,{"$f":"VLOOKUP(F2,Liste!B:K,5,FALSE)","v":{"$error":"#N/A"}}]
["Club",{"$f":"VLOOKUP(F2,Liste!B:K,3,FALSE)","v":{"$error":"#N/A"}},null,null,"N° cible",{"$f":"Feuil1!D20","v":"4B"}]
[]
["1er tir",null,"N° licence",null,{"$f":"VLOOKUP(F2,Liste!B:K,4,FALSE)","v":{"$error":"#N/A"}},null,null,null,null,"2ème tir"]
["Volée","Nombre de points par flèches",null,null,"Total 3 flèches","Total cumulé",10,9,null,"Volée","Nombre de points par flèches",null,null,"Total 3 flèches","Total cumulé",10,9]
[null,1,2,3,null,null,null,null,null,null,1,2,3]
[1,null,null,null,null,null,null,null,null,1]
[2,null,null,null,null,null,null,null,null,2]
[3,null,null,null,null,null,null,null,null,3]
[4,null,null,null,null,null,null,null,null,4]
[5,null,null,null,null,null,null,null,null,5]
[6,null,null,null,null,null,null,null,null,6]
["Total 1ère distance",null,null,null,null,null,null,null,null,"Total 2ème distance"]
["Report 2ème distance +",null,null,null,null,null,null,null,null,"Marqueur",null,null,null,"Archer"]
["Total général ="]
[]
[]
[]
[]
[]
[{"$f":"Feuil1!D5","v":"Cie La Flèche Macairoise"},null,null,null,null,null,null,null,null,{"$f":"Feuil1!D6","v":"2ème étape Challenge CHAIRMARTIN"}]
[]
[{"$f":"Feuil1!D7","v":"2023-01-14"}]

{"sheet":"4C","index":30,"n_rows":23,"n_cols":17,"rows_kept":23,"cut":false,"hidden":false,"merged":[[20,0,21,8],[20,9,21,16],[22,0,22,16],[4,15,5,15],[4,16,5,16],[12,0,12,4],[12,9,12,13],[15,9,17,12],[15,13,17,16],[13,0,13,4],[13,9,14,12],[13,13,14,16],[14,0,14,4],[4,14,5,14],[3,11,3,13],[4,0,5,0],[4,1,4,3],[4,4,5,4],[4,5,5,5],[4,6,5,6],[4,7,5,7],[4,9,5,9],[4,10,4,12],[4,13,5,13],[3,9,3,10],[0,1,0,3],[0,6,0,8],[1,1,1,3],[3,0,3,1],[3,2,3,3]]}
["Nom",{"$f":"VLOOKUP(F2,Liste!B:K,2,FALSE)","v":{"$error":"#N/A"}},null,null,"Classement",null,{"$f":"VLOOKUP(F2,Liste!B:K,5,FALSE)","v":{"$error":"#N/A"}}]
["Club",{"$f":"VLOOKUP(F2,Liste!B:K,3,FALSE)","v":{"$error":"#N/A"}},null,null,"N° cible",{"$f":"Feuil1!D21","v":"4C"}]
[]
["1er tir",null,"N° licence",null,{"$f":"VLOOKUP(F2,Liste!B:K,4,FALSE)","v":{"$error":"#N/A"}},null,null,null,null,"2ème tir"]
["Volée","Nombre de points par flèches",null,null,"Total 3 flèches","Total cumulé",10,9,null,"Volée","Nombre de points par flèches",null,null,"Total 3 flèches","Total cumulé",10,9]
[null,1,2,3,null,null,null,null,null,null,1,2,3]
[1,null,null,null,null,null,null,null,null,1]
[2,null,null,null,null,null,null,null,null,2]
[3,null,null,null,null,null,null,null,null,3]
[4,null,null,null,null,null,null,null,null,4]
[5,null,null,null,null,null,null,null,null,5]
[6,null,null,null,null,null,null,null,null,6]
["Total 1ère distance",null,null,null,null,null,null,null,null,"Total 2ème distance"]
["Report 2ème distance +",null,null,null,null,null,null,null,null,"Marqueur",null,null,null,"Archer"]
["Total général ="]
[]
[]
[]
[]
[]
[{"$f":"Feuil1!D5","v":"Cie La Flèche Macairoise"},null,null,null,null,null,null,null,null,{"$f":"Feuil1!D6","v":"2ème étape Challenge CHAIRMARTIN"}]
[]
[{"$f":"Feuil1!D7","v":"2023-01-14"}]

{"sheet":"4D","index":31,"n_rows":23,"n_cols":17,"rows_kept":23,"cut":false,"hidden":false,"merged":[[20,0,21,8],[20,9,21,16],[22,0,22,16],[4,15,5,15],[4,16,5,16],[12,0,12,4],[12,9,12,13],[15,9,17,12],[15,13,17,16],[13,0,13,4],[13,9,14,12],[13,13,14,16],[14,0,14,4],[4,14,5,14],[3,11,3,13],[4,0,5,0],[4,1,4,3],[4,4,5,4],[4,5,5,5],[4,6,5,6],[4,7,5,7],[4,9,5,9],[4,10,4,12],[4,13,5,13],[3,9,3,10],[0,1,0,3],[0,6,0,8],[1,1,1,3],[3,0,3,1],[3,2,3,3]]}
["Nom",{"$f":"VLOOKUP(F2,Liste!B:K,2,FALSE)","v":{"$error":"#N/A"}},null,null,"Classement",null,{"$f":"VLOOKUP(F2,Liste!B:K,5,FALSE)","v":{"$error":"#N/A"}}]
["Club",{"$f":"VLOOKUP(F2,Liste!B:K,3,FALSE)","v":{"$error":"#N/A"}},null,null,"N° cible",{"$f":"Feuil1!D22","v":"4D"}]
[]
["1er tir",null,"N° licence",null,{"$f":"VLOOKUP(F2,Liste!B:K,4,FALSE)","v":{"$error":"#N/A"}},null,null,null,null,"2ème tir"]
["Volée","Nombre de points par flèches",null,null,"Total 3 flèches","Total cumulé",10,9,null,"Volée","Nombre de points par flèches",null,null,"Total 3 flèches","Total cumulé",10,9]
[null,1,2,3,null,null,null,null,null,null,1,2,3]
[1,null,null,null,null,null,null,null,null,1]
[2,null,null,null,null,null,null,null,null,2]
[3,null,null,null,null,null,null,null,null,3]
[4,null,null,null,null,null,null,null,null,4]
[5,null,null,null,null,null,null,null,null,5]
[6,null,null,null,null,null,null,null,null,6]
["Total 1ère distance",null,null,null,null,null,null,null,null,"Total 2ème distance"]
["Report 2ème distance +",null,null,null,null,null,null,null,null,"Marqueur",null,null,null,"Archer"]
["Total général ="]
[]
[]
[]
[]
[]
[{"$f":"Feuil1!D5","v":"Cie La Flèche Macairoise"},null,null,null,null,null,null,null,null,{"$f":"Feuil1!D6","v":"2ème étape Challenge CHAIRMARTIN"}]
[]
[{"$f":"Feuil1!D7","v":"2023-01-14"}]

{"sheet":"4E","index":32,"n_rows":23,"n_cols":17,"rows_kept":23,"cut":false,"hidden":false,"merged":[[20,0,21,8],[20,9,21,16],[22,0,22,16],[4,15,5,15],[4,16,5,16],[12,0,12,4],[12,9,12,13],[15,9,17,12],[15,13,17,16],[13,0,13,4],[13,9,14,12],[13,13,14,16],[14,0,14,4],[4,14,5,14],[3,11,3,13],[4,0,5,0],[4,1,4,3],[4,4,5,4],[4,5,5,5],[4,6,5,6],[4,7,5,7],[4,9,5,9],[4,10,4,12],[4,13,5,13],[3,9,3,10],[0,1,0,3],[0,6,0,8],[1,1,1,3],[3,0,3,1],[3,2,3,3]]}
["Nom",{"$f":"VLOOKUP(F2,Liste!B:K,2,FALSE)","v":{"$error":"#N/A"}},null,null,"Classement",null,{"$f":"VLOOKUP(F2,Liste!B:K,5,FALSE)","v":{"$error":"#N/A"}}]
["Club",{"$f":"VLOOKUP(F2,Liste!B:K,3,FALSE)","v":{"$error":"#N/A"}},null,null,"N° cible",{"$f":"Feuil1!D23","v":"4E"}]
[]
["1er tir",null,"N° licence",null,{"$f":"VLOOKUP(F2,Liste!B:K,4,FALSE)","v":{"$error":"#N/A"}},null,null,null,null,"2ème tir"]
["Volée","Nombre de points par flèches",null,null,"Total 3 flèches","Total cumulé",10,9,null,"Volée","Nombre de points par flèches",null,null,"Total 3 flèches","Total cumulé",10,9]
[null,1,2,3,null,null,null,null,null,null,1,2,3]
[1,null,null,null,null,null,null,null,null,1]
[2,null,null,null,null,null,null,null,null,2]
[3,null,null,null,null,null,null,null,null,3]
[4,null,null,null,null,null,null,null,null,4]
[5,null,null,null,null,null,null,null,null,5]
[6,null,null,null,null,null,null,null,null,6]
["Total 1ère distance",null,null,null,null,null,null,null,null,"Total 2ème distance"]
["Report 2ème distance +",null,null,null,null,null,null,null,null,"Marqueur",null,null,null,"Archer"]
["Total général ="]
[]
[]
[]
[]
[]
[{"$f":"Feuil1!D5","v":"Cie La Flèche Macairoise"},null,null,null,null,null,null,null,null,{"$f":"Feuil1!D6","v":"2ème étape Challenge CHAIRMARTIN"}]
[]
[{"$f":"Feuil1!D7","v":"2023-01-14"}]

{"sheet":"4F","index":33,"n_rows":23,"n_cols":17,"rows_kept":23,"cut":false,"hidden":false,"merged":[[20,0,21,8],[20,9,21,16],[22,0,22,16],[4,15,5,15],[4,16,5,16],[12,0,12,4],[12,9,12,13],[15,9,17,12],[15,13,17,16],[13,0,13,4],[13,9,14,12],[13,13,14,16],[14,0,14,4],[4,14,5,14],[3,11,3,13],[4,0,5,0],[4,1,4,3],[4,4,5,4],[4,5,5,5],[4,6,5,6],[4,7,5,7],[4,9,5,9],[4,10,4,12],[4,13,5,13],[3,9,3,10],[0,1,0,3],[0,6,0,8],[1,1,1,3],[3,0,3,1],[3,2,3,3]]}
["Nom",{"$f":"VLOOKUP(F2,Liste!B:K,2,FALSE)","v":{"$error":"#N/A"}},null,null,"Classement",null,{"$f":"VLOOKUP(F2,Liste!B:K,5,FALSE)","v":{"$error":"#N/A"}}]
["Club",{"$f":"VLOOKUP(F2,Liste!B:K,3,FALSE)","v":{"$error":"#N/A"}},null,null,"N° cible",{"$f":"Feuil1!D24","v":"4F"}]
[]
["1er tir",null,"N° licence",null,{"$f":"VLOOKUP(F2,Liste!B:K,4,FALSE)","v":{"$error":"#N/A"}},null,null,null,null,"2ème tir"]
["Volée","Nombre de points par flèches",null,null,"Total 3 flèches","Total cumulé",10,9,null,"Volée","Nombre de points par flèches",null,null,"Total 3 flèches","Total cumulé",10,9]
[null,1,2,3,null,null,null,null,null,null,1,2,3]
[1,null,null,null,null,null,null,null,null,1]
[2,null,null,null,null,null,null,null,null,2]
[3,null,null,null,null,null,null,null,null,3]
[4,null,null,null,null,null,null,null,null,4]
[5,null,null,null,null,null,null,null,null,5]
[6,null,null,null,null,null,null,null,null,6]
["Total 1ère distance",null,null,null,null,null,null,null,null,"Total 2ème distance"]
["Report 2ème distance +",null,null,null,null,null,null,null,null,"Marqueur",null,null,null,"Archer"]
["Total général ="]
[]
[]
[]
[]
[]
[{"$f":"Feuil1!D5","v":"Cie La Flèche Macairoise"},null,null,null,null,null,null,null,null,{"$f":"Feuil1!D6","v":"2ème étape Challenge CHAIRMARTIN"}]
[]
[{"$f":"Feuil1!D7","v":"2023-01-14"}]

{"sheet":"4G","index":34,"n_rows":23,"n_cols":17,"rows_kept":23,"cut":false,"hidden":false,"merged":[[20,0,21,8],[20,9,21,16],[22,0,22,16],[4,15,5,15],[4,16,5,16],[12,0,12,4],[12,9,12,13],[15,9,17,12],[15,13,17,16],[13,0,13,4],[13,9,14,12],[13,13,14,16],[14,0,14,4],[4,14,5,14],[3,11,3,13],[4,0,5,0],[4,1,4,3],[4,4,5,4],[4,5,5,5],[4,6,5,6],[4,7,5,7],[4,9,5,9],[4,10,4,12],[4,13,5,13],[3,9,3,10],[0,1,0,3],[0,6,0,8],[1,1,1,3],[3,0,3,1],[3,2,3,3]]}
["Nom",{"$f":"VLOOKUP(F2,Liste!B:K,2,FALSE)","v":{"$error":"#N/A"}},null,null,"Classement",null,{"$f":"VLOOKUP(F2,Liste!B:K,5,FALSE)","v":{"$error":"#N/A"}}]
["Club",{"$f":"VLOOKUP(F2,Liste!B:K,3,FALSE)","v":{"$error":"#N/A"}},null,null,"N° cible",{"$f":"Feuil1!D25","v":"4G"}]
[]
["1er tir",null,"N° licence",null,{"$f":"VLOOKUP(F2,Liste!B:K,4,FALSE)","v":{"$error":"#N/A"}},null,null,null,null,"2ème tir"]
["Volée","Nombre de points par flèches",null,null,"Total 3 flèches","Total cumulé",10,9,null,"Volée","Nombre de points par flèches",null,null,"Total 3 flèches","Total cumulé",10,9]
[null,1,2,3,null,null,null,null,null,null,1,2,3]
[1,null,null,null,null,null,null,null,null,1]
[2,null,null,null,null,null,null,null,null,2]
[3,null,null,null,null,null,null,null,null,3]
[4,null,null,null,null,null,null,null,null,4]
[5,null,null,null,null,null,null,null,null,5]
[6,null,null,null,null,null,null,null,null,6]
["Total 1ère distance",null,null,null,null,null,null,null,null,"Total 2ème distance"]
["Report 2ème distance +",null,null,null,null,null,null,null,null,"Marqueur",null,null,null,"Archer"]
["Total général ="]
[]
[]
[]
[]
[]
[{"$f":"Feuil1!D5","v":"Cie La Flèche Macairoise"},null,null,null,null,null,null,null,null,{"$f":"Feuil1!D6","v":"2ème étape Challenge CHAIRMARTIN"}]
[]
[{"$f":"Feuil1!D7","v":"2023-01-14"}]

{"sheet":"4H","index":35,"n_rows":23,"n_cols":17,"rows_kept":23,"cut":false,"hidden":false,"merged":[[20,0,21,8],[20,9,21,16],[22,0,22,16],[4,15,5,15],[4,16,5,16],[12,0,12,4],[12,9,12,13],[15,9,17,12],[15,13,17,16],[13,0,13,4],[13,9,14,12],[13,13,14,16],[14,0,14,4],[4,14,5,14],[3,11,3,13],[4,0,5,0],[4,1,4,3],[4,4,5,4],[4,5,5,5],[4,6,5,6],[4,7,5,7],[4,9,5,9],[4,10,4,12],[4,13,5,13],[3,9,3,10],[0,1,0,3],[0,6,0,8],[1,1,1,3],[3,0,3,1],[3,2,3,3]]}
["Nom",{"$f":"VLOOKUP(F2,Liste!B:K,2,FALSE)","v":{"$error":"#N/A"}},null,null,"Classement",null,{"$f":"VLOOKUP(F2,Liste!B:K,5,FALSE)","v":{"$error":"#N/A"}}]
["Club",{"$f":"VLOOKUP(F2,Liste!B:K,3,FALSE)","v":{"$error":"#N/A"}},null,null,"N° cible",{"$f":"Feuil1!D26","v":"4H"}]
[]
["1er tir",null,"N° licence",null,{"$f":"VLOOKUP(F2,Liste!B:K,4,FALSE)","v":{"$error":"#N/A"}},null,null,null,null,"2ème tir"]
["Volée","Nombre de points par flèches",null,null,"Total 3 flèches","Total cumulé",10,9,null,"Volée","Nombre de points par flèches",null,null,"Total 3 flèches","Total cumulé",10,9]
[null,1,2,3,null,null,null,null,null,null,1,2,3]
[1,null,null,null,null,null,null,null,null,1]
[2,null,null,null,null,null,null,null,null,2]
[3,null,null,null,null,null,null,null,null,3]
[4,null,null,null,null,null,null,null,null,4]
[5,null,null,null,null,null,null,null,null,5]
[6,null,null,null,null,null,null,null,null,6]
["Total 1ère distance",null,null,null,null,null,null,null,null,"Total 2ème distance"]
["Report 2ème distance +",null,null,null,null,null,null,null,null,"Marqueur",null,null,null,"Archer"]
["Total général ="]
[]
[]
[]
[]
[]
[{"$f":"Feuil1!D5","v":"Cie La Flèche Macairoise"},null,null,null,null,null,null,null,null,{"$f":"Feuil1!D6","v":"2ème étape Challenge CHAIRMARTIN"}]
[]
[{"$f":"Feuil1!D7","v":"2023-01-14"}]

{"sheet":"5A","index":36,"n_rows":23,"n_cols":17,"rows_kept":23,"cut":false,"hidden":false,"merged":[[20,0,21,8],[20,9,21,16],[22,0,22,16],[4,15,5,15],[4,16,5,16],[12,0,12,4],[12,9,12,13],[15,9,17,12],[15,13,17,16],[13,0,13,4],[13,9,14,12],[13,13,14,16],[14,0,14,4],[3,11,3,13],[4,0,5,0],[4,1,4,3],[4,4,5,4],[4,5,5,5],[4,6,5,6],[4,7,5,7],[4,9,5,9],[4,10,4,12],[4,13,5,13],[3,9,3,10],[4,14,5,14],[0,1,0,3],[0,6,0,8],[1,1,1,3],[3,0,3,1],[3,2,3,3]]}
["Nom",{"$f":"VLOOKUP(F2,Liste!B:J,2,FALSE)","v":{"$error":"#N/A"}},null,null,"Classement",null,{"$f":"VLOOKUP(F2,Liste!B:J,5,FALSE)","v":{"$error":"#N/A"}}]
["Club",{"$f":"VLOOKUP(F2,Liste!B:E,3,FALSE)","v":{"$error":"#N/A"}},null,null,"N° cible",{"$f":"Feuil1!F11","v":"5A"}]
[]
["1er tir",null,"N° licence",null,{"$f":"VLOOKUP(F2,Liste!B:E,4,FALSE)","v":{"$error":"#N/A"}},null,null,null,null,"2ème tir"]
["Volée","Nombre de points par flèches",null,null,"Total 3 flèches","Total cumulé",10,9,null,"Volée","Nombre de points par flèches",null,null,"Total 3 flèches","Total cumulé",10,9]
[null,1,2,3,null,null,null,null,null,null,1,2,3]
[1,null,null,null,null,null,null,null,null,1]
[2,null,null,null,null,null,null,null,null,2]
[3,null,null,null,null,null,null,null,null,3]
[4,null,null,null,null,null,null,null,null,4]
[5,null,null,null,null,null,null,null,null,5]
[6,null,null,null,null,null,null,null,null,6]
["Total 1ère distance",null,null,null,null,null,null,null,null,"Total 2ème distance"]
["Report 2ème distance +",null,null,null,null,null,null,null,null,"Marqueur",null,null,null,"Archer"]
["Total général ="]
[]
[]
[]
[]
[]
[{"$f":"Feuil1!D5","v":"Cie La Flèche Macairoise"},null,null,null,null,null,null,null,null,{"$f":"Feuil1!D6","v":"2ème étape Challenge CHAIRMARTIN"}]
[]
[{"$f":"Feuil1!D7","v":"2023-01-14"}]

{"sheet":"5B","index":37,"n_rows":23,"n_cols":17,"rows_kept":23,"cut":false,"hidden":false,"merged":[[20,0,21,8],[20,9,21,16],[22,0,22,16],[4,15,5,15],[4,16,5,16],[12,0,12,4],[12,9,12,13],[15,9,17,12],[15,13,17,16],[13,0,13,4],[13,9,14,12],[13,13,14,16],[14,0,14,4],[3,11,3,13],[4,0,5,0],[4,1,4,3],[4,4,5,4],[4,5,5,5],[4,6,5,6],[4,7,5,7],[4,9,5,9],[4,10,4,12],[4,13,5,13],[3,9,3,10],[4,14,5,14],[0,1,0,3],[0,6,0,8],[1,1,1,3],[3,0,3,1],[3,2,3,3]]}
["Nom",{"$f":"VLOOKUP(F2,Liste!B:C,2,FALSE)","v":{"$error":"#N/A"}},null,null,"Classement",null,{"$f":"VLOOKUP(F2,Liste!B:J,5,FALSE)","v":{"$error":"#N/A"}}]
["Club",{"$f":"VLOOKUP(F2,Liste!B:E,3,FALSE)","v":{"$error":"#N/A"}},null,null,"N° cible",{"$f":"Feuil1!F12","v":"5B"}]
[]
["1er tir",null,"N° licence",null,{"$f":"VLOOKUP(F2,Liste!B:J,4,FALSE)","v":{"$error":"#N/A"}},null,null,null,null,"2ème tir"]
["Volée","Nombre de points par flèches",null,null,"Total 3 flèches","Total cumulé",10,9,null,"Volée","Nombre de points par flèches",null,null,"Total 3 flèches","Total cumulé",10,9]
[null,1,2,3,null,null,null,null,null,null,1,2,3]
[1,null,null,null,null,null,null,null,null,1]
[2,null,null,null,null,null,null,null,null,2]
[3,null,null,null,null,null,null,null,null,3]
[4,null,null,null,null,null,null,null,null,4]
[5,null,null,null,null,null,null,null,null,5]
[6,null,null,null,null,null,null,null,null,6]
["Total 1ère distance",null,null,null,null,null,null,null,null,"Total 2ème distance"]
["Report 2ème distance +",null,null,null,null,null,null,null,null,"Marqueur",null,null,null,"Archer"]
["Total général ="]
[]
[]
[]
[]
[]
[{"$f":"Feuil1!D5","v":"Cie La Flèche Macairoise"},null,null,null,null,null,null,null,null,{"$f":"Feuil1!D6","v":"2ème étape Challenge CHAIRMARTIN"}]
[]
[{"$f":"Feuil1!D7","v":"2023-01-14"}]

{"sheet":"5C","index":38,"n_rows":23,"n_cols":17,"rows_kept":23,"cut":false,"hidden":false,"merged":[[20,0,21,8],[20,9,21,16],[22,0,22,16],[4,15,5,15],[4,16,5,16],[12,0,12,4],[12,9,12,13],[15,9,17,12],[15,13,17,16],[13,0,13,4],[13,9,14,12],[13,13,14,16],[14,0,14,4],[3,11,3,13],[4,0,5,0],[4,1,4,3],[4,4,5,4],[4,5,5,5],[4,6,5,6],[4,7,5,7],[4,9,5,9],[4,10,4,12],[4,13,5,13],[3,9,3,10],[4,14,5,14],[0,1,0,3],[0,6,0,8],[1,1,1,3],[3,0,3,1],[3,2,3,3]]}
["Nom",{"$f":"VLOOKUP(F2,Liste!B:C,2,FALSE)","v":{"$error":"#N/A"}},null,null,"Classement",null,{"$f":"VLOOKUP(F2,Liste!B:J,5,FALSE)","v":{"$error":"#N/A"}}]
["Club",{"$f":"VLOOKUP(F2,Liste!B:E,3,FALSE)","v":{"$error":"#N/A"}},null,null,"N° cible",{"$f":"Feuil1!F13","v":"5C"}]
[]
["1er tir",null,"N° licence",null,{"$f":"VLOOKUP(F2,Liste!B:E,4,FALSE)","v":{"$error":"#N/A"}},null,null,null,null,"2ème tir"]
["Volée","Nombre de points par flèches",null,null,"Total 3 flèches","Total cumulé",10,9,null,"Volée","Nombre de points par flèches",null,null,"Total 3 flèches","Total cumulé",10,9]
[null,1,2,3,null,null,null,null,null,null,1,2,3]
[1,null,null,null,null,null,null,null,null,1]
[2,null,null,null,null,null,null,null,null,2]
[3,null,null,null,null,null,null,null,null,3]
[4,null,null,null,null,null,null,null,null,4]
[5,null,null,null,null,null,null,null,null,5]
[6,null,null,null,null,null,null,null,null,6]
["Total 1ère distance",null,null,null,null,null,null,null,null,"Total 2ème distance"]
["Report 2ème distance +",null,null,null,null,null,null,null,null,"Marqueur",null,null,null,"Archer"]
["Total général ="]
[]
[]
[]
[]
[]
[{"$f":"Feuil1!D5","v":"Cie La Flèche Macairoise"},null,null,null,null,null,null,null,null,{"$f":"Feuil1!D6","v":"2ème étape Challenge CHAIRMARTIN"}]
[]
[{"$f":"Feuil1!D7","v":"2023-01-14"}]

{"sheet":"5D","index":39,"n_rows":23,"n_cols":17,"rows_kept":23,"cut":false,"hidden":false,"merged":[[20,0,21,8],[20,9,21,16],[22,0,22,16],[4,15,5,15],[4,16,5,16],[12,0,12,4],[12,9,12,13],[15,9,17,12],[15,13,17,16],[13,0,13,4],[13,9,14,12],[13,13,14,16],[14,0,14,4],[3,11,3,13],[4,0,5,0],[4,1,4,3],[4,4,5,4],[4,5,5,5],[4,6,5,6],[4,7,5,7],[4,9,5,9],[4,10,4,12],[4,13,5,13],[3,9,3,10],[4,14,5,14],[0,1,0,3],[0,6,0,8],[1,1,1,3],[3,0,3,1],[3,2,3,3]]}
["Nom",{"$f":"VLOOKUP(F2,Liste!B:C,2,FALSE)","v":{"$error":"#N/A"}},null,null,"Classement",null,{"$f":"VLOOKUP(F2,Liste!B:J,5,FALSE)","v":{"$error":"#N/A"}}]
["Club",{"$f":"VLOOKUP(F2,Liste!B:E,3,FALSE)","v":{"$error":"#N/A"}},null,null,"N° cible",{"$f":"Feuil1!F14","v":"5D"}]
[]
["1er tir",null,"N° licence",null,{"$f":"VLOOKUP(F2,Liste!B:E,4,FALSE)","v":{"$error":"#N/A"}},null,null,null,null,"2ème tir"]
["Volée","Nombre de points par flèches",null,null,"Total 3 flèches","Total cumulé",10,9,null,"Volée","Nombre de points par flèches",null,null,"Total 3 flèches","Total cumulé",10,9]
[null,1,2,3,null,null,null,null,null,null,1,2,3]
[1,null,null,null,null,null,null,null,null,1]
[2,null,null,null,null,null,null,null,null,2]
[3,null,null,null,null,null,null,null,null,3]
[4,null,null,null,null,null,null,null,null,4]
[5,null,null,null,null,null,null,null,null,5]
[6,null,null,null,null,null,null,null,null,6]
["Total 1ère distance",null,null,null,null,null,null,null,null,"Total 2ème distance"]
["Report 2ème distance +",null,null,null,null,null,null,null,null,"Marqueur",null,null,null,"Archer"]
["Total général ="]
[]
[]
[]
[]
[]
[{"$f":"Feuil1!D5","v":"Cie La Flèche Macairoise"},null,null,null,null,null,null,null,null,{"$f":"Feuil1!D6","v":"2ème étape Challenge CHAIRMARTIN"}]
[]
[{"$f":"Feuil1!D7","v":"2023-01-14"}]

{"sheet":"5E","index":40,"n_rows":23,"n_cols":17,"rows_kept":23,"cut":false,"hidden":false,"merged":[[20,0,21,8],[20,9,21,16],[22,0,22,16],[4,15,5,15],[4,16,5,16],[12,0,12,4],[12,9,12,13],[15,9,17,12],[15,13,17,16],[13,0,13,4],[13,9,14,12],[13,13,14,16],[14,0,14,4],[3,11,3,13],[4,0,5,0],[4,1,4,3],[4,4,5,4],[4,5,5,5],[4,6,5,6],[4,7,5,7],[4,9,5,9],[4,10,4,12],[4,13,5,13],[3,9,3,10],[4,14,5,14],[0,1,0,3],[0,6,0,8],[1,1,1,3],[3,0,3,1],[3,2,3,3]]}
["Nom",{"$f":"VLOOKUP(F2,Liste!B:J,2,FALSE)","v":{"$error":"#N/A"}},null,null,"Classement",null,{"$f":"VLOOKUP(F2,Liste!B:K,5,FALSE)","v":{"$error":"#N/A"}}]
["Club",{"$f":"VLOOKUP(F2,Liste!B:E,3,FALSE)","v":{"$error":"#N/A"}},null,null,"N° cible",{"$f":"Feuil1!F15","v":"5E"}]
[]
["1er tir",null,"N° licence",null,{"$f":"VLOOKUP(F2,Liste!B:E,4,FALSE)","v":{"$error":"#N/A"}},null,null,null,null,"2ème tir"]
["Volée","Nombre de points par flèches",null,null,"Total 3 flèches","Total cumulé",10,9,null,"Volée","Nombre de points par flèches",null,null,"Total 3 flèches","Total cumulé",10,9]
[null,1,2,3,null,null,null,null,null,null,1,2,3]
[1,null,null,null,null,null,null,null,null,1]
[2,null,null,null,null,null,null,null,null,2]
[3,null,null,null,null,null,null,null,null,3]
[4,null,null,null,null,null,null,null,null,4]
[5,null,null,null,null,null,null,null,null,5]
[6,null,null,null,null,null,null,null,null,6]
["Total 1ère distance",null,null,null,null,null,null,null,null,"Total 2ème distance"]
["Report 2ème distance +",null,null,null,null,null,null,null,null,"Marqueur",null,null,null,"Archer"]
["Total général ="]
[]
[]
[]
[]
[]
[{"$f":"Feuil1!D5","v":"Cie La Flèche Macairoise"},null,null,null,null,null,null,null,null,{"$f":"Feuil1!D6","v":"2ème étape Challenge CHAIRMARTIN"}]
[]
[{"$f":"Feuil1!D7","v":"2023-01-14"}]

{"sheet":"5F","index":41,"n_rows":23,"n_cols":17,"rows_kept":23,"cut":false,"hidden":false,"merged":[[20,0,21,8],[20,9,21,16],[22,0,22,16],[4,15,5,15],[4,16,5,16],[12,0,12,4],[12,9,12,13],[15,9,17,12],[15,13,17,16],[13,0,13,4],[13,9,14,12],[13,13,14,16],[14,0,14,4],[3,11,3,13],[4,0,5,0],[4,1,4,3],[4,4,5,4],[4,5,5,5],[4,6,5,6],[4,7,5,7],[4,9,5,9],[4,10,4,12],[4,13,5,13],[3,9,3,10],[4,14,5,14],[0,1,0,3],[0,6,0,8],[1,1,1,3],[3,0,3,1],[3,2,3,3]]}
["Nom",{"$f":"VLOOKUP(F2,Liste!B:J,2,FALSE)","v":{"$error":"#N/A"}},null,null,"Classement",null,{"$f":"VLOOKUP(F2,Liste!B:K,5,FALSE)","v":{"$error":"#N/A"}}]
["Club",{"$f":"VLOOKUP(F2,Liste!B:K,3,FALSE)","v":{"$error":"#N/A"}},null,null,"N° cible",{"$f":"Feuil1!F16","v":"5F"}]
[]
["1er tir",null,"N° licence",null,{"$f":"VLOOKUP(F2,Liste!B:K,4,FALSE)","v":{"$error":"#N/A"}},null,null,null,null,"2ème tir"]
["Volée","Nombre de points par flèches",null,null,"Total 3 flèches","Total cumulé",10,9,null,"Volée","Nombre de points par flèches",null,null,"Total 3 flèches","Total cumulé",10,9]
[null,1,2,3,null,null,null,null,null,null,1,2,3]
[1,null,null,null,null,null,null,null,null,1]
[2,null,null,null,null,null,null,null,null,2]
[3,null,null,null,null,null,null,null,null,3]
[4,null,null,null,null,null,null,null,null,4]
[5,null,null,null,null,null,null,null,null,5]
[6,null,null,null,null,null,null,null,null,6]
["Total 1ère distance",null,null,null,null,null,null,null,null,"Total 2ème distance"]
["Report 2ème distance +",null,null,null,null,null,null,null,null,"Marqueur",null,null,null,"Archer"]
["Total général ="]
[]
[]
[]
[]
[]
[{"$f":"Feuil1!D5","v":"Cie La Flèche Macairoise"},null,null,null,null,null,null,null,null,{"$f":"Feuil1!D6","v":"2ème étape Challenge CHAIRMARTIN"}]
[]
[{"$f":"Feuil1!D7","v":"2023-01-14"}]

{"sheet":"5G","index":42,"n_rows":23,"n_cols":17,"rows_kept":23,"cut":false,"hidden":false,"merged":[[20,0,21,8],[20,9,21,16],[22,0,22,16],[4,15,5,15],[4,16,5,16],[12,0,12,4],[12,9,12,13],[15,9,17,12],[15,13,17,16],[13,0,13,4],[13,9,14,12],[13,13,14,16],[14,0,14,4],[3,11,3,13],[4,0,5,0],[4,1,4,3],[4,4,5,4],[4,5,5,5],[4,6,5,6],[4,7,5,7],[4,9,5,9],[4,10,4,12],[4,13,5,13],[3,9,3,10],[4,14,5,14],[0,1,0,3],[0,6,0,8],[1,1,1,3],[3,0,3,1],[3,2,3,3]]}
["Nom",{"$f":"VLOOKUP(F2,Liste!B:J,2,FALSE)","v":{"$error":"#N/A"}},null,null,"Classement",null,{"$f":"VLOOKUP(F2,Liste!B:K,5,FALSE)","v":{"$error":"#N/A"}}]
["Club",{"$f":"VLOOKUP(F2,Liste!B:K,3,FALSE)","v":{"$error":"#N/A"}},null,null,"N° cible",{"$f":"Feuil1!F17","v":"5G"}]
[]
["1er tir",null,"N° licence",null,{"$f":"VLOOKUP(F2,Liste!B:K,4,FALSE)","v":{"$error":"#N/A"}},null,null,null,null,"2ème tir"]
["Volée","Nombre de points par flèches",null,null,"Total 3 flèches","Total cumulé",10,9,null,"Volée","Nombre de points par flèches",null,null,"Total 3 flèches","Total cumulé",10,9]
[null,1,2,3,null,null,null,null,null,null,1,2,3]
[1,null,null,null,null,null,null,null,null,1]
[2,null,null,null,null,null,null,null,null,2]
[3,null,null,null,null,null,null,null,null,3]
[4,null,null,null,null,null,null,null,null,4]
[5,null,null,null,null,null,null,null,null,5]
[6,null,null,null,null,null,null,null,null,6]
["Total 1ère distance",null,null,null,null,null,null,null,null,"Total 2ème distance"]
["Report 2ème distance +",null,null,null,null,null,null,null,null,"Marqueur",null,null,null,"Archer"]
["Total général ="]
[]
[]
[]
[]
[]
[{"$f":"Feuil1!D5","v":"Cie La Flèche Macairoise"},null,null,null,null,null,null,null,null,{"$f":"Feuil1!D6","v":"2ème étape Challenge CHAIRMARTIN"}]
[]
[{"$f":"Feuil1!D7","v":"2023-01-14"}]

{"sheet":"5H","index":43,"n_rows":23,"n_cols":17,"rows_kept":23,"cut":false,"hidden":false,"merged":[[20,0,21,8],[20,9,21,16],[22,0,22,16],[4,15,5,15],[4,16,5,16],[12,0,12,4],[12,9,12,13],[15,9,17,12],[15,13,17,16],[13,0,13,4],[13,9,14,12],[13,13,14,16],[14,0,14,4],[3,11,3,13],[4,0,5,0],[4,1,4,3],[4,4,5,4],[4,5,5,5],[4,6,5,6],[4,7,5,7],[4,9,5,9],[4,10,4,12],[4,13,5,13],[3,9,3,10],[4,14,5,14],[0,1,0,3],[0,6,0,8],[1,1,1,3],[3,0,3,1],[3,2,3,3]]}
["Nom",{"$f":"VLOOKUP(F2,Liste!B:K,2,FALSE)","v":{"$error":"#N/A"}},null,null,"Classement",null,{"$f":"VLOOKUP(F2,Liste!B:K,5,FALSE)","v":{"$error":"#N/A"}}]
["Club",{"$f":"VLOOKUP(F2,Liste!B:K,3,FALSE)","v":{"$error":"#N/A"}},null,null,"N° cible",{"$f":"Feuil1!F18","v":"5H"}]
[]
["1er tir",null,"N° licence",null,{"$f":"VLOOKUP(F2,Liste!B:K,4,FALSE)","v":{"$error":"#N/A"}},null,null,null,null,"2ème tir"]
["Volée","Nombre de points par flèches",null,null,"Total 3 flèches","Total cumulé",10,9,null,"Volée","Nombre de points par flèches",null,null,"Total 3 flèches","Total cumulé",10,9]
[null,1,2,3,null,null,null,null,null,null,1,2,3]
[1,null,null,null,null,null,null,null,null,1]
[2,null,null,null,null,null,null,null,null,2]
[3,null,null,null,null,null,null,null,null,3]
[4,null,null,null,null,null,null,null,null,4]
[5,null,null,null,null,null,null,null,null,5]
[6,null,null,null,null,null,null,null,null,6]
["Total 1ère distance",null,null,null,null,null,null,null,null,"Total 2ème distance"]
["Report 2ème distance +",null,null,null,null,null,null,null,null,"Marqueur",null,null,null,"Archer"]
["Total général ="]
[]
[]
[]
[]
[]
[{"$f":"Feuil1!D5","v":"Cie La Flèche Macairoise"},null,null,null,null,null,null,null,null,{"$f":"Feuil1!D6","v":"2ème étape Challenge CHAIRMARTIN"}]
[]
[{"$f":"Feuil1!D7","v":"2023-01-14"}]

{"sheet":"6A","index":44,"n_rows":23,"n_cols":17,"rows_kept":23,"cut":false,"hidden":false,"merged":[[20,0,21,8],[20,9,21,16],[22,0,22,16],[4,15,5,15],[4,16,5,16],[12,0,12,4],[12,9,12,13],[15,9,17,12],[15,13,17,16],[13,0,13,4],[13,9,14,12],[13,13,14,16],[14,0,14,4],[3,11,3,13],[4,0,5,0],[4,1,4,3],[4,4,5,4],[4,5,5,5],[4,6,5,6],[4,7,5,7],[4,9,5,9],[4,10,4,12],[4,13,5,13],[3,9,3,10],[4,14,5,14],[0,1,0,3],[0,6,0,8],[1,1,1,3],[3,0,3,1],[3,2,3,3]]}
["Nom",{"$f":"VLOOKUP(F2,Liste!B:J,2,FALSE)","v":{"$error":"#N/A"}},null,null,"Classement",null,{"$f":"VLOOKUP(F2,Liste!B:K,5,FALSE)","v":{"$error":"#N/A"}}]
["Club",{"$f":"VLOOKUP(F2,Liste!B:K,3,FALSE)","v":{"$error":"#N/A"}},null,null,"N° cible",{"$f":"Feuil1!F19","v":"6A"}]
[]
["1er tir",null,"N° licence",null,{"$f":"VLOOKUP(F2,Liste!B:K,4,FALSE)","v":{"$error":"#N/A"}},null,null,null,null,"2ème tir"]
["Volée","Nombre de points par flèches",null,null,"Total 3 flèches","Total cumulé",10,9,null,"Volée","Nombre de points par flèches",null,null,"Total 3 flèches","Total cumulé",10,9]
[null,1,2,3,null,null,null,null,null,null,1,2,3]
[1,null,null,null,null,null,null,null,null,1]
[2,null,null,null,null,null,null,null,null,2]
[3,null,null,null,null,null,null,null,null,3]
[4,null,null,null,null,null,null,null,null,4]
[5,null,null,null,null,null,null,null,null,5]
[6,null,null,null,null,null,null,null,null,6]
["Total 1ère distance",null,null,null,null,null,null,null,null,"Total 2ème distance"]
["Report 2ème distance +",null,null,null,null,null,null,null,null,"Marqueur",null,null,null,"Archer"]
["Total général ="]
[]
[]
[]
[]
[]
[{"$f":"Feuil1!D5","v":"Cie La Flèche Macairoise"},null,null,null,null,null,null,null,null,{"$f":"Feuil1!D6","v":"2ème étape Challenge CHAIRMARTIN"}]
[]
[{"$f":"Feuil1!D7","v":"2023-01-14"}]

{"sheet":"6B","index":45,"n_rows":23,"n_cols":17,"rows_kept":23,"cut":false,"hidden":false,"merged":[[20,0,21,8],[20,9,21,16],[22,0,22,16],[4,15,5,15],[4,16,5,16],[12,0,12,4],[12,9,12,13],[15,9,17,12],[15,13,17,16],[13,0,13,4],[13,9,14,12],[13,13,14,16],[14,0,14,4],[3,11,3,13],[4,0,5,0],[4,1,4,3],[4,4,5,4],[4,5,5,5],[4,6,5,6],[4,7,5,7],[4,9,5,9],[4,10,4,12],[4,13,5,13],[3,9,3,10],[4,14,5,14],[0,1,0,3],[0,6,0,8],[1,1,1,3],[3,0,3,1],[3,2,3,3]]}
["Nom",{"$f":"VLOOKUP(F2,Liste!B:J,2,FALSE)","v":{"$error":"#N/A"}},null,null,"Classement",null,{"$f":"VLOOKUP(F2,Liste!B:K,5,FALSE)","v":{"$error":"#N/A"}}]
["Club",{"$f":"VLOOKUP(F2,Liste!B:K,3,FALSE)","v":{"$error":"#N/A"}},null,null,"N° cible",{"$f":"Feuil1!F20","v":"6B"}]
[]
["1er tir",null,"N° licence",null,{"$f":"VLOOKUP(F2,Liste!B:K,4,FALSE)","v":{"$error":"#N/A"}},null,null,null,null,"2ème tir"]
["Volée","Nombre de points par flèches",null,null,"Total 3 flèches","Total cumulé",10,9,null,"Volée","Nombre de points par flèches",null,null,"Total 3 flèches","Total cumulé",10,9]
[null,1,2,3,null,null,null,null,null,null,1,2,3]
[1,null,null,null,null,null,null,null,null,1]
[2,null,null,null,null,null,null,null,null,2]
[3,null,null,null,null,null,null,null,null,3]
[4,null,null,null,null,null,null,null,null,4]
[5,null,null,null,null,null,null,null,null,5]
[6,null,null,null,null,null,null,null,null,6]
["Total 1ère distance",null,null,null,null,null,null,null,null,"Total 2ème distance"]
["Report 2ème distance +",null,null,null,null,null,null,null,null,"Marqueur",null,null,null,"Archer"]
["Total général ="]
[]
[]
[]
[]
[]
[{"$f":"Feuil1!D5","v":"Cie La Flèche Macairoise"},null,null,null,null,null,null,null,null,{"$f":"Feuil1!D6","v":"2ème étape Challenge CHAIRMARTIN"}]
[]
[{"$f":"Feuil1!D7","v":"2023-01-14"}]

{"sheet":"6C","index":46,"n_rows":23,"n_cols":17,"rows_kept":23,"cut":false,"hidden":false,"merged":[[20,0,21,8],[20,9,21,16],[22,0,22,16],[4,15,5,15],[4,16,5,16],[12,0,12,4],[12,9,12,13],[15,9,17,12],[15,13,17,16],[13,0,13,4],[13,9,14,12],[13,13,14,16],[14,0,14,4],[3,11,3,13],[4,0,5,0],[4,1,4,3],[4,4,5,4],[4,5,5,5],[4,6,5,6],[4,7,5,7],[4,9,5,9],[4,10,4,12],[4,13,5,13],[3,9,3,10],[4,14,5,14],[0,1,0,3],[0,6,0,8],[1,1,1,3],[3,0,3,1],[3,2,3,3]]}
["Nom",{"$f":"VLOOKUP(F2,Liste!B:J,2,FALSE)","v":{"$error":"#N/A"}},null,null,"Classement",null,{"$f":"VLOOKUP(F2,Liste!B:K,5,FALSE)","v":{"$error":"#N/A"}}]
["Club",{"$f":"VLOOKUP(F2,Liste!B:K,3,FALSE)","v":{"$error":"#N/A"}},null,null,"N° cible",{"$f":"Feuil1!F21","v":"6C"}]
[]
["1er tir",null,"N° licence",null,{"$f":"VLOOKUP(F2,Liste!B:K,4,FALSE)","v":{"$error":"#N/A"}},null,null,null,null,"2ème tir"]
["Volée","Nombre de points par flèches",null,null,"Total 3 flèches","Total cumulé",10,9,null,"Volée","Nombre de points par flèches",null,null,"Total 3 flèches","Total cumulé",10,9]
[null,1,2,3,null,null,null,null,null,null,1,2,3]
[1,null,null,null,null,null,null,null,null,1]
[2,null,null,null,null,null,null,null,null,2]
[3,null,null,null,null,null,null,null,null,3]
[4,null,null,null,null,null,null,null,null,4]
[5,null,null,null,null,null,null,null,null,5]
[6,null,null,null,null,null,null,null,null,6]
["Total 1ère distance",null,null,null,null,null,null,null,null,"Total 2ème distance"]
["Report 2ème distance +",null,null,null,null,null,null,null,null,"Marqueur",null,null,null,"Archer"]
["Total général ="]
[]
[]
[]
[]
[]
[{"$f":"Feuil1!D5","v":"Cie La Flèche Macairoise"},null,null,null,null,null,null,null,null,{"$f":"Feuil1!D6","v":"2ème étape Challenge CHAIRMARTIN"}]
[]
[{"$f":"Feuil1!D7","v":"2023-01-14"}]

{"sheet":"6D","index":47,"n_rows":23,"n_cols":17,"rows_kept":23,"cut":false,"hidden":false,"merged":[[20,0,21,8],[20,9,21,16],[22,0,22,16],[4,15,5,15],[4,16,5,16],[12,0,12,4],[12,9,12,13],[15,9,17,12],[15,13,17,16],[13,0,13,4],[13,9,14,12],[13,13,14,16],[14,0,14,4],[3,11,3,13],[4,0,5,0],[4,1,4,3],[4,4,5,4],[4,5,5,5],[4,6,5,6],[4,7,5,7],[4,9,5,9],[4,10,4,12],[4,13,5,13],[3,9,3,10],[4,14,5,14],[0,1,0,3],[0,6,0,8],[1,1,1,3],[3,0,3,1],[3,2,3,3]]}
["Nom",{"$f":"VLOOKUP(F2,Liste!B:J,2,FALSE)","v":{"$error":"#N/A"}},null,null,"Classement",null,{"$f":"VLOOKUP(F2,Liste!B:K,5,FALSE)","v":{"$error":"#N/A"}}]
["Club",{"$f":"VLOOKUP(F2,Liste!B:K,3,FALSE)","v":{"$error":"#N/A"}},null,null,"N° cible",{"$f":"Feuil1!F22","v":"6D"}]
[]
["1er tir",null,"N° licence",null,{"$f":"VLOOKUP(F2,Liste!B:K,4,FALSE)","v":{"$error":"#N/A"}},null,null,null,null,"2ème tir"]
["Volée","Nombre de points par flèches",null,null,"Total 3 flèches","Total cumulé",10,9,null,"Volée","Nombre de points par flèches",null,null,"Total 3 flèches","Total cumulé",10,9]
[null,1,2,3,null,null,null,null,null,null,1,2,3]
[1,null,null,null,null,null,null,null,null,1]
[2,null,null,null,null,null,null,null,null,2]
[3,null,null,null,null,null,null,null,null,3]
[4,null,null,null,null,null,null,null,null,4]
[5,null,null,null,null,null,null,null,null,5]
[6,null,null,null,null,null,null,null,null,6]
["Total 1ère distance",null,null,null,null,null,null,null,null,"Total 2ème distance"]
["Report 2ème distance +",null,null,null,null,null,null,null,null,"Marqueur",null,null,null,"Archer"]
["Total général ="]
[]
[]
[]
[]
[]
[{"$f":"VLOOKUP(F2,Liste!B:J,2,FALSE)","v":{"$error":"#N/A"}},null,null,null,null,null,null,null,null,{"$f":"Feuil1!D6","v":"2ème étape Challenge CHAIRMARTIN"}]
[]
[{"$f":"Feuil1!D7","v":"2023-01-14"}]

{"sheet":"6E","index":48,"n_rows":23,"n_cols":17,"rows_kept":23,"cut":false,"hidden":false,"merged":[[20,0,21,8],[20,9,21,16],[22,0,22,16],[4,15,5,15],[4,16,5,16],[12,0,12,4],[12,9,12,13],[15,9,17,12],[15,13,17,16],[13,0,13,4],[13,9,14,12],[13,13,14,16],[14,0,14,4],[3,11,3,13],[4,0,5,0],[4,1,4,3],[4,4,5,4],[4,5,5,5],[4,6,5,6],[4,7,5,7],[4,9,5,9],[4,10,4,12],[4,13,5,13],[3,9,3,10],[4,14,5,14],[0,1,0,3],[0,6,0,8],[1,1,1,3],[3,0,3,1],[3,2,3,3]]}
["Nom",{"$f":"VLOOKUP(F2,Liste!B:J,2,FALSE)","v":{"$error":"#N/A"}},null,null,"Classement",null,{"$f":"VLOOKUP(F2,Liste!B:K,5,FALSE)","v":{"$error":"#N/A"}}]
["Club",{"$f":"VLOOKUP(F2,Liste!B:K,3,FALSE)","v":{"$error":"#N/A"}},null,null,"N° cible",{"$f":"Feuil1!F23","v":"6E"}]
[]
["1er tir",null,"N° licence",null,{"$f":"VLOOKUP(F2,Liste!B:K,4,FALSE)","v":{"$error":"#N/A"}},null,null,null,null,"2ème tir"]
["Volée","Nombre de points par flèches",null,null,"Total 3 flèches","Total cumulé",10,9,null,"Volée","Nombre de points par flèches",null,null,"Total 3 flèches","Total cumulé",10,9]
[null,1,2,3,null,null,null,null,null,null,1,2,3]
[1,null,null,null,null,null,null,null,null,1]
[2,null,null,null,null,null,null,null,null,2]
[3,null,null,null,null,null,null,null,null,3]
[4,null,null,null,null,null,null,null,null,4]
[5,null,null,null,null,null,null,null,null,5]
[6,null,null,null,null,null,null,null,null,6]
["Total 1ère distance",null,null,null,null,null,null,null,null,"Total 2ème distance"]
["Report 2ème distance +",null,null,null,null,null,null,null,null,"Marqueur",null,null,null,"Archer"]
["Total général ="]
[]
[]
[]
[]
[]
[{"$f":"Feuil1!D5","v":"Cie La Flèche Macairoise"},null,null,null,null,null,null,null,null,{"$f":"Feuil1!D6","v":"2ème étape Challenge CHAIRMARTIN"}]
[]
[{"$f":"Feuil1!D7","v":"2023-01-14"}]

{"sheet":"6F","index":49,"n_rows":23,"n_cols":17,"rows_kept":23,"cut":false,"hidden":false,"merged":[[20,0,21,8],[20,9,21,16],[22,0,22,16],[4,15,5,15],[4,16,5,16],[12,0,12,4],[12,9,12,13],[15,9,17,12],[15,13,17,16],[13,0,13,4],[13,9,14,12],[13,13,14,16],[14,0,14,4],[3,11,3,13],[4,0,5,0],[4,1,4,3],[4,4,5,4],[4,5,5,5],[4,6,5,6],[4,7,5,7],[4,9,5,9],[4,10,4,12],[4,13,5,13],[3,9,3,10],[4,14,5,14],[0,1,0,3],[0,6,0,8],[1,1,1,3],[3,0,3,1],[3,2,3,3]]}
["Nom",{"$f":"VLOOKUP(F2,Liste!B:J,2,FALSE)","v":{"$error":"#N/A"}},null,null,"Classement",null,{"$f":"VLOOKUP(F2,Liste!B:K,5,FALSE)","v":{"$error":"#N/A"}}]
["Club",{"$f":"VLOOKUP(F2,Liste!B:K,3,FALSE)","v":{"$error":"#N/A"}},null,null,"N° cible",{"$f":"Feuil1!F24","v":"6F"}]
[]
["1er tir",null,"N° licence",null,{"$f":"VLOOKUP(F2,Liste!B:K,4,FALSE)","v":{"$error":"#N/A"}},null,null,null,null,"2ème tir"]
["Volée","Nombre de points par flèches",null,null,"Total 3 flèches","Total cumulé",10,9,null,"Volée","Nombre de points par flèches",null,null,"Total 3 flèches","Total cumulé",10,9]
[null,1,2,3,null,null,null,null,null,null,1,2,3]
[1,null,null,null,null,null,null,null,null,1]
[2,null,null,null,null,null,null,null,null,2]
[3,null,null,null,null,null,null,null,null,3]
[4,null,null,null,null,null,null,null,null,4]
[5,null,null,null,null,null,null,null,null,5]
[6,null,null,null,null,null,null,null,null,6]
["Total 1ère distance",null,null,null,null,null,null,null,null,"Total 2ème distance"]
["Report 2ème distance +",null,null,null,null,null,null,null,null,"Marqueur",null,null,null,"Archer"]
["Total général ="]
[]
[]
[]
[]
[]
[{"$f":"Feuil1!D5","v":"Cie La Flèche Macairoise"},null,null,null,null,null,null,null,null,{"$f":"Feuil1!D6","v":"2ème étape Challenge CHAIRMARTIN"}]
[]
[{"$f":"Feuil1!D7","v":"2023-01-14"}]

{"sheet":"6G","index":50,"n_rows":23,"n_cols":17,"rows_kept":23,"cut":false,"hidden":false,"merged":[[20,0,21,8],[20,9,21,16],[22,0,22,16],[4,15,5,15],[4,16,5,16],[12,0,12,4],[12,9,12,13],[15,9,17,12],[15,13,17,16],[13,0,13,4],[13,9,14,12],[13,13,14,16],[14,0,14,4],[3,11,3,13],[4,0,5,0],[4,1,4,3],[4,4,5,4],[4,5,5,5],[4,6,5,6],[4,7,5,7],[4,9,5,9],[4,10,4,12],[4,13,5,13],[3,9,3,10],[4,14,5,14],[0,1,0,3],[0,6,0,8],[1,1,1,3],[3,0,3,1],[3,2,3,3]]}
["Nom",{"$f":"VLOOKUP(F2,Liste!B:K,2,FALSE)","v":{"$error":"#N/A"}},null,null,"Classement",null,{"$f":"VLOOKUP(F2,Liste!B:K,5,FALSE)","v":{"$error":"#N/A"}}]
["Club",{"$f":"VLOOKUP(F2,Liste!B:K,3,FALSE)","v":{"$error":"#N/A"}},null,null,"N° cible",{"$f":"Feuil1!F25","v":"6G"}]
[]
["1er tir",null,"N° licence",null,{"$f":"VLOOKUP(F2,Liste!B:K,4,FALSE)","v":{"$error":"#N/A"}},null,null,null,null,"2ème tir"]
["Volée","Nombre de points par flèches",null,null,"Total 3 flèches","Total cumulé",10,9,null,"Volée","Nombre de points par flèches",null,null,"Total 3 flèches","Total cumulé",10,9]
[null,1,2,3,null,null,null,null,null,null,1,2,3]
[1,null,null,null,null,null,null,null,null,1]
[2,null,null,null,null,null,null,null,null,2]
[3,null,null,null,null,null,null,null,null,3]
[4,null,null,null,null,null,null,null,null,4]
[5,null,null,null,null,null,null,null,null,5]
[6,null,null,null,null,null,null,null,null,6]
["Total 1ère distance",null,null,null,null,null,null,null,null,"Total 2ème distance"]
["Report 2ème distance +",null,null,null,null,null,null,null,null,"Marqueur",null,null,null,"Archer"]
["Total général ="]
[]
[]
[]
[]
[]
[{"$f":"Feuil1!D5","v":"Cie La Flèche Macairoise"},null,null,null,null,null,null,null,null,{"$f":"Feuil1!D6","v":"2ème étape Challenge CHAIRMARTIN"}]
[]
[{"$f":"Feuil1!D7","v":"2023-01-14"}]

{"sheet":"6H","index":51,"n_rows":23,"n_cols":17,"rows_kept":23,"cut":false,"hidden":false,"merged":[[20,0,21,8],[20,9,21,16],[22,0,22,16],[4,15,5,15],[4,16,5,16],[12,0,12,4],[12,9,12,13],[15,9,17,12],[15,13,17,16],[13,0,13,4],[13,9,14,12],[13,13,14,16],[14,0,14,4],[3,11,3,13],[4,0,5,0],[4,1,4,3],[4,4,5,4],[4,5,5,5],[4,6,5,6],[4,7,5,7],[4,9,5,9],[4,10,4,12],[4,13,5,13],[3,9,3,10],[4,14,5,14],[0,1,0,3],[0,6,0,8],[1,1,1,3],[3,0,3,1],[3,2,3,3]]}
["Nom",{"$f":"VLOOKUP(F2,Liste!B:K,2,FALSE)","v":{"$error":"#N/A"}},null,null,"Classement",null,{"$f":"VLOOKUP(F2,Liste!B:K,5,FALSE)","v":{"$error":"#N/A"}}]
["Club",{"$f":"VLOOKUP(F2,Liste!B:K,3,FALSE)","v":{"$error":"#N/A"}},null,null,"N° cible",{"$f":"Feuil1!F26","v":"6H"}]
[]
["1er tir",null,"N° licence",null,{"$f":"VLOOKUP(F2,Liste!B:K,4,FALSE)","v":{"$error":"#N/A"}},null,null,null,null,"2ème tir"]
["Volée","Nombre de points par flèches",null,null,"Total 3 flèches","Total cumulé",10,9,null,"Volée","Nombre de points par flèches",null,null,"Total 3 flèches","Total cumulé",10,9]
[null,1,2,3,null,null,null,null,null,null,1,2,3]
[1,null,null,null,null,null,null,null,null,1]
[2,null,null,null,null,null,null,null,null,2]
[3,null,null,null,null,null,null,null,null,3]
[4,null,null,null,null,null,null,null,null,4]
[5,null,null,null,null,null,null,null,null,5]
[6,null,null,null,null,null,null,null,null,6]
["Total 1ère distance",null,null,null,null,null,null,null,null,"Total 2ème distance"]
["Report 2ème distance +",null,null,null,null,null,null,null,null,"Marqueur",null,null,null,"Archer"]
["Total général ="]
[]
[]
[]
[]
[]
[{"$f":"Feuil1!D5","v":"Cie La Flèche Macairoise"},null,null,null,null,null,null,null,null,{"$f":"Feuil1!D6","v":"2ème étape Challenge CHAIRMARTIN"}]
[]
[{"$f":"Feuil1!D7","v":"2023-01-14"}]

{"sheet":"7A","index":52,"n_rows":23,"n_cols":17,"rows_kept":23,"cut":false,"hidden":false,"merged":[[20,0,21,8],[20,9,21,16],[22,0,22,16],[4,15,5,15],[4,16,5,16],[12,0,12,4],[12,9,12,13],[15,9,17,12],[15,13,17,16],[13,0,13,4],[13,9,14,12],[13,13,14,16],[14,0,14,4],[3,11,3,13],[4,0,5,0],[4,1,4,3],[4,4,5,4],[4,5,5,5],[4,6,5,6],[4,7,5,7],[4,9,5,9],[4,10,4,12],[4,13,5,13],[3,9,3,10],[4,14,5,14],[0,1,0,3],[0,6,0,8],[1,1,1,3],[3,0,3,1],[3,2,3,3]]}
["Nom",{"$f":"VLOOKUP(F2,Liste!B:K,2,FALSE)","v":{"$error":"#N/A"}},null,null,"Classement",null,{"$f":"VLOOKUP(F2,Liste!B:K,5,FALSE)","v":{"$error":"#N/A"}}]
["Club",{"$f":"VLOOKUP(F2,Liste!B:K,3,FALSE)","v":{"$error":"#N/A"}},null,null,"N° cible",{"$f":"Feuil1!H11","v":"7A"}]
[]
["1er tir",null,"N° licence",null,{"$f":"VLOOKUP(F2,Liste!B:K,4,FALSE)","v":{"$error":"#N/A"}},null,null,null,null,"2ème tir"]
["Volée","Nombre de points par flèches",null,null,"Total 3 flèches","Total cumulé",10,9,null,"Volée","Nombre de points par flèches",null,null,"Total 3 flèches","Total cumulé",10,9]
[null,1,2,3,null,null,null,null,null,null,1,2,3]
[1,null,null,null,null,null,null,null,null,1]
[2,null,null,null,null,null,null,null,null,2]
[3,null,null,null,null,null,null,null,null,3]
[4,null,null,null,null,null,null,null,null,4]
[5,null,null,null,null,null,null,null,null,5]
[6,null,null,null,null,null,null,null,null,6]
["Total 1ère distance",null,null,null,null,null,null,null,null,"Total 2ème distance"]
["Report 2ème distance +",null,null,null,null,null,null,null,null,"Marqueur",null,null,null,"Archer"]
["Total général ="]
[]
[]
[]
[]
[]
[{"$f":"Feuil1!D5","v":"Cie La Flèche Macairoise"},null,null,null,null,null,null,null,null,{"$f":"Feuil1!D6","v":"2ème étape Challenge CHAIRMARTIN"}]
[]
[{"$f":"Feuil1!D7","v":"2023-01-14"}]

{"sheet":"7B","index":53,"n_rows":23,"n_cols":17,"rows_kept":23,"cut":false,"hidden":false,"merged":[[20,0,21,8],[20,9,21,16],[22,0,22,16],[4,15,5,15],[4,16,5,16],[12,0,12,4],[12,9,12,13],[15,9,17,12],[15,13,17,16],[13,0,13,4],[13,9,14,12],[13,13,14,16],[14,0,14,4],[3,11,3,13],[4,0,5,0],[4,1,4,3],[4,4,5,4],[4,5,5,5],[4,6,5,6],[4,7,5,7],[4,9,5,9],[4,10,4,12],[4,13,5,13],[3,9,3,10],[4,14,5,14],[0,1,0,3],[0,6,0,8],[1,1,1,3],[3,0,3,1],[3,2,3,3]]}
["Nom",{"$f":"VLOOKUP(F2,Liste!B:K,2,FALSE)","v":{"$error":"#N/A"}},null,null,"Classement",null,{"$f":"VLOOKUP(F2,Liste!B:K,5,FALSE)","v":{"$error":"#N/A"}}]
["Club",{"$f":"VLOOKUP(F2,Liste!B:K,3,FALSE)","v":{"$error":"#N/A"}},null,null,"N° cible",{"$f":"Feuil1!H12","v":"7B"}]
[]
["1er tir",null,"N° licence",null,{"$f":"VLOOKUP(F2,Liste!B:K,4,FALSE)","v":{"$error":"#N/A"}},null,null,null,null,"2ème tir"]
["Volée","Nombre de points par flèches",null,null,"Total 3 flèches","Total cumulé",10,9,null,"Volée","Nombre de points par flèches",null,null,"Total 3 flèches","Total cumulé",10,9]
[null,1,2,3,null,null,null,null,null,null,1,2,3]
[1,null,null,null,null,null,null,null,null,1]
[2,null,null,null,null,null,null,null,null,2]
[3,null,null,null,null,null,null,null,null,3]
[4,null,null,null,null,null,null,null,null,4]
[5,null,null,null,null,null,null,null,null,5]
[6,null,null,null,null,null,null,null,null,6]
["Total 1ère distance",null,null,null,null,null,null,null,null,"Total 2ème distance"]
["Report 2ème distance +",null,null,null,null,null,null,null,null,"Marqueur",null,null,null,"Archer"]
["Total général ="]
[]
[]
[]
[]
[]
[{"$f":"Feuil1!D5","v":"Cie La Flèche Macairoise"},null,null,null,null,null,null,null,null,{"$f":"Feuil1!D6","v":"2ème étape Challenge CHAIRMARTIN"}]
[]
[{"$f":"Feuil1!D7","v":"2023-01-14"}]

{"sheet":"7C","index":54,"n_rows":23,"n_cols":17,"rows_kept":23,"cut":false,"hidden":false,"merged":[[20,0,21,8],[20,9,21,16],[22,0,22,16],[4,15,5,15],[4,16,5,16],[12,0,12,4],[12,9,12,13],[15,9,17,12],[15,13,17,16],[13,0,13,4],[13,9,14,12],[13,13,14,16],[14,0,14,4],[3,11,3,13],[4,0,5,0],[4,1,4,3],[4,4,5,4],[4,5,5,5],[4,6,5,6],[4,7,5,7],[4,9,5,9],[4,10,4,12],[4,13,5,13],[3,9,3,10],[4,14,5,14],[0,1,0,3],[0,6,0,8],[1,1,1,3],[3,0,3,1],[3,2,3,3]]}
["Nom",{"$f":"VLOOKUP(F2,Liste!B:K,2,FALSE)","v":{"$error":"#N/A"}},null,null,"Classement",null,{"$f":"VLOOKUP(F2,Liste!B:K,5,FALSE)","v":{"$error":"#N/A"}}]
["Club",{"$f":"VLOOKUP(F2,Liste!B:K,3,FALSE)","v":{"$error":"#N/A"}},null,null,"N° cible",{"$f":"Feuil1!H13","v":"7C"}]
[]
["1er tir",null,"N° licence",null,{"$f":"VLOOKUP(F2,Liste!B:K,4,FALSE)","v":{"$error":"#N/A"}},null,null,null,null,"2ème tir"]
["Volée","Nombre de points par flèches",null,null,"Total 3 flèches","Total cumulé",10,9,null,"Volée","Nombre de points par flèches",null,null,"Total 3 flèches","Total cumulé",10,9]
[null,1,2,3,null,null,null,null,null,null,1,2,3]
[1,null,null,null,null,null,null,null,null,1]
[2,null,null,null,null,null,null,null,null,2]
[3,null,null,null,null,null,null,null,null,3]
[4,null,null,null,null,null,null,null,null,4]
[5,null,null,null,null,null,null,null,null,5]
[6,null,null,null,null,null,null,null,null,6]
["Total 1ère distance",null,null,null,null,null,null,null,null,"Total 2ème distance"]
["Report 2ème distance +",null,null,null,null,null,null,null,null,"Marqueur",null,null,null,"Archer"]
["Total général ="]
[]
[]
[]
[]
[]
[{"$f":"Feuil1!D5","v":"Cie La Flèche Macairoise"},null,null,null,null,null,null,null,null,{"$f":"Feuil1!D6","v":"2ème étape Challenge CHAIRMARTIN"}]
[]
[{"$f":"Feuil1!D7","v":"2023-01-14"}]

{"sheet":"7D","index":55,"n_rows":23,"n_cols":17,"rows_kept":23,"cut":false,"hidden":false,"merged":[[20,0,21,8],[20,9,21,16],[22,0,22,16],[4,15,5,15],[4,16,5,16],[12,0,12,4],[12,9,12,13],[15,9,17,12],[15,13,17,16],[13,0,13,4],[13,9,14,12],[13,13,14,16],[14,0,14,4],[3,11,3,13],[4,0,5,0],[4,1,4,3],[4,4,5,4],[4,5,5,5],[4,6,5,6],[4,7,5,7],[4,9,5,9],[4,10,4,12],[4,13,5,13],[3,9,3,10],[4,14,5,14],[0,1,0,3],[0,6,0,8],[1,1,1,3],[3,0,3,1],[3,2,3,3]]}
["Nom",{"$f":"VLOOKUP(F2,Liste!B:K,2,FALSE)","v":{"$error":"#N/A"}},null,null,"Classement",null,{"$f":"VLOOKUP(F2,Liste!B:K,5,FALSE)","v":{"$error":"#N/A"}}]
["Club",{"$f":"VLOOKUP(F2,Liste!B:K,3,FALSE)","v":{"$error":"#N/A"}},null,null,"N° cible",{"$f":"Feuil1!H14","v":"7D"}]
[]
["1er tir",null,"N° licence",null,{"$f":"VLOOKUP(F2,Liste!B:K,4,FALSE)","v":{"$error":"#N/A"}},null,null,null,null,"2ème tir"]
["Volée","Nombre de points par flèches",null,null,"Total 3 flèches","Total cumulé",10,9,null,"Volée","Nombre de points par flèches",null,null,"Total 3 flèches","Total cumulé",10,9]
[null,1,2,3,null,null,null,null,null,null,1,2,3]
[1,null,null,null,null,null,null,null,null,1]
[2,null,null,null,null,null,null,null,null,2]
[3,null,null,null,null,null,null,null,null,3]
[4,null,null,null,null,null,null,null,null,4]
[5,null,null,null,null,null,null,null,null,5]
[6,null,null,null,null,null,null,null,null,6]
["Total 1ère distance",null,null,null,null,null,null,null,null,"Total 2ème distance"]
["Report 2ème distance +",null,null,null,null,null,null,null,null,"Marqueur",null,null,null,"Archer"]
["Total général ="]
[]
[]
[]
[]
[]
[{"$f":"Feuil1!D5","v":"Cie La Flèche Macairoise"},null,null,null,null,null,null,null,null,{"$f":"Feuil1!D6","v":"2ème étape Challenge CHAIRMARTIN"}]
[]
[{"$f":"Feuil1!D7","v":"2023-01-14"}]

{"sheet":"7E","index":56,"n_rows":23,"n_cols":17,"rows_kept":23,"cut":false,"hidden":false,"merged":[[20,0,21,8],[20,9,21,16],[22,0,22,16],[4,15,5,15],[4,16,5,16],[12,0,12,4],[12,9,12,13],[15,9,17,12],[15,13,17,16],[13,0,13,4],[13,9,14,12],[13,13,14,16],[14,0,14,4],[3,11,3,13],[4,0,5,0],[4,1,4,3],[4,4,5,4],[4,5,5,5],[4,6,5,6],[4,7,5,7],[4,9,5,9],[4,10,4,12],[4,13,5,13],[3,9,3,10],[4,14,5,14],[0,1,0,3],[0,6,0,8],[1,1,1,3],[3,0,3,1],[3,2,3,3]]}
["Nom",{"$f":"VLOOKUP(F2,Liste!B:K,2,FALSE)","v":{"$error":"#N/A"}},null,null,"Classement",null,{"$f":"VLOOKUP(F2,Liste!B:K,5,FALSE)","v":{"$error":"#N/A"}}]
["Club",{"$f":"VLOOKUP(F2,Liste!B:K,3,FALSE)","v":{"$error":"#N/A"}},null,null,"N° cible",{"$f":"Feuil1!H15","v":"7E"}]
[]
["1er tir",null,"N° licence",null,{"$f":"VLOOKUP(F2,Liste!B:K,4,FALSE)","v":{"$error":"#N/A"}},null,null,null,null,"2ème tir"]
["Volée","Nombre de points par flèches",null,null,"Total 3 flèches","Total cumulé",10,9,null,"Volée","Nombre de points par flèches",null,null,"Total 3 flèches","Total cumulé",10,9]
[null,1,2,3,null,null,null,null,null,null,1,2,3]
[1,null,null,null,null,null,null,null,null,1]
[2,null,null,null,null,null,null,null,null,2]
[3,null,null,null,null,null,null,null,null,3]
[4,null,null,null,null,null,null,null,null,4]
[5,null,null,null,null,null,null,null,null,5]
[6,null,null,null,null,null,null,null,null,6]
["Total 1ère distance",null,null,null,null,null,null,null,null,"Total 2ème distance"]
["Report 2ème distance +",null,null,null,null,null,null,null,null,"Marqueur",null,null,null,"Archer"]
["Total général ="]
[]
[]
[]
[]
[]
[{"$f":"Feuil1!D5","v":"Cie La Flèche Macairoise"},null,null,null,null,null,null,null,null,{"$f":"Feuil1!D6","v":"2ème étape Challenge CHAIRMARTIN"}]
[]
[{"$f":"Feuil1!D7","v":"2023-01-14"}]

{"sheet":"7F","index":57,"n_rows":23,"n_cols":17,"rows_kept":23,"cut":false,"hidden":false,"merged":[[20,0,21,8],[20,9,21,16],[22,0,22,16],[4,15,5,15],[4,16,5,16],[12,0,12,4],[12,9,12,13],[15,9,17,12],[15,13,17,16],[13,0,13,4],[13,9,14,12],[13,13,14,16],[14,0,14,4],[3,11,3,13],[4,0,5,0],[4,1,4,3],[4,4,5,4],[4,5,5,5],[4,6,5,6],[4,7,5,7],[4,9,5,9],[4,10,4,12],[4,13,5,13],[3,9,3,10],[4,14,5,14],[0,1,0,3],[0,6,0,8],[1,1,1,3],[3,0,3,1],[3,2,3,3]]}
["Nom",{"$f":"VLOOKUP(F2,Liste!B:K,2,FALSE)","v":{"$error":"#N/A"}},null,null,"Classement",null,{"$f":"VLOOKUP(F2,Liste!B:K,5,FALSE)","v":{"$error":"#N/A"}}]
["Club",{"$f":"VLOOKUP(F2,Liste!B:K,3,FALSE)","v":{"$error":"#N/A"}},null,null,"N° cible",{"$f":"Feuil1!H16","v":"7F"}]
[]
["1er tir",null,"N° licence",null,{"$f":"VLOOKUP(F2,Liste!B:K,4,FALSE)","v":{"$error":"#N/A"}},null,null,null,null,"2ème tir"]
["Volée","Nombre de points par flèches",null,null,"Total 3 flèches","Total cumulé",10,9,null,"Volée","Nombre de points par flèches",null,null,"Total 3 flèches","Total cumulé",10,9]
[null,1,2,3,null,null,null,null,null,null,1,2,3]
[1,null,null,null,null,null,null,null,null,1]
[2,null,null,null,null,null,null,null,null,2]
[3,null,null,null,null,null,null,null,null,3]
[4,null,null,null,null,null,null,null,null,4]
[5,null,null,null,null,null,null,null,null,5]
[6,null,null,null,null,null,null,null,null,6]
["Total 1ère distance",null,null,null,null,null,null,null,null,"Total 2ème distance"]
["Report 2ème distance +",null,null,null,null,null,null,null,null,"Marqueur",null,null,null,"Archer"]
["Total général ="]
[]
[]
[]
[]
[]
[{"$f":"Feuil1!D5","v":"Cie La Flèche Macairoise"},null,null,null,null,null,null,null,null,{"$f":"Feuil1!D6","v":"2ème étape Challenge CHAIRMARTIN"}]
[]
[{"$f":"Feuil1!D7","v":"2023-01-14"}]

{"sheet":"7G","index":58,"n_rows":23,"n_cols":17,"rows_kept":23,"cut":false,"hidden":false,"merged":[[20,0,21,8],[20,9,21,16],[22,0,22,16],[4,15,5,15],[4,16,5,16],[12,0,12,4],[12,9,12,13],[15,9,17,12],[15,13,17,16],[13,0,13,4],[13,9,14,12],[13,13,14,16],[14,0,14,4],[3,11,3,13],[4,0,5,0],[4,1,4,3],[4,4,5,4],[4,5,5,5],[4,6,5,6],[4,7,5,7],[4,9,5,9],[4,10,4,12],[4,13,5,13],[3,9,3,10],[4,14,5,14],[0,1,0,3],[0,6,0,8],[1,1,1,3],[3,0,3,1],[3,2,3,3]]}
["Nom",{"$f":"VLOOKUP(F2,Liste!B:K,2,FALSE)","v":{"$error":"#N/A"}},null,null,"Classement",null,{"$f":"VLOOKUP(F2,Liste!B:K,5,FALSE)","v":{"$error":"#N/A"}}]
["Club",{"$f":"VLOOKUP(F2,Liste!B:K,3,FALSE)","v":{"$error":"#N/A"}},null,null,"N° cible",{"$f":"Feuil1!H17","v":"7G"}]
[]
["1er tir",null,"N° licence",null,{"$f":"VLOOKUP(F2,Liste!B:K,4,FALSE)","v":{"$error":"#N/A"}},null,null,null,null,"2ème tir"]
["Volée","Nombre de points par flèches",null,null,"Total 3 flèches","Total cumulé",10,9,null,"Volée","Nombre de points par flèches",null,null,"Total 3 flèches","Total cumulé",10,9]
[null,1,2,3,null,null,null,null,null,null,1,2,3]
[1,null,null,null,null,null,null,null,null,1]
[2,null,null,null,null,null,null,null,null,2]
[3,null,null,null,null,null,null,null,null,3]
[4,null,null,null,null,null,null,null,null,4]
[5,null,null,null,null,null,null,null,null,5]
[6,null,null,null,null,null,null,null,null,6]
["Total 1ère distance",null,null,null,null,null,null,null,null,"Total 2ème distance"]
["Report 2ème distance +",null,null,null,null,null,null,null,null,"Marqueur",null,null,null,"Archer"]
["Total général ="]
[]
[]
[]
[]
[]
[{"$f":"Feuil1!D5","v":"Cie La Flèche Macairoise"},null,null,null,null,null,null,null,null,{"$f":"Feuil1!D6","v":"2ème étape Challenge CHAIRMARTIN"}]
[]
[{"$f":"Feuil1!D7","v":"2023-01-14"}]

{"sheet":"7H","index":59,"n_rows":23,"n_cols":17,"rows_kept":23,"cut":false,"hidden":false,"merged":[[20,0,21,8],[20,9,21,16],[22,0,22,16],[4,15,5,15],[4,16,5,16],[12,0,12,4],[12,9,12,13],[15,9,17,12],[15,13,17,16],[13,0,13,4],[13,9,14,12],[13,13,14,16],[14,0,14,4],[3,11,3,13],[4,0,5,0],[4,1,4,3],[4,4,5,4],[4,5,5,5],[4,6,5,6],[4,7,5,7],[4,9,5,9],[4,10,4,12],[4,13,5,13],[3,9,3,10],[4,14,5,14],[0,1,0,3],[0,6,0,8],[1,1,1,3],[3,0,3,1],[3,2,3,3]]}
["Nom",{"$f":"VLOOKUP(F2,Liste!B:K,2,FALSE)","v":{"$error":"#N/A"}},null,null,"Classement",null,{"$f":"VLOOKUP(F2,Liste!B:K,5,FALSE)","v":{"$error":"#N/A"}}]
["Club",{"$f":"VLOOKUP(F2,Liste!B:K,3,FALSE)","v":{"$error":"#N/A"}},null,null,"N° cible",{"$f":"Feuil1!H18","v":"7H"}]
[]
["1er tir",null,"N° licence",null,{"$f":"VLOOKUP(F2,Liste!B:K,4,FALSE)","v":{"$error":"#N/A"}},null,null,null,null,"2ème tir"]
["Volée","Nombre de points par flèches",null,null,"Total 3 flèches","Total cumulé",10,9,null,"Volée","Nombre de points par flèches",null,null,"Total 3 flèches","Total cumulé",10,9]
[null,1,2,3,null,null,null,null,null,null,1,2,3]
[1,null,null,null,null,null,null,null,null,1]
[2,null,null,null,null,null,null,null,null,2]
[3,null,null,null,null,null,null,null,null,3]
[4,null,null,null,null,null,null,null,null,4]
[5,null,null,null,null,null,null,null,null,5]
[6,null,null,null,null,null,null,null,null,6]
["Total 1ère distance",null,null,null,null,null,null,null,null,"Total 2ème distance"]
["Report 2ème distance +",null,null,null,null,null,null,null,null,"Marqueur",null,null,null,"Archer"]
["Total général ="]
[]
[]
[]
[]
[]
[{"$f":"Feuil1!D5","v":"Cie La Flèche Macairoise"},null,null,null,null,null,null,null,null,{"$f":"Feuil1!D6","v":"2ème étape Challenge CHAIRMARTIN"}]
[]
[{"$f":"Feuil1!D7","v":"2023-01-14"}]

{"sheet":"8A","index":60,"n_rows":23,"n_cols":17,"rows_kept":23,"cut":false,"hidden":false,"merged":[[20,0,21,8],[20,9,21,16],[22,0,22,16],[4,15,5,15],[4,16,5,16],[12,0,12,4],[12,9,12,13],[15,9,17,12],[15,13,17,16],[13,0,13,4],[13,9,14,12],[13,13,14,16],[14,0,14,4],[3,11,3,13],[4,0,5,0],[4,1,4,3],[4,4,5,4],[4,5,5,5],[4,6,5,6],[4,7,5,7],[4,9,5,9],[4,10,4,12],[4,13,5,13],[3,9,3,10],[4,14,5,14],[0,1,0,3],[0,6,0,8],[1,1,1,3],[3,0,3,1],[3,2,3,3]]}
["Nom",{"$f":"VLOOKUP(F2,Liste!B:K,2,FALSE)","v":{"$error":"#N/A"}},null,null,"Classement",null,{"$f":"VLOOKUP(F2,Liste!B:K,5,FALSE)","v":{"$error":"#N/A"}}]
["Club",{"$f":"VLOOKUP(F2,Liste!B:K,3,FALSE)","v":{"$error":"#N/A"}},null,null,"N° cible",{"$f":"Feuil1!H19","v":"8A"}]
[]
["1er tir",null,"N° licence",null,{"$f":"VLOOKUP(F2,Liste!B:K,4,FALSE)","v":{"$error":"#N/A"}},null,null,null,null,"2ème tir"]
["Volée","Nombre de points par flèches",null,null,"Total 3 flèches","Total cumulé",10,9,null,"Volée","Nombre de points par flèches",null,null,"Total 3 flèches","Total cumulé",10,9]
[null,1,2,3,null,null,null,null,null,null,1,2,3]
[1,null,null,null,null,null,null,null,null,1]
[2,null,null,null,null,null,null,null,null,2]
[3,null,null,null,null,null,null,null,null,3]
[4,null,null,null,null,null,null,null,null,4]
[5,null,null,null,null,null,null,null,null,5]
[6,null,null,null,null,null,null,null,null,6]
["Total 1ère distance",null,null,null,null,null,null,null,null,"Total 2ème distance"]
["Report 2ème distance +",null,null,null,null,null,null,null,null,"Marqueur",null,null,null,"Archer"]
["Total général ="]
[]
[]
[]
[]
[]
[{"$f":"Feuil1!D5","v":"Cie La Flèche Macairoise"},null,null,null,null,null,null,null,null,{"$f":"Feuil1!D6","v":"2ème étape Challenge CHAIRMARTIN"}]
[]
[{"$f":"Feuil1!D7","v":"2023-01-14"}]

{"sheet":"8B","index":61,"n_rows":23,"n_cols":17,"rows_kept":23,"cut":false,"hidden":false,"merged":[[20,0,21,8],[20,9,21,16],[22,0,22,16],[4,15,5,15],[4,16,5,16],[12,0,12,4],[12,9,12,13],[15,9,17,12],[15,13,17,16],[13,0,13,4],[13,9,14,12],[13,13,14,16],[14,0,14,4],[3,11,3,13],[4,0,5,0],[4,1,4,3],[4,4,5,4],[4,5,5,5],[4,6,5,6],[4,7,5,7],[4,9,5,9],[4,10,4,12],[4,13,5,13],[3,9,3,10],[4,14,5,14],[0,1,0,3],[0,6,0,8],[1,1,1,3],[3,0,3,1],[3,2,3,3]]}
["Nom",{"$f":"VLOOKUP(F2,Liste!B:K,2,FALSE)","v":{"$error":"#N/A"}},null,null,"Classement",null,{"$f":"VLOOKUP(F2,Liste!B:K,5,FALSE)","v":{"$error":"#N/A"}}]
["Club",{"$f":"VLOOKUP(F2,Liste!B:K,3,FALSE)","v":{"$error":"#N/A"}},null,null,"N° cible",{"$f":"Feuil1!H20","v":"8B"}]
[]
["1er tir",null,"N° licence",null,{"$f":"VLOOKUP(F2,Liste!B:K,4,FALSE)","v":{"$error":"#N/A"}},null,null,null,null,"2ème tir"]
["Volée","Nombre de points par flèches",null,null,"Total 3 flèches","Total cumulé",10,9,null,"Volée","Nombre de points par flèches",null,null,"Total 3 flèches","Total cumulé",10,9]
[null,1,2,3,null,null,null,null,null,null,1,2,3]
[1,null,null,null,null,null,null,null,null,1]
[2,null,null,null,null,null,null,null,null,2]
[3,null,null,null,null,null,null,null,null,3]
[4,null,null,null,null,null,null,null,null,4]
[5,null,null,null,null,null,null,null,null,5]
[6,null,null,null,null,null,null,null,null,6]
["Total 1ère distance",null,null,null,null,null,null,null,null,"Total 2ème distance"]
["Report 2ème distance +",null,null,null,null,null,null,null,null,"Marqueur",null,null,null,"Archer"]
["Total général ="]
[]
[]
[]
[]
[]
[{"$f":"Feuil1!D5","v":"Cie La Flèche Macairoise"},null,null,null,null,null,null,null,null,{"$f":"Feuil1!D6","v":"2ème étape Challenge CHAIRMARTIN"}]
[]
[{"$f":"Feuil1!D7","v":"2023-01-14"}]

{"sheet":"8C","index":62,"n_rows":23,"n_cols":17,"rows_kept":23,"cut":false,"hidden":false,"merged":[[20,0,21,8],[20,9,21,16],[22,0,22,16],[4,15,5,15],[4,16,5,16],[12,0,12,4],[12,9,12,13],[15,9,17,12],[15,13,17,16],[13,0,13,4],[13,9,14,12],[13,13,14,16],[14,0,14,4],[3,11,3,13],[4,0,5,0],[4,1,4,3],[4,4,5,4],[4,5,5,5],[4,6,5,6],[4,7,5,7],[4,9,5,9],[4,10,4,12],[4,13,5,13],[3,9,3,10],[4,14,5,14],[0,1,0,3],[0,6,0,8],[1,1,1,3],[3,0,3,1],[3,2,3,3]]}
["Nom",{"$f":"VLOOKUP(F2,Liste!B:K,2,FALSE)","v":{"$error":"#N/A"}},null,null,"Classement",null,{"$f":"VLOOKUP(F2,Liste!B:K,5,FALSE)","v":{"$error":"#N/A"}}]
["Club",{"$f":"VLOOKUP(F2,Liste!B:K,3,FALSE)","v":{"$error":"#N/A"}},null,null,"N° cible",{"$f":"Feuil1!H21","v":"8C"}]
[]
["1er tir",null,"N° licence",null,{"$f":"VLOOKUP(F2,Liste!B:K,4,FALSE)","v":{"$error":"#N/A"}},null,null,null,null,"2ème tir"]
["Volée","Nombre de points par flèches",null,null,"Total 3 flèches","Total cumulé",10,9,null,"Volée","Nombre de points par flèches",null,null,"Total 3 flèches","Total cumulé",10,9]
[null,1,2,3,null,null,null,null,null,null,1,2,3]
[1,null,null,null,null,null,null,null,null,1]
[2,null,null,null,null,null,null,null,null,2]
[3,null,null,null,null,null,null,null,null,3]
[4,null,null,null,null,null,null,null,null,4]
[5,null,null,null,null,null,null,null,null,5]
[6,null,null,null,null,null,null,null,null,6]
["Total 1ère distance",null,null,null,null,null,null,null,null,"Total 2ème distance"]
["Report 2ème distance +",null,null,null,null,null,null,null,null,"Marqueur",null,null,null,"Archer"]
["Total général ="]
[]
[]
[]
[]
[]
[{"$f":"Feuil1!D5","v":"Cie La Flèche Macairoise"},null,null,null,null,null,null,null,null,{"$f":"Feuil1!D6","v":"2ème étape Challenge CHAIRMARTIN"}]
[]
[{"$f":"Feuil1!D7","v":"2023-01-14"}]

{"sheet":"8D","index":63,"n_rows":23,"n_cols":17,"rows_kept":23,"cut":false,"hidden":false,"merged":[[20,0,21,8],[20,9,21,16],[22,0,22,16],[4,15,5,15],[4,16,5,16],[12,0,12,4],[12,9,12,13],[15,9,17,12],[15,13,17,16],[13,0,13,4],[13,9,14,12],[13,13,14,16],[14,0,14,4],[3,11,3,13],[4,0,5,0],[4,1,4,3],[4,4,5,4],[4,5,5,5],[4,6,5,6],[4,7,5,7],[4,9,5,9],[4,10,4,12],[4,13,5,13],[3,9,3,10],[4,14,5,14],[0,1,0,3],[0,6,0,8],[1,1,1,3],[3,0,3,1],[3,2,3,3]]}
["Nom",{"$f":"VLOOKUP(F2,Liste!B:K,2,FALSE)","v":{"$error":"#N/A"}},null,null,"Classement",null,{"$f":"VLOOKUP(F2,Liste!B:K,5,FALSE)","v":{"$error":"#N/A"}}]
["Club",{"$f":"VLOOKUP(F2,Liste!B:K,3,FALSE)","v":{"$error":"#N/A"}},null,null,"N° cible",{"$f":"Feuil1!H22","v":"8D"}]
[]
["1er tir",null,"N° licence",null,{"$f":"VLOOKUP(F2,Liste!B:K,4,FALSE)","v":{"$error":"#N/A"}},null,null,null,null,"2ème tir"]
["Volée","Nombre de points par flèches",null,null,"Total 3 flèches","Total cumulé",10,9,null,"Volée","Nombre de points par flèches",null,null,"Total 3 flèches","Total cumulé",10,9]
[null,1,2,3,null,null,null,null,null,null,1,2,3]
[1,null,null,null,null,null,null,null,null,1]
[2,null,null,null,null,null,null,null,null,2]
[3,null,null,null,null,null,null,null,null,3]
[4,null,null,null,null,null,null,null,null,4]
[5,null,null,null,null,null,null,null,null,5]
[6,null,null,null,null,null,null,null,null,6]
["Total 1ère distance",null,null,null,null,null,null,null,null,"Total 2ème distance"]
["Report 2ème distance +",null,null,null,null,null,null,null,null,"Marqueur",null,null,null,"Archer"]
["Total général ="]
[]
[]
[]
[]
[]
[{"$f":"Feuil1!D5","v":"Cie La Flèche Macairoise"},null,null,null,null,null,null,null,null,{"$f":"Feuil1!D6","v":"2ème étape Challenge CHAIRMARTIN"}]
[]
[{"$f":"Feuil1!D7","v":"2023-01-14"}]

{"sheet":"8E","index":64,"n_rows":23,"n_cols":17,"rows_kept":23,"cut":false,"hidden":false,"merged":[[20,0,21,8],[20,9,21,16],[22,0,22,16],[4,15,5,15],[4,16,5,16],[12,0,12,4],[12,9,12,13],[15,9,17,12],[15,13,17,16],[13,0,13,4],[13,9,14,12],[13,13,14,16],[14,0,14,4],[3,11,3,13],[4,0,5,0],[4,1,4,3],[4,4,5,4],[4,5,5,5],[4,6,5,6],[4,7,5,7],[4,9,5,9],[4,10,4,12],[4,13,5,13],[3,9,3,10],[4,14,5,14],[0,1,0,3],[0,6,0,8],[1,1,1,3],[3,0,3,1],[3,2,3,3]]}
["Nom",{"$f":"VLOOKUP(F2,Liste!B:K,2,FALSE)","v":{"$error":"#N/A"}},null,null,"Classement",null,{"$f":"VLOOKUP(F2,Liste!B:K,5,FALSE)","v":{"$error":"#N/A"}}]
["Club",{"$f":"VLOOKUP(F2,Liste!B:K,3,FALSE)","v":{"$error":"#N/A"}},null,null,"N° cible",{"$f":"Feuil1!H23","v":"8E"}]
[]
["1er tir",null,"N° licence",null,{"$f":"VLOOKUP(F2,Liste!B:K,4,FALSE)","v":{"$error":"#N/A"}},null,null,null,null,"2ème tir"]
["Volée","Nombre de points par flèches",null,null,"Total 3 flèches","Total cumulé",10,9,null,"Volée","Nombre de points par flèches",null,null,"Total 3 flèches","Total cumulé",10,9]
[null,1,2,3,null,null,null,null,null,null,1,2,3]
[1,null,null,null,null,null,null,null,null,1]
[2,null,null,null,null,null,null,null,null,2]
[3,null,null,null,null,null,null,null,null,3]
[4,null,null,null,null,null,null,null,null,4]
[5,null,null,null,null,null,null,null,null,5]
[6,null,null,null,null,null,null,null,null,6]
["Total 1ère distance",null,null,null,null,null,null,null,null,"Total 2ème distance"]
["Report 2ème distance +",null,null,null,null,null,null,null,null,"Marqueur",null,null,null,"Archer"]
["Total général ="]
[]
[]
[]
[]
[]
[{"$f":"Feuil1!D5","v":"Cie La Flèche Macairoise"},null,null,null,null,null,null,null,null,{"$f":"Feuil1!D6","v":"2ème étape Challenge CHAIRMARTIN"}]
[]
[{"$f":"Feuil1!D7","v":"2023-01-14"}]

{"sheet":"8F","index":65,"n_rows":23,"n_cols":17,"rows_kept":23,"cut":false,"hidden":false,"merged":[[20,0,21,8],[20,9,21,16],[22,0,22,16],[4,15,5,15],[4,16,5,16],[12,0,12,4],[12,9,12,13],[15,9,17,12],[15,13,17,16],[13,0,13,4],[13,9,14,12],[13,13,14,16],[14,0,14,4],[3,11,3,13],[4,0,5,0],[4,1,4,3],[4,4,5,4],[4,5,5,5],[4,6,5,6],[4,7,5,7],[4,9,5,9],[4,10,4,12],[4,13,5,13],[3,9,3,10],[4,14,5,14],[0,1,0,3],[0,6,0,8],[1,1,1,3],[3,0,3,1],[3,2,3,3]]}
["Nom",{"$f":"VLOOKUP(F2,Liste!B:K,2,FALSE)","v":{"$error":"#N/A"}},null,null,"Classement",null,{"$f":"VLOOKUP(F2,Liste!B:K,5,FALSE)","v":{"$error":"#N/A"}}]
["Club",{"$f":"VLOOKUP(F2,Liste!B:K,3,FALSE)","v":{"$error":"#N/A"}},null,null,"N° cible",{"$f":"Feuil1!H24","v":"8F"}]
[]
["1er tir",null,"N° licence",null,{"$f":"VLOOKUP(F2,Liste!B:K,4,FALSE)","v":{"$error":"#N/A"}},null,null,null,null,"2ème tir"]
["Volée","Nombre de points par flèches",null,null,"Total 3 flèches","Total cumulé",10,9,null,"Volée","Nombre de points par flèches",null,null,"Total 3 flèches","Total cumulé",10,9]
[null,1,2,3,null,null,null,null,null,null,1,2,3]
[1,null,null,null,null,null,null,null,null,1]
[2,null,null,null,null,null,null,null,null,2]
[3,null,null,null,null,null,null,null,null,3]
[4,null,null,null,null,null,null,null,null,4]
[5,null,null,null,null,null,null,null,null,5]
[6,null,null,null,null,null,null,null,null,6]
["Total 1ère distance",null,null,null,null,null,null,null,null,"Total 2ème distance"]
["Report 2ème distance +",null,null,null,null,null,null,null,null,"Marqueur",null,null,null,"Archer"]
["Total général ="]
[]
[]
[]
[]
[]
[{"$f":"Feuil1!D5","v":"Cie La Flèche Macairoise"},null,null,null,null,null,null,null,null,{"$f":"Feuil1!D6","v":"2ème étape Challenge CHAIRMARTIN"}]
[]
[{"$f":"Feuil1!D7","v":"2023-01-14"}]

{"sheet":"8G","index":66,"n_rows":23,"n_cols":17,"rows_kept":23,"cut":false,"hidden":false,"merged":[[20,0,21,8],[20,9,21,16],[22,0,22,16],[4,15,5,15],[4,16,5,16],[12,0,12,4],[12,9,12,13],[15,9,17,12],[15,13,17,16],[13,0,13,4],[13,9,14,12],[13,13,14,16],[14,0,14,4],[3,11,3,13],[4,0,5,0],[4,1,4,3],[4,4,5,4],[4,5,5,5],[4,6,5,6],[4,7,5,7],[4,9,5,9],[4,10,4,12],[4,13,5,13],[3,9,3,10],[4,14,5,14],[0,1,0,3],[0,6,0,8],[1,1,1,3],[3,0,3,1],[3,2,3,3]]}
["Nom",{"$f":"VLOOKUP(F2,Liste!B:K,2,FALSE)","v":{"$error":"#N/A"}},null,null,"Classement",null,{"$f":"VLOOKUP(F2,Liste!B:K,5,FALSE)","v":{"$error":"#N/A"}}]
["Club",{"$f":"VLOOKUP(F2,Liste!B:K,3,FALSE)","v":{"$error":"#N/A"}},null,null,"N° cible",{"$f":"Feuil1!H25","v":"8G"}]
[]
["1er tir",null,"N° licence",null,{"$f":"VLOOKUP(F2,Liste!B:K,4,FALSE)","v":{"$error":"#N/A"}},null,null,null,null,"2ème tir"]
["Volée","Nombre de points par flèches",null,null,"Total 3 flèches","Total cumulé",10,9,null,"Volée","Nombre de points par flèches",null,null,"Total 3 flèches","Total cumulé",10,9]
[null,1,2,3,null,null,null,null,null,null,1,2,3]
[1,null,null,null,null,null,null,null,null,1]
[2,null,null,null,null,null,null,null,null,2]
[3,null,null,null,null,null,null,null,null,3]
[4,null,null,null,null,null,null,null,null,4]
[5,null,null,null,null,null,null,null,null,5]
[6,null,null,null,null,null,null,null,null,6]
["Total 1ère distance",null,null,null,null,null,null,null,null,"Total 2ème distance"]
["Report 2ème distance +",null,null,null,null,null,null,null,null,"Marqueur",null,null,null,"Archer"]
["Total général ="]
[]
[]
[]
[]
[]
[{"$f":"Feuil1!D5","v":"Cie La Flèche Macairoise"},null,null,null,null,null,null,null,null,{"$f":"Feuil1!D6","v":"2ème étape Challenge CHAIRMARTIN"}]
[]
[{"$f":"Feuil1!D7","v":"2023-01-14"}]

{"sheet":"8H","index":67,"n_rows":23,"n_cols":17,"rows_kept":23,"cut":false,"hidden":false,"merged":[[20,0,21,8],[20,9,21,16],[22,0,22,16],[4,15,5,15],[4,16,5,16],[12,0,12,4],[12,9,12,13],[15,9,17,12],[15,13,17,16],[13,0,13,4],[13,9,14,12],[13,13,14,16],[14,0,14,4],[3,11,3,13],[4,0,5,0],[4,1,4,3],[4,4,5,4],[4,5,5,5],[4,6,5,6],[4,7,5,7],[4,9,5,9],[4,10,4,12],[4,13,5,13],[3,9,3,10],[4,14,5,14],[0,1,0,3],[0,6,0,8],[1,1,1,3],[3,0,3,1],[3,2,3,3]]}
["Nom",{"$f":"VLOOKUP(F2,Liste!B:K,2,FALSE)","v":{"$error":"#N/A"}},null,null,"Classement",null,{"$f":"VLOOKUP(F2,Liste!B:K,5,FALSE)","v":{"$error":"#N/A"}}]
["Club",{"$f":"VLOOKUP(F2,Liste!B:K,3,FALSE)","v":{"$error":"#N/A"}},null,null,"N° cible",{"$f":"Feuil1!H26","v":"8H"}]
[]
["1er tir",null,"N° licence",null,{"$f":"VLOOKUP(F2,Liste!B:K,4,FALSE)","v":{"$error":"#N/A"}},null,null,null,null,"2ème tir"]
["Volée","Nombre de points par flèches",null,null,"Total 3 flèches","Total cumulé",10,9,null,"Volée","Nombre de points par flèches",null,null,"Total 3 flèches","Total cumulé",10,9]
[null,1,2,3,null,null,null,null,null,null,1,2,3]
[1,null,null,null,null,null,null,null,null,1]
[2,null,null,null,null,null,null,null,null,2]
[3,null,null,null,null,null,null,null,null,3]
[4,null,null,null,null,null,null,null,null,4]
[5,null,null,null,null,null,null,null,null,5]
[6,null,null,null,null,null,null,null,null,6]
["Total 1ère distance",null,null,null,null,null,null,null,null,"Total 2ème distance"]
["Report 2ème distance +",null,null,null,null,null,null,null,null,"Marqueur",null,null,null,"Archer"]
["Total général ="]
[]
[]
[]
[]
[]
[{"$f":"Feuil1!D5","v":"Cie La Flèche Macairoise"},null,null,null,null,null,null,null,null,{"$f":"Feuil1!D6","v":"2ème étape Challenge CHAIRMARTIN"}]
[]
[{"$f":"Feuil1!D7","v":"2023-01-14"}]

{"sheet":"9A","index":68,"n_rows":23,"n_cols":17,"rows_kept":23,"cut":false,"hidden":false,"merged":[[0,1,0,3],[0,6,0,8],[1,1,1,3],[3,0,3,1],[3,2,3,3],[13,0,13,4],[13,9,14,12],[13,13,14,16],[14,0,14,4],[3,11,3,13],[4,0,5,0],[4,1,4,3],[4,4,5,4],[4,5,5,5],[4,6,5,6],[4,7,5,7],[4,9,5,9],[4,10,4,12],[4,13,5,13],[3,9,3,10],[4,14,5,14],[4,15,5,15],[4,16,5,16],[12,0,12,4],[12,9,12,13],[15,9,17,12],[15,13,17,16],[20,0,21,8],[20,9,21,16],[22,0,22,16]]}
["Nom",{"$f":"VLOOKUP(F2,Liste!B:K,2,FALSE)","v":{"$error":"#N/A"}},null,null,"Classement",null,{"$f":"VLOOKUP(F2,Liste!B:K,5,FALSE)","v":{"$error":"#N/A"}}]
["Club",{"$f":"VLOOKUP(F2,Liste!B:K,3,FALSE)","v":{"$error":"#N/A"}},null,null,"N° cible",{"$f":"Feuil1!J11","v":"9A"}]
[]
["1er tir",null,"N° licence",null,{"$f":"VLOOKUP(F2,Liste!B:K,4,FALSE)","v":{"$error":"#N/A"}},null,null,null,null,"2ème tir"]
["Volée","Nombre de points par flèches",null,null,"Total 3 flèches","Total cumulé",10,9,null,"Volée","Nombre de points par flèches",null,null,"Total 3 flèches","Total cumulé",10,9]
[null,1,2,3,null,null,null,null,null,null,1,2,3]
[1,null,null,null,null,null,null,null,null,1]
[2,null,null,null,null,null,null,null,null,2]
[3,null,null,null,null,null,null,null,null,3]
[4,null,null,null,null,null,null,null,null,4]
[5,null,null,null,null,null,null,null,null,5]
[6,null,null,null,null,null,null,null,null,6]
["Total 1ère distance",null,null,null,null,null,null,null,null,"Total 2ème distance"]
["Report 2ème distance +",null,null,null,null,null,null,null,null,"Marqueur",null,null,null,"Archer"]
["Total général ="]
[]
[]
[]
[]
[]
[{"$f":"Feuil1!D5","v":"Cie La Flèche Macairoise"},null,null,null,null,null,null,null,null,{"$f":"Feuil1!D6","v":"2ème étape Challenge CHAIRMARTIN"}]
[]
[{"$f":"Feuil1!D7","v":"2023-01-14"}]

{"sheet":"9B","index":69,"n_rows":23,"n_cols":17,"rows_kept":23,"cut":false,"hidden":false,"merged":[[0,1,0,3],[0,6,0,8],[1,1,1,3],[3,0,3,1],[3,2,3,3],[13,0,13,4],[13,9,14,12],[13,13,14,16],[14,0,14,4],[3,11,3,13],[4,0,5,0],[4,1,4,3],[4,4,5,4],[4,5,5,5],[4,6,5,6],[4,7,5,7],[4,9,5,9],[4,10,4,12],[4,13,5,13],[3,9,3,10],[4,14,5,14],[4,15,5,15],[4,16,5,16],[12,0,12,4],[12,9,12,13],[15,9,17,12],[15,13,17,16],[20,0,21,8],[20,9,21,16],[22,0,22,16]]}
["Nom",{"$f":"VLOOKUP(F2,Liste!B:K,2,FALSE)","v":{"$error":"#N/A"}},null,null,"Classement",null,{"$f":"VLOOKUP(F2,Liste!B:K,5,FALSE)","v":{"$error":"#N/A"}}]
["Club",{"$f":"VLOOKUP(F2,Liste!B:K,3,FALSE)","v":{"$error":"#N/A"}},null,null,"N° cible",{"$f":"Feuil1!J12","v":"9B"}]
[]
["1er tir",null,"N° licence",null,{"$f":"VLOOKUP(F2,Liste!B:K,4,FALSE)","v":{"$error":"#N/A"}},null,null,null,null,"2ème tir"]
["Volée","Nombre de points par flèches",null,null,"Total 3 flèches","Total cumulé",10,9,null,"Volée","Nombre de points par flèches",null,null,"Total 3 flèches","Total cumulé",10,9]
[null,1,2,3,null,null,null,null,null,null,1,2,3]
[1,null,null,null,null,null,null,null,null,1]
[2,null,null,null,null,null,null,null,null,2]
[3,null,null,null,null,null,null,null,null,3]
[4,null,null,null,null,null,null,null,null,4]
[5,null,null,null,null,null,null,null,null,5]
[6,null,null,null,null,null,null,null,null,6]
["Total 1ère distance",null,null,null,null,null,null,null,null,"Total 2ème distance"]
["Report 2ème distance +",null,null,null,null,null,null,null,null,"Marqueur",null,null,null,"Archer"]
["Total général ="]
[]
[]
[]
[]
[]
[{"$f":"Feuil1!D5","v":"Cie La Flèche Macairoise"},null,null,null,null,null,null,null,null,{"$f":"Feuil1!D6","v":"2ème étape Challenge CHAIRMARTIN"}]
[]
[{"$f":"Feuil1!D7","v":"2023-01-14"}]

{"sheet":"9C","index":70,"n_rows":23,"n_cols":17,"rows_kept":23,"cut":false,"hidden":false,"merged":[[0,1,0,3],[0,6,0,8],[1,1,1,3],[3,0,3,1],[3,2,3,3],[13,0,13,4],[13,9,14,12],[13,13,14,16],[14,0,14,4],[3,11,3,13],[4,0,5,0],[4,1,4,3],[4,4,5,4],[4,5,5,5],[4,6,5,6],[4,7,5,7],[4,9,5,9],[4,10,4,12],[4,13,5,13],[3,9,3,10],[4,14,5,14],[4,15,5,15],[4,16,5,16],[12,0,12,4],[12,9,12,13],[15,9,17,12],[15,13,17,16],[20,0,21,8],[20,9,21,16],[22,0,22,16]]}
["Nom",{"$f":"VLOOKUP(F2,Liste!B:K,2,FALSE)","v":{"$error":"#N/A"}},null,null,"Classement",null,{"$f":"VLOOKUP(F2,Liste!B:K,5,FALSE)","v":{"$error":"#N/A"}}]
["Club",{"$f":"VLOOKUP(F2,Liste!B:K,3,FALSE)","v":{"$error":"#N/A"}},null,null,"N° cible",{"$f":"Feuil1!J13","v":"9C"}]
[]
["1er tir",null,"N° licence",null,{"$f":"VLOOKUP(F2,Liste!B:K,4,FALSE)","v":{"$error":"#N/A"}},null,null,null,null,"2ème tir"]
["Volée","Nombre de points par flèches",null,null,"Total 3 flèches","Total cumulé",10,9,null,"Volée","Nombre de points par flèches",null,null,"Total 3 flèches","Total cumulé",10,9]
[null,1,2,3,null,null,null,null,null,null,1,2,3]
[1,null,null,null,null,null,null,null,null,1]
[2,null,null,null,null,null,null,null,null,2]
[3,null,null,null,null,null,null,null,null,3]
[4,null,null,null,null,null,null,null,null,4]
[5,null,null,null,null,null,null,null,null,5]
[6,null,null,null,null,null,null,null,null,6]
["Total 1ère distance",null,null,null,null,null,null,null,null,"Total 2ème distance"]
["Report 2ème distance +",null,null,null,null,null,null,null,null,"Marqueur",null,null,null,"Archer"]
["Total général ="]
[]
[]
[]
[]
[]
[{"$f":"Feuil1!D5","v":"Cie La Flèche Macairoise"},null,null,null,null,null,null,null,null,{"$f":"Feuil1!D6","v":"2ème étape Challenge CHAIRMARTIN"}]
[]
[{"$f":"Feuil1!D7","v":"2023-01-14"}]

{"sheet":"9D","index":71,"n_rows":23,"n_cols":17,"rows_kept":23,"cut":false,"hidden":false,"merged":[[0,1,0,3],[0,6,0,8],[1,1,1,3],[3,0,3,1],[3,2,3,3],[13,0,13,4],[13,9,14,12],[13,13,14,16],[14,0,14,4],[3,11,3,13],[4,0,5,0],[4,1,4,3],[4,4,5,4],[4,5,5,5],[4,6,5,6],[4,7,5,7],[4,9,5,9],[4,10,4,12],[4,13,5,13],[3,9,3,10],[4,14,5,14],[4,15,5,15],[4,16,5,16],[12,0,12,4],[12,9,12,13],[15,9,17,12],[15,13,17,16],[20,0,21,8],[20,9,21,16],[22,0,22,16]]}
["Nom",{"$f":"VLOOKUP(F2,Liste!B:K,2,FALSE)","v":{"$error":"#N/A"}},null,null,"Classement",null,{"$f":"VLOOKUP(F2,Liste!B:K,5,FALSE)","v":{"$error":"#N/A"}}]
["Club",{"$f":"VLOOKUP(F2,Liste!B:K,3,FALSE)","v":{"$error":"#N/A"}},null,null,"N° cible",{"$f":"Feuil1!J14","v":"9D"}]
[]
["1er tir",null,"N° licence",null,{"$f":"VLOOKUP(F2,Liste!B:K,4,FALSE)","v":{"$error":"#N/A"}},null,null,null,null,"2ème tir"]
["Volée","Nombre de points par flèches",null,null,"Total 3 flèches","Total cumulé",10,9,null,"Volée","Nombre de points par flèches",null,null,"Total 3 flèches","Total cumulé",10,9]
[null,1,2,3,null,null,null,null,null,null,1,2,3]
[1,null,null,null,null,null,null,null,null,1]
[2,null,null,null,null,null,null,null,null,2]
[3,null,null,null,null,null,null,null,null,3]
[4,null,null,null,null,null,null,null,null,4]
[5,null,null,null,null,null,null,null,null,5]
[6,null,null,null,null,null,null,null,null,6]
["Total 1ère distance",null,null,null,null,null,null,null,null,"Total 2ème distance"]
["Report 2ème distance +",null,null,null,null,null,null,null,null,"Marqueur",null,null,null,"Archer"]
["Total général ="]
[]
[]
[]
[]
[]
[{"$f":"Feuil1!D5","v":"Cie La Flèche Macairoise"},null,null,null,null,null,null,null,null,{"$f":"Feuil1!D6","v":"2ème étape Challenge CHAIRMARTIN"}]
[]
[{"$f":"Feuil1!D7","v":"2023-01-14"}]

{"sheet":"9E","index":72,"n_rows":23,"n_cols":17,"rows_kept":23,"cut":false,"hidden":false,"merged":[[0,1,0,3],[0,6,0,8],[1,1,1,3],[3,0,3,1],[3,2,3,3],[13,0,13,4],[13,9,14,12],[13,13,14,16],[14,0,14,4],[3,11,3,13],[4,0,5,0],[4,1,4,3],[4,4,5,4],[4,5,5,5],[4,6,5,6],[4,7,5,7],[4,9,5,9],[4,10,4,12],[4,13,5,13],[3,9,3,10],[4,14,5,14],[4,15,5,15],[4,16,5,16],[12,0,12,4],[12,9,12,13],[15,9,17,12],[15,13,17,16],[20,0,21,8],[20,9,21,16],[22,0,22,16]]}
["Nom",{"$f":"VLOOKUP(F2,Liste!B:K,2,FALSE)","v":{"$error":"#N/A"}},null,null,"Classement",null,{"$f":"VLOOKUP(F2,Liste!B:K,5,FALSE)","v":{"$error":"#N/A"}}]
["Club",{"$f":"VLOOKUP(F2,Liste!B:K,3,FALSE)","v":{"$error":"#N/A"}},null,null,"N° cible",{"$f":"Feuil1!J15","v":"9E"}]
[]
["1er tir",null,"N° licence",null,{"$f":"VLOOKUP(F2,Liste!B:K,4,FALSE)","v":{"$error":"#N/A"}},null,null,null,null,"2ème tir"]
["Volée","Nombre de points par flèches",null,null,"Total 3 flèches","Total cumulé",10,9,null,"Volée","Nombre de points par flèches",null,null,"Total 3 flèches","Total cumulé",10,9]
[null,1,2,3,null,null,null,null,null,null,1,2,3]
[1,null,null,null,null,null,null,null,null,1]
[2,null,null,null,null,null,null,null,null,2]
[3,null,null,null,null,null,null,null,null,3]
[4,null,null,null,null,null,null,null,null,4]
[5,null,null,null,null,null,null,null,null,5]
[6,null,null,null,null,null,null,null,null,6]
["Total 1ère distance",null,null,null,null,null,null,null,null,"Total 2ème distance"]
["Report 2ème distance +",null,null,null,null,null,null,null,null,"Marqueur",null,null,null,"Archer"]
["Total général ="]
[]
[]
[]
[]
[]
[{"$f":"Feuil1!D5","v":"Cie La Flèche Macairoise"},null,null,null,null,null,null,null,null,{"$f":"Feuil1!D6","v":"2ème étape Challenge CHAIRMARTIN"}]
[]
[{"$f":"Feuil1!D7","v":"2023-01-14"}]

{"sheet":"9F","index":73,"n_rows":23,"n_cols":17,"rows_kept":23,"cut":false,"hidden":false,"merged":[[0,1,0,3],[0,6,0,8],[1,1,1,3],[3,0,3,1],[3,2,3,3],[13,0,13,4],[13,9,14,12],[13,13,14,16],[14,0,14,4],[3,11,3,13],[4,0,5,0],[4,1,4,3],[4,4,5,4],[4,5,5,5],[4,6,5,6],[4,7,5,7],[4,9,5,9],[4,10,4,12],[4,13,5,13],[3,9,3,10],[4,14,5,14],[4,15,5,15],[4,16,5,16],[12,0,12,4],[12,9,12,13],[15,9,17,12],[15,13,17,16],[20,0,21,8],[20,9,21,16],[22,0,22,16]]}
["Nom",{"$f":"VLOOKUP(F2,Liste!B:K,2,FALSE)","v":{"$error":"#N/A"}},null,null,"Classement",null,{"$f":"VLOOKUP(F2,Liste!B:K,5,FALSE)","v":{"$error":"#N/A"}}]
["Club",{"$f":"VLOOKUP(F2,Liste!B:K,3,FALSE)","v":{"$error":"#N/A"}},null,null,"N° cible",{"$f":"Feuil1!J16","v":"9F"}]
[]
["1er tir",null,"N° licence",null,{"$f":"VLOOKUP(F2,Liste!B:K,4,FALSE)","v":{"$error":"#N/A"}},null,null,null,null,"2ème tir"]
["Volée","Nombre de points par flèches",null,null,"Total 3 flèches","Total cumulé",10,9,null,"Volée","Nombre de points par flèches",null,null,"Total 3 flèches","Total cumulé",10,9]
[null,1,2,3,null,null,null,null,null,null,1,2,3]
[1,null,null,null,null,null,null,null,null,1]
[2,null,null,null,null,null,null,null,null,2]
[3,null,null,null,null,null,null,null,null,3]
[4,null,null,null,null,null,null,null,null,4]
[5,null,null,null,null,null,null,null,null,5]
[6,null,null,null,null,null,null,null,null,6]
["Total 1ère distance",null,null,null,null,null,null,null,null,"Total 2ème distance"]
["Report 2ème distance +",null,null,null,null,null,null,null,null,"Marqueur",null,null,null,"Archer"]
["Total général ="]
[]
[]
[]
[]
[]
[{"$f":"Feuil1!D5","v":"Cie La Flèche Macairoise"},null,null,null,null,null,null,null,null,{"$f":"Feuil1!D6","v":"2ème étape Challenge CHAIRMARTIN"}]
[]
[{"$f":"Feuil1!D7","v":"2023-01-14"}]

{"sheet":"9G","index":74,"n_rows":23,"n_cols":17,"rows_kept":23,"cut":false,"hidden":false,"merged":[[0,1,0,3],[0,6,0,8],[1,1,1,3],[3,0,3,1],[3,2,3,3],[13,0,13,4],[13,9,14,12],[13,13,14,16],[14,0,14,4],[3,11,3,13],[4,0,5,0],[4,1,4,3],[4,4,5,4],[4,5,5,5],[4,6,5,6],[4,7,5,7],[4,9,5,9],[4,10,4,12],[4,13,5,13],[3,9,3,10],[4,14,5,14],[4,15,5,15],[4,16,5,16],[12,0,12,4],[12,9,12,13],[15,9,17,12],[15,13,17,16],[20,0,21,8],[20,9,21,16],[22,0,22,16]]}
["Nom",{"$f":"VLOOKUP(F2,Liste!B:K,2,FALSE)","v":{"$error":"#N/A"}},null,null,"Classement",null,{"$f":"VLOOKUP(F2,Liste!B:K,5,FALSE)","v":{"$error":"#N/A"}}]
["Club",{"$f":"VLOOKUP(F2,Liste!B:K,3,FALSE)","v":{"$error":"#N/A"}},null,null,"N° cible",{"$f":"Feuil1!J17","v":"9G"}]
[]
["1er tir",null,"N° licence",null,{"$f":"VLOOKUP(F2,Liste!B:K,4,FALSE)","v":{"$error":"#N/A"}},null,null,null,null,"2ème tir"]
["Volée","Nombre de points par flèches",null,null,"Total 3 flèches","Total cumulé",10,9,null,"Volée","Nombre de points par flèches",null,null,"Total 3 flèches","Total cumulé",10,9]
[null,1,2,3,null,null,null,null,null,null,1,2,3]
[1,null,null,null,null,null,null,null,null,1]
[2,null,null,null,null,null,null,null,null,2]
[3,null,null,null,null,null,null,null,null,3]
[4,null,null,null,null,null,null,null,null,4]
[5,null,null,null,null,null,null,null,null,5]
[6,null,null,null,null,null,null,null,null,6]
["Total 1ère distance",null,null,null,null,null,null,null,null,"Total 2ème distance"]
["Report 2ème distance +",null,null,null,null,null,null,null,null,"Marqueur",null,null,null,"Archer"]
["Total général ="]
[]
[]
[]
[]
[]
[{"$f":"Feuil1!D5","v":"Cie La Flèche Macairoise"},null,null,null,null,null,null,null,null,{"$f":"Feuil1!D6","v":"2ème étape Challenge CHAIRMARTIN"}]
[]
[{"$f":"Feuil1!D7","v":"2023-01-14"}]

{"sheet":"9H","index":75,"n_rows":23,"n_cols":17,"rows_kept":23,"cut":false,"hidden":false,"merged":[[0,1,0,3],[0,6,0,8],[1,1,1,3],[3,0,3,1],[3,2,3,3],[13,0,13,4],[13,9,14,12],[13,13,14,16],[14,0,14,4],[3,11,3,13],[4,0,5,0],[4,1,4,3],[4,4,5,4],[4,5,5,5],[4,6,5,6],[4,7,5,7],[4,9,5,9],[4,10,4,12],[4,13,5,13],[3,9,3,10],[4,14,5,14],[4,15,5,15],[4,16,5,16],[12,0,12,4],[12,9,12,13],[15,9,17,12],[15,13,17,16],[20,0,21,8],[20,9,21,16],[22,0,22,16]]}
["Nom",{"$f":"VLOOKUP(F2,Liste!B:K,2,FALSE)","v":{"$error":"#N/A"}},null,null,"Classement",null,{"$f":"VLOOKUP(F2,Liste!B:K,5,FALSE)","v":{"$error":"#N/A"}}]
["Club",{"$f":"VLOOKUP(F2,Liste!B:K,3,FALSE)","v":{"$error":"#N/A"}},null,null,"N° cible",{"$f":"Feuil1!J18","v":"9H"}]
[]
["1er tir",null,"N° licence",null,{"$f":"VLOOKUP(F2,Liste!B:K,4,FALSE)","v":{"$error":"#N/A"}},null,null,null,null,"2ème tir"]
["Volée","Nombre de points par flèches",null,null,"Total 3 flèches","Total cumulé",10,9,null,"Volée","Nombre de points par flèches",null,null,"Total 3 flèches","Total cumulé",10,9]
[null,1,2,3,null,null,null,null,null,null,1,2,3]
[1,null,null,null,null,null,null,null,null,1]
[2,null,null,null,null,null,null,null,null,2]
[3,null,null,null,null,null,null,null,null,3]
[4,null,null,null,null,null,null,null,null,4]
[5,null,null,null,null,null,null,null,null,5]
[6,null,null,null,null,null,null,null,null,6]
["Total 1ère distance",null,null,null,null,null,null,null,null,"Total 2ème distance"]
["Report 2ème distance +",null,null,null,null,null,null,null,null,"Marqueur",null,null,null,"Archer"]
["Total général ="]
[]
[]
[]
[]
[]
[{"$f":"Feuil1!D5","v":"Cie La Flèche Macairoise"},null,null,null,null,null,null,null,null,{"$f":"Feuil1!D6","v":"2ème étape Challenge CHAIRMARTIN"}]
[]
[{"$f":"Feuil1!D7","v":"2023-01-14"}]

{"sheet":"10A","index":76,"n_rows":23,"n_cols":17,"rows_kept":23,"cut":false,"hidden":false,"merged":[[0,1,0,3],[0,6,0,8],[1,1,1,3],[3,0,3,1],[3,2,3,3],[13,0,13,4],[13,9,14,12],[13,13,14,16],[14,0,14,4],[3,11,3,13],[4,0,5,0],[4,1,4,3],[4,4,5,4],[4,5,5,5],[4,6,5,6],[4,7,5,7],[4,9,5,9],[4,10,4,12],[4,13,5,13],[3,9,3,10],[4,14,5,14],[4,15,5,15],[4,16,5,16],[12,0,12,4],[12,9,12,13],[15,9,17,12],[15,13,17,16],[20,0,21,8],[20,9,21,16],[22,0,22,16]]}
["Nom",{"$f":"VLOOKUP(F2,Liste!B:K,2,FALSE)","v":{"$error":"#N/A"}},null,null,"Classement",null,{"$f":"VLOOKUP(F2,Liste!B:K,5,FALSE)","v":{"$error":"#N/A"}}]
["Club",{"$f":"VLOOKUP(F2,Liste!B:K,3,FALSE)","v":{"$error":"#N/A"}},null,null,"N° cible",{"$f":"Feuil1!J19","v":"10A"}]
[]
["1er tir",null,"N° licence",null,{"$f":"VLOOKUP(F2,Liste!B:K,4,FALSE)","v":{"$error":"#N/A"}},null,null,null,null,"2ème tir"]
["Volée","Nombre de points par flèches",null,null,"Total 3 flèches","Total cumulé",10,9,null,"Volée","Nombre de points par flèches",null,null,"Total 3 flèches","Total cumulé",10,9]
[null,1,2,3,null,null,null,null,null,null,1,2,3]
[1,null,null,null,null,null,null,null,null,1]
[2,null,null,null,null,null,null,null,null,2]
[3,null,null,null,null,null,null,null,null,3]
[4,null,null,null,null,null,null,null,null,4]
[5,null,null,null,null,null,null,null,null,5]
[6,null,null,null,null,null,null,null,null,6]
["Total 1ère distance",null,null,null,null,null,null,null,null,"Total 2ème distance"]
["Report 2ème distance +",null,null,null,null,null,null,null,null,"Marqueur",null,null,null,"Archer"]
["Total général ="]
[]
[]
[]
[]
[]
[{"$f":"Feuil1!D5","v":"Cie La Flèche Macairoise"},null,null,null,null,null,null,null,null,{"$f":"Feuil1!D6","v":"2ème étape Challenge CHAIRMARTIN"}]
[]
[{"$f":"Feuil1!D7","v":"2023-01-14"}]

{"sheet":"10B","index":77,"n_rows":23,"n_cols":17,"rows_kept":23,"cut":false,"hidden":false,"merged":[[0,1,0,3],[0,6,0,8],[1,1,1,3],[3,0,3,1],[3,2,3,3],[13,0,13,4],[13,9,14,12],[13,13,14,16],[14,0,14,4],[3,11,3,13],[4,0,5,0],[4,1,4,3],[4,4,5,4],[4,5,5,5],[4,6,5,6],[4,7,5,7],[4,9,5,9],[4,10,4,12],[4,13,5,13],[3,9,3,10],[4,14,5,14],[4,15,5,15],[4,16,5,16],[12,0,12,4],[12,9,12,13],[15,9,17,12],[15,13,17,16],[20,0,21,8],[20,9,21,16],[22,0,22,16]]}
["Nom",{"$f":"VLOOKUP(F2,Liste!B:K,2,FALSE)","v":{"$error":"#N/A"}},null,null,"Classement",null,{"$f":"VLOOKUP(F2,Liste!B:K,5,FALSE)","v":{"$error":"#N/A"}}]
["Club",{"$f":"VLOOKUP(F2,Liste!B:K,3,FALSE)","v":{"$error":"#N/A"}},null,null,"N° cible",{"$f":"Feuil1!J20","v":"10B"}]
[]
["1er tir",null,"N° licence",null,{"$f":"VLOOKUP(F2,Liste!B:K,4,FALSE)","v":{"$error":"#N/A"}},null,null,null,null,"2ème tir"]
["Volée","Nombre de points par flèches",null,null,"Total 3 flèches","Total cumulé",10,9,null,"Volée","Nombre de points par flèches",null,null,"Total 3 flèches","Total cumulé",10,9]
[null,1,2,3,null,null,null,null,null,null,1,2,3]
[1,null,null,null,null,null,null,null,null,1]
[2,null,null,null,null,null,null,null,null,2]
[3,null,null,null,null,null,null,null,null,3]
[4,null,null,null,null,null,null,null,null,4]
[5,null,null,null,null,null,null,null,null,5]
[6,null,null,null,null,null,null,null,null,6]
["Total 1ère distance",null,null,null,null,null,null,null,null,"Total 2ème distance"]
["Report 2ème distance +",null,null,null,null,null,null,null,null,"Marqueur",null,null,null,"Archer"]
["Total général ="]
[]
[]
[]
[]
[]
[{"$f":"Feuil1!D5","v":"Cie La Flèche Macairoise"},null,null,null,null,null,null,null,null,{"$f":"Feuil1!D6","v":"2ème étape Challenge CHAIRMARTIN"}]
[]
[{"$f":"Feuil1!D7","v":"2023-01-14"}]

{"sheet":"10C","index":78,"n_rows":23,"n_cols":17,"rows_kept":23,"cut":false,"hidden":false,"merged":[[0,1,0,3],[0,6,0,8],[1,1,1,3],[3,0,3,1],[3,2,3,3],[13,0,13,4],[13,9,14,12],[13,13,14,16],[14,0,14,4],[3,11,3,13],[4,0,5,0],[4,1,4,3],[4,4,5,4],[4,5,5,5],[4,6,5,6],[4,7,5,7],[4,9,5,9],[4,10,4,12],[4,13,5,13],[3,9,3,10],[4,14,5,14],[4,15,5,15],[4,16,5,16],[12,0,12,4],[12,9,12,13],[15,9,17,12],[15,13,17,16],[20,0,21,8],[20,9,21,16],[22,0,22,16]]}
["Nom",{"$f":"VLOOKUP(F2,Liste!B:K,2,FALSE)","v":{"$error":"#N/A"}},null,null,"Classement",null,{"$f":"VLOOKUP(F2,Liste!B:K,5,FALSE)","v":{"$error":"#N/A"}}]
["Club",{"$f":"VLOOKUP(F2,Liste!B:K,3,FALSE)","v":{"$error":"#N/A"}},null,null,"N° cible",{"$f":"Feuil1!J21","v":"10C"}]
[]
["1er tir",null,"N° licence",null,{"$f":"VLOOKUP(F2,Liste!B:K,4,FALSE)","v":{"$error":"#N/A"}},null,null,null,null,"2ème tir"]
["Volée","Nombre de points par flèches",null,null,"Total 3 flèches","Total cumulé",10,9,null,"Volée","Nombre de points par flèches",null,null,"Total 3 flèches","Total cumulé",10,9]
[null,1,2,3,null,null,null,null,null,null,1,2,3]
[1,null,null,null,null,null,null,null,null,1]
[2,null,null,null,null,null,null,null,null,2]
[3,null,null,null,null,null,null,null,null,3]
[4,null,null,null,null,null,null,null,null,4]
[5,null,null,null,null,null,null,null,null,5]
[6,null,null,null,null,null,null,null,null,6]
["Total 1ère distance",null,null,null,null,null,null,null,null,"Total 2ème distance"]
["Report 2ème distance +",null,null,null,null,null,null,null,null,"Marqueur",null,null,null,"Archer"]
["Total général ="]
[]
[]
[]
[]
[]
[{"$f":"Feuil1!D5","v":"Cie La Flèche Macairoise"},null,null,null,null,null,null,null,null,{"$f":"Feuil1!D6","v":"2ème étape Challenge CHAIRMARTIN"}]
[]
[{"$f":"Feuil1!D7","v":"2023-01-14"}]

{"sheet":"10D","index":79,"n_rows":23,"n_cols":17,"rows_kept":23,"cut":false,"hidden":false,"merged":[[0,1,0,3],[0,6,0,8],[1,1,1,3],[3,0,3,1],[3,2,3,3],[13,0,13,4],[13,9,14,12],[13,13,14,16],[14,0,14,4],[3,11,3,13],[4,0,5,0],[4,1,4,3],[4,4,5,4],[4,5,5,5],[4,6,5,6],[4,7,5,7],[4,9,5,9],[4,10,4,12],[4,13,5,13],[3,9,3,10],[4,14,5,14],[4,15,5,15],[4,16,5,16],[12,0,12,4],[12,9,12,13],[15,9,17,12],[15,13,17,16],[20,0,21,8],[20,9,21,16],[22,0,22,16]]}
["Nom",{"$f":"VLOOKUP(F2,Liste!B:K,2,FALSE)","v":{"$error":"#N/A"}},null,null,"Classement",null,{"$f":"VLOOKUP(F2,Liste!B:K,5,FALSE)","v":{"$error":"#N/A"}}]
["Club",{"$f":"VLOOKUP(F2,Liste!B:K,3,FALSE)","v":{"$error":"#N/A"}},null,null,"N° cible",{"$f":"Feuil1!J22","v":"10D"}]
[]
["1er tir",null,"N° licence",null,{"$f":"VLOOKUP(F2,Liste!B:K,4,FALSE)","v":{"$error":"#N/A"}},null,null,null,null,"2ème tir"]
["Volée","Nombre de points par flèches",null,null,"Total 3 flèches","Total cumulé",10,9,null,"Volée","Nombre de points par flèches",null,null,"Total 3 flèches","Total cumulé",10,9]
[null,1,2,3,null,null,null,null,null,null,1,2,3]
[1,null,null,null,null,null,null,null,null,1]
[2,null,null,null,null,null,null,null,null,2]
[3,null,null,null,null,null,null,null,null,3]
[4,null,null,null,null,null,null,null,null,4]
[5,null,null,null,null,null,null,null,null,5]
[6,null,null,null,null,null,null,null,null,6]
["Total 1ère distance",null,null,null,null,null,null,null,null,"Total 2ème distance"]
["Report 2ème distance +",null,null,null,null,null,null,null,null,"Marqueur",null,null,null,"Archer"]
["Total général ="]
[]
[]
[]
[]
[]
[{"$f":"Feuil1!D5","v":"Cie La Flèche Macairoise"},null,null,null,null,null,null,null,null,{"$f":"Feuil1!D6","v":"2ème étape Challenge CHAIRMARTIN"}]
[]
[{"$f":"Feuil1!D7","v":"2023-01-14"}]

{"sheet":"10E","index":80,"n_rows":23,"n_cols":17,"rows_kept":23,"cut":false,"hidden":false,"merged":[[0,1,0,3],[0,6,0,8],[1,1,1,3],[3,0,3,1],[3,2,3,3],[13,0,13,4],[13,9,14,12],[13,13,14,16],[14,0,14,4],[3,11,3,13],[4,0,5,0],[4,1,4,3],[4,4,5,4],[4,5,5,5],[4,6,5,6],[4,7,5,7],[4,9,5,9],[4,10,4,12],[4,13,5,13],[3,9,3,10],[4,14,5,14],[4,15,5,15],[4,16,5,16],[12,0,12,4],[12,9,12,13],[15,9,17,12],[15,13,17,16],[20,0,21,8],[20,9,21,16],[22,0,22,16]]}
["Nom",{"$f":"VLOOKUP(F2,Liste!B:K,2,FALSE)","v":{"$error":"#N/A"}},null,null,"Classement",null,{"$f":"VLOOKUP(F2,Liste!B:K,5,FALSE)","v":{"$error":"#N/A"}}]
["Club",{"$f":"VLOOKUP(F2,Liste!B:K,3,FALSE)","v":{"$error":"#N/A"}},null,null,"N° cible",{"$f":"Feuil1!J23","v":"10E"}]
[]
["1er tir",null,"N° licence",null,{"$f":"VLOOKUP(F2,Liste!B:K,4,FALSE)","v":{"$error":"#N/A"}},null,null,null,null,"2ème tir"]
["Volée","Nombre de points par flèches",null,null,"Total 3 flèches","Total cumulé",10,9,null,"Volée","Nombre de points par flèches",null,null,"Total 3 flèches","Total cumulé",10,9]
[null,1,2,3,null,null,null,null,null,null,1,2,3]
[1,null,null,null,null,null,null,null,null,1]
[2,null,null,null,null,null,null,null,null,2]
[3,null,null,null,null,null,null,null,null,3]
[4,null,null,null,null,null,null,null,null,4]
[5,null,null,null,null,null,null,null,null,5]
[6,null,null,null,null,null,null,null,null,6]
["Total 1ère distance",null,null,null,null,null,null,null,null,"Total 2ème distance"]
["Report 2ème distance +",null,null,null,null,null,null,null,null,"Marqueur",null,null,null,"Archer"]
["Total général ="]
[]
[]
[]
[]
[]
[{"$f":"Feuil1!D5","v":"Cie La Flèche Macairoise"},null,null,null,null,null,null,null,null,{"$f":"Feuil1!D6","v":"2ème étape Challenge CHAIRMARTIN"}]
[]
[{"$f":"Feuil1!D7","v":"2023-01-14"}]

{"sheet":"10F","index":81,"n_rows":23,"n_cols":17,"rows_kept":23,"cut":false,"hidden":false,"merged":[[0,1,0,3],[0,6,0,8],[1,1,1,3],[3,0,3,1],[3,2,3,3],[13,0,13,4],[13,9,14,12],[13,13,14,16],[14,0,14,4],[3,11,3,13],[4,0,5,0],[4,1,4,3],[4,4,5,4],[4,5,5,5],[4,6,5,6],[4,7,5,7],[4,9,5,9],[4,10,4,12],[4,13,5,13],[3,9,3,10],[4,14,5,14],[4,15,5,15],[4,16,5,16],[12,0,12,4],[12,9,12,13],[15,9,17,12],[15,13,17,16],[20,0,21,8],[20,9,21,16],[22,0,22,16]]}
["Nom",{"$f":"VLOOKUP(F2,Liste!B:K,2,FALSE)","v":{"$error":"#N/A"}},null,null,"Classement",null,{"$f":"VLOOKUP(F2,Liste!B:K,5,FALSE)","v":{"$error":"#N/A"}}]
["Club",{"$f":"VLOOKUP(F2,Liste!B:K,3,FALSE)","v":{"$error":"#N/A"}},null,null,"N° cible",{"$f":"Feuil1!J24","v":"10F"}]
[]
["1er tir",null,"N° licence",null,{"$f":"VLOOKUP(F2,Liste!B:K,4,FALSE)","v":{"$error":"#N/A"}},null,null,null,null,"2ème tir"]
["Volée","Nombre de points par flèches",null,null,"Total 3 flèches","Total cumulé",10,9,null,"Volée","Nombre de points par flèches",null,null,"Total 3 flèches","Total cumulé",10,9]
[null,1,2,3,null,null,null,null,null,null,1,2,3]
[1,null,null,null,null,null,null,null,null,1]
[2,null,null,null,null,null,null,null,null,2]
[3,null,null,null,null,null,null,null,null,3]
[4,null,null,null,null,null,null,null,null,4]
[5,null,null,null,null,null,null,null,null,5]
[6,null,null,null,null,null,null,null,null,6]
["Total 1ère distance",null,null,null,null,null,null,null,null,"Total 2ème distance"]
["Report 2ème distance +",null,null,null,null,null,null,null,null,"Marqueur",null,null,null,"Archer"]
["Total général ="]
[]
[]
[]
[]
[]
[{"$f":"Feuil1!D5","v":"Cie La Flèche Macairoise"},null,null,null,null,null,null,null,null,{"$f":"Feuil1!D6","v":"2ème étape Challenge CHAIRMARTIN"}]
[]
[{"$f":"Feuil1!D7","v":"2023-01-14"}]

{"sheet":"10G","index":82,"n_rows":23,"n_cols":17,"rows_kept":23,"cut":false,"hidden":false,"merged":[[0,1,0,3],[0,6,0,8],[1,1,1,3],[3,0,3,1],[3,2,3,3],[13,0,13,4],[13,9,14,12],[13,13,14,16],[14,0,14,4],[3,11,3,13],[4,0,5,0],[4,1,4,3],[4,4,5,4],[4,5,5,5],[4,6,5,6],[4,7,5,7],[4,9,5,9],[4,10,4,12],[4,13,5,13],[3,9,3,10],[4,14,5,14],[4,15,5,15],[4,16,5,16],[12,0,12,4],[12,9,12,13],[15,9,17,12],[15,13,17,16],[20,0,21,8],[20,9,21,16],[22,0,22,16]]}
["Nom",{"$f":"VLOOKUP(F2,Liste!B:K,2,FALSE)","v":{"$error":"#N/A"}},null,null,"Classement",null,{"$f":"VLOOKUP(F2,Liste!B:K,5,FALSE)","v":{"$error":"#N/A"}}]
["Club",{"$f":"VLOOKUP(F2,Liste!B:K,3,FALSE)","v":{"$error":"#N/A"}},null,null,"N° cible",{"$f":"Feuil1!J25","v":"10G"}]
[]
["1er tir",null,"N° licence",null,{"$f":"VLOOKUP(F2,Liste!B:K,4,FALSE)","v":{"$error":"#N/A"}},null,null,null,null,"2ème tir"]
["Volée","Nombre de points par flèches",null,null,"Total 3 flèches","Total cumulé",10,9,null,"Volée","Nombre de points par flèches",null,null,"Total 3 flèches","Total cumulé",10,9]
[null,1,2,3,null,null,null,null,null,null,1,2,3]
[1,null,null,null,null,null,null,null,null,1]
[2,null,null,null,null,null,null,null,null,2]
[3,null,null,null,null,null,null,null,null,3]
[4,null,null,null,null,null,null,null,null,4]
[5,null,null,null,null,null,null,null,null,5]
[6,null,null,null,null,null,null,null,null,6]
["Total 1ère distance",null,null,null,null,null,null,null,null,"Total 2ème distance"]
["Report 2ème distance +",null,null,null,null,null,null,null,null,"Marqueur",null,null,null,"Archer"]
["Total général ="]
[]
[]
[]
[]
[]
[{"$f":"Feuil1!D5","v":"Cie La Flèche Macairoise"},null,null,null,null,null,null,null,null,{"$f":"Feuil1!D6","v":"2ème étape Challenge CHAIRMARTIN"}]
[]
[{"$f":"Feuil1!D7","v":"2023-01-14"}]

{"sheet":"10H","index":83,"n_rows":23,"n_cols":17,"rows_kept":23,"cut":false,"hidden":false,"merged":[[0,1,0,3],[0,6,0,8],[1,1,1,3],[3,0,3,1],[3,2,3,3],[13,0,13,4],[13,9,14,12],[13,13,14,16],[14,0,14,4],[3,11,3,13],[4,0,5,0],[4,1,4,3],[4,4,5,4],[4,5,5,5],[4,6,5,6],[4,7,5,7],[4,9,5,9],[4,10,4,12],[4,13,5,13],[3,9,3,10],[4,14,5,14],[4,15,5,15],[4,16,5,16],[12,0,12,4],[12,9,12,13],[15,9,17,12],[15,13,17,16],[20,0,21,8],[20,9,21,16],[22,0,22,16]]}
["Nom",{"$f":"VLOOKUP(F2,Liste!B:K,2,FALSE)","v":{"$error":"#N/A"}},null,null,"Classement",null,{"$f":"VLOOKUP(F2,Liste!B:K,5,FALSE)","v":{"$error":"#N/A"}}]
["Club",{"$f":"VLOOKUP(F2,Liste!B:K,3,FALSE)","v":{"$error":"#N/A"}},null,null,"N° cible",{"$f":"Feuil1!J26","v":"10H"}]
[]
["1er tir",null,"N° licence",null,{"$f":"VLOOKUP(F2,Liste!B:K,4,FALSE)","v":{"$error":"#N/A"}},null,null,null,null,"2ème tir"]
["Volée","Nombre de points par flèches",null,null,"Total 3 flèches","Total cumulé",10,9,null,"Volée","Nombre de points par flèches",null,null,"Total 3 flèches","Total cumulé",10,9]
[null,1,2,3,null,null,null,null,null,null,1,2,3]
[1,null,null,null,null,null,null,null,null,1]
[2,null,null,null,null,null,null,null,null,2]
[3,null,null,null,null,null,null,null,null,3]
[4,null,null,null,null,null,null,null,null,4]
[5,null,null,null,null,null,null,null,null,5]
[6,null,null,null,null,null,null,null,null,6]
["Total 1ère distance",null,null,null,null,null,null,null,null,"Total 2ème distance"]
["Report 2ème distance +",null,null,null,null,null,null,null,null,"Marqueur",null,null,null,"Archer"]
["Total général ="]
[]
[]
[]
[]
[]
[{"$f":"Feuil1!D5","v":"Cie La Flèche Macairoise"},null,null,null,null,null,null,null,null,{"$f":"Feuil1!D6","v":"2ème étape Challenge CHAIRMARTIN"}]
[]
[{"$f":"Feuil1!D7","v":"2023-01-14"}]

{"sheet":"11A","index":84,"n_rows":23,"n_cols":17,"rows_kept":23,"cut":false,"hidden":false,"merged":[[0,1,0,3],[0,6,0,8],[1,1,1,3],[3,0,3,1],[3,2,3,3],[13,0,13,4],[13,9,14,12],[13,13,14,16],[14,0,14,4],[3,11,3,13],[4,0,5,0],[4,1,4,3],[4,4,5,4],[4,5,5,5],[4,6,5,6],[4,7,5,7],[4,9,5,9],[4,10,4,12],[4,13,5,13],[3,9,3,10],[4,14,5,14],[4,15,5,15],[4,16,5,16],[12,0,12,4],[12,9,12,13],[15,9,17,12],[15,13,17,16],[20,0,21,8],[20,9,21,16],[22,0,22,16]]}
["Nom",{"$f":"VLOOKUP(F2,Liste!B:K,2,FALSE)","v":{"$error":"#N/A"}},null,null,"Classement",null,{"$f":"VLOOKUP(F2,Liste!B:K,5,FALSE)","v":{"$error":"#N/A"}}]
["Club",{"$f":"VLOOKUP(F2,Liste!B:K,3,FALSE)","v":{"$error":"#N/A"}},null,null,"N° cible",{"$f":"Feuil1!L11","v":"11A"}]
[]
["1er tir",null,"N° licence",null,{"$f":"VLOOKUP(F2,Liste!B:K,4,FALSE)","v":{"$error":"#N/A"}},null,null,null,null,"2ème tir"]
["Volée","Nombre de points par flèches",null,null,"Total 3 flèches","Total cumulé",10,9,null,"Volée","Nombre de points par flèches",null,null,"Total 3 flèches","Total cumulé",10,9]
[null,1,2,3,null,null,null,null,null,null,1,2,3]
[1,null,null,null,null,null,null,null,null,1]
[2,null,null,null,null,null,null,null,null,2]
[3,null,null,null,null,null,null,null,null,3]
[4,null,null,null,null,null,null,null,null,4]
[5,null,null,null,null,null,null,null,null,5]
[6,null,null,null,null,null,null,null,null,6]
["Total 1ère distance",null,null,null,null,null,null,null,null,"Total 2ème distance"]
["Report 2ème distance +",null,null,null,null,null,null,null,null,"Marqueur",null,null,null,"Archer"]
["Total général ="]
[]
[]
[]
[]
[]
[{"$f":"Feuil1!D5","v":"Cie La Flèche Macairoise"},null,null,null,null,null,null,null,null,{"$f":"Feuil1!D6","v":"2ème étape Challenge CHAIRMARTIN"}]
[]
[{"$f":"Feuil1!D7","v":"2023-01-14"}]

{"sheet":"11B","index":85,"n_rows":23,"n_cols":17,"rows_kept":23,"cut":false,"hidden":false,"merged":[[0,1,0,3],[0,6,0,8],[1,1,1,3],[3,0,3,1],[3,2,3,3],[13,0,13,4],[13,9,14,12],[13,13,14,16],[14,0,14,4],[3,11,3,13],[4,0,5,0],[4,1,4,3],[4,4,5,4],[4,5,5,5],[4,6,5,6],[4,7,5,7],[4,9,5,9],[4,10,4,12],[4,13,5,13],[3,9,3,10],[4,14,5,14],[4,15,5,15],[4,16,5,16],[12,0,12,4],[12,9,12,13],[15,9,17,12],[15,13,17,16],[20,0,21,8],[20,9,21,16],[22,0,22,16]]}
["Nom",{"$f":"VLOOKUP(F2,Liste!B:K,2,FALSE)","v":{"$error":"#N/A"}},null,null,"Classement",null,{"$f":"VLOOKUP(F2,Liste!B:K,5,FALSE)","v":{"$error":"#N/A"}}]
["Club",{"$f":"VLOOKUP(F2,Liste!B:K,3,FALSE)","v":{"$error":"#N/A"}},null,null,"N° cible",{"$f":"Feuil1!L12","v":"11B"}]
[]
["1er tir",null,"N° licence",null,{"$f":"VLOOKUP(F2,Liste!B:K,4,FALSE)","v":{"$error":"#N/A"}},null,null,null,null,"2ème tir"]
["Volée","Nombre de points par flèches",null,null,"Total 3 flèches","Total cumulé",10,9,null,"Volée","Nombre de points par flèches",null,null,"Total 3 flèches","Total cumulé",10,9]
[null,1,2,3,null,null,null,null,null,null,1,2,3]
[1,null,null,null,null,null,null,null,null,1]
[2,null,null,null,null,null,null,null,null,2]
[3,null,null,null,null,null,null,null,null,3]
[4,null,null,null,null,null,null,null,null,4]
[5,null,null,null,null,null,null,null,null,5]
[6,null,null,null,null,null,null,null,null,6]
["Total 1ère distance",null,null,null,null,null,null,null,null,"Total 2ème distance"]
["Report 2ème distance +",null,null,null,null,null,null,null,null,"Marqueur",null,null,null,"Archer"]
["Total général ="]
[]
[]
[]
[]
[]
[{"$f":"Feuil1!D5","v":"Cie La Flèche Macairoise"},null,null,null,null,null,null,null,null,{"$f":"Feuil1!D6","v":"2ème étape Challenge CHAIRMARTIN"}]
[]
[{"$f":"Feuil1!D7","v":"2023-01-14"}]

{"sheet":"11C","index":86,"n_rows":23,"n_cols":17,"rows_kept":23,"cut":false,"hidden":false,"merged":[[0,1,0,3],[0,6,0,8],[1,1,1,3],[3,0,3,1],[3,2,3,3],[13,0,13,4],[13,9,14,12],[13,13,14,16],[14,0,14,4],[3,11,3,13],[4,0,5,0],[4,1,4,3],[4,4,5,4],[4,5,5,5],[4,6,5,6],[4,7,5,7],[4,9,5,9],[4,10,4,12],[4,13,5,13],[3,9,3,10],[4,14,5,14],[4,15,5,15],[4,16,5,16],[12,0,12,4],[12,9,12,13],[15,9,17,12],[15,13,17,16],[20,0,21,8],[20,9,21,16],[22,0,22,16]]}
["Nom",{"$f":"VLOOKUP(F2,Liste!B:K,2,FALSE)","v":{"$error":"#N/A"}},null,null,"Classement",null,{"$f":"VLOOKUP(F2,Liste!B:K,5,FALSE)","v":{"$error":"#N/A"}}]
["Club",{"$f":"VLOOKUP(F2,Liste!B:K,3,FALSE)","v":{"$error":"#N/A"}},null,null,"N° cible",{"$f":"Feuil1!L13","v":"11C"}]
[]
["1er tir",null,"N° licence",null,{"$f":"VLOOKUP(F2,Liste!B:K,4,FALSE)","v":{"$error":"#N/A"}},null,null,null,null,"2ème tir"]
["Volée","Nombre de points par flèches",null,null,"Total 3 flèches","Total cumulé",10,9,null,"Volée","Nombre de points par flèches",null,null,"Total 3 flèches","Total cumulé",10,9]
[null,1,2,3,null,null,null,null,null,null,1,2,3]
[1,null,null,null,null,null,null,null,null,1]
[2,null,null,null,null,null,null,null,null,2]
[3,null,null,null,null,null,null,null,null,3]
[4,null,null,null,null,null,null,null,null,4]
[5,null,null,null,null,null,null,null,null,5]
[6,null,null,null,null,null,null,null,null,6]
["Total 1ère distance",null,null,null,null,null,null,null,null,"Total 2ème distance"]
["Report 2ème distance +",null,null,null,null,null,null,null,null,"Marqueur",null,null,null,"Archer"]
["Total général ="]
[]
[]
[]
[]
[]
[{"$f":"Feuil1!D5","v":"Cie La Flèche Macairoise"},null,null,null,null,null,null,null,null,{"$f":"Feuil1!D6","v":"2ème étape Challenge CHAIRMARTIN"}]
[]
[{"$f":"Feuil1!D7","v":"2023-01-14"}]

{"sheet":"11D","index":87,"n_rows":23,"n_cols":17,"rows_kept":23,"cut":false,"hidden":false,"merged":[[0,1,0,3],[0,6,0,8],[1,1,1,3],[3,0,3,1],[3,2,3,3],[13,0,13,4],[13,9,14,12],[13,13,14,16],[14,0,14,4],[3,11,3,13],[4,0,5,0],[4,1,4,3],[4,4,5,4],[4,5,5,5],[4,6,5,6],[4,7,5,7],[4,9,5,9],[4,10,4,12],[4,13,5,13],[3,9,3,10],[4,14,5,14],[4,15,5,15],[4,16,5,16],[12,0,12,4],[12,9,12,13],[15,9,17,12],[15,13,17,16],[20,0,21,8],[20,9,21,16],[22,0,22,16]]}
["Nom",{"$f":"VLOOKUP(F2,Liste!B:K,2,FALSE)","v":{"$error":"#N/A"}},null,null,"Classement",null,{"$f":"VLOOKUP(F2,Liste!B:K,5,FALSE)","v":{"$error":"#N/A"}}]
["Club",{"$f":"VLOOKUP(F2,Liste!B:K,3,FALSE)","v":{"$error":"#N/A"}},null,null,"N° cible",{"$f":"Feuil1!L14","v":"11D"}]
[]
["1er tir",null,"N° licence",null,{"$f":"VLOOKUP(F2,Liste!B:K,4,FALSE)","v":{"$error":"#N/A"}},null,null,null,null,"2ème tir"]
["Volée","Nombre de points par flèches",null,null,"Total 3 flèches","Total cumulé",10,9,null,"Volée","Nombre de points par flèches",null,null,"Total 3 flèches","Total cumulé",10,9]
[null,1,2,3,null,null,null,null,null,null,1,2,3]
[1,null,null,null,null,null,null,null,null,1]
[2,null,null,null,null,null,null,null,null,2]
[3,null,null,null,null,null,null,null,null,3]
[4,null,null,null,null,null,null,null,null,4]
[5,null,null,null,null,null,null,null,null,5]
[6,null,null,null,null,null,null,null,null,6]
["Total 1ère distance",null,null,null,null,null,null,null,null,"Total 2ème distance"]
["Report 2ème distance +",null,null,null,null,null,null,null,null,"Marqueur",null,null,null,"Archer"]
["Total général ="]
[]
[]
[]
[]
[]
[{"$f":"Feuil1!D5","v":"Cie La Flèche Macairoise"},null,null,null,null,null,null,null,null,{"$f":"Feuil1!D6","v":"2ème étape Challenge CHAIRMARTIN"}]
[]
[{"$f":"Feuil1!D7","v":"2023-01-14"}]

{"sheet":"11E","index":88,"n_rows":23,"n_cols":17,"rows_kept":23,"cut":false,"hidden":false,"merged":[[0,1,0,3],[0,6,0,8],[1,1,1,3],[3,0,3,1],[3,2,3,3],[13,0,13,4],[13,9,14,12],[13,13,14,16],[14,0,14,4],[3,11,3,13],[4,0,5,0],[4,1,4,3],[4,4,5,4],[4,5,5,5],[4,6,5,6],[4,7,5,7],[4,9,5,9],[4,10,4,12],[4,13,5,13],[3,9,3,10],[4,14,5,14],[4,15,5,15],[4,16,5,16],[12,0,12,4],[12,9,12,13],[15,9,17,12],[15,13,17,16],[20,0,21,8],[20,9,21,16],[22,0,22,16]]}
["Nom",{"$f":"VLOOKUP(F2,Liste!B:K,2,FALSE)","v":{"$error":"#N/A"}},null,null,"Classement",null,{"$f":"VLOOKUP(F2,Liste!B:K,5,FALSE)","v":{"$error":"#N/A"}}]
["Club",{"$f":"VLOOKUP(F2,Liste!B:K,3,FALSE)","v":{"$error":"#N/A"}},null,null,"N° cible",{"$f":"Feuil1!L15","v":"11E"}]
[]
["1er tir",null,"N° licence",null,{"$f":"VLOOKUP(F2,Liste!B:K,4,FALSE)","v":{"$error":"#N/A"}},null,null,null,null,"2ème tir"]
["Volée","Nombre de points par flèches",null,null,"Total 3 flèches","Total cumulé",10,9,null,"Volée","Nombre de points par flèches",null,null,"Total 3 flèches","Total cumulé",10,9]
[null,1,2,3,null,null,null,null,null,null,1,2,3]
[1,null,null,null,null,null,null,null,null,1]
[2,null,null,null,null,null,null,null,null,2]
[3,null,null,null,null,null,null,null,null,3]
[4,null,null,null,null,null,null,null,null,4]
[5,null,null,null,null,null,null,null,null,5]
[6,null,null,null,null,null,null,null,null,6]
["Total 1ère distance",null,null,null,null,null,null,null,null,"Total 2ème distance"]
["Report 2ème distance +",null,null,null,null,null,null,null,null,"Marqueur",null,null,null,"Archer"]
["Total général ="]
[]
[]
[]
[]
[]
[{"$f":"Feuil1!D5","v":"Cie La Flèche Macairoise"},null,null,null,null,null,null,null,null,{"$f":"Feuil1!D6","v":"2ème étape Challenge CHAIRMARTIN"}]
[]
[{"$f":"Feuil1!D7","v":"2023-01-14"}]

{"sheet":"11F","index":89,"n_rows":23,"n_cols":17,"rows_kept":23,"cut":false,"hidden":false,"merged":[[0,1,0,3],[0,6,0,8],[1,1,1,3],[3,0,3,1],[3,2,3,3],[13,0,13,4],[13,9,14,12],[13,13,14,16],[14,0,14,4],[3,11,3,13],[4,0,5,0],[4,1,4,3],[4,4,5,4],[4,5,5,5],[4,6,5,6],[4,7,5,7],[4,9,5,9],[4,10,4,12],[4,13,5,13],[3,9,3,10],[4,14,5,14],[4,15,5,15],[4,16,5,16],[12,0,12,4],[12,9,12,13],[15,9,17,12],[15,13,17,16],[20,0,21,8],[20,9,21,16],[22,0,22,16]]}
["Nom",{"$f":"VLOOKUP(F2,Liste!B:K,2,FALSE)","v":{"$error":"#N/A"}},null,null,"Classement",null,{"$f":"VLOOKUP(F2,Liste!B:K,5,FALSE)","v":{"$error":"#N/A"}}]
["Club",{"$f":"VLOOKUP(F2,Liste!B:K,3,FALSE)","v":{"$error":"#N/A"}},null,null,"N° cible",{"$f":"Feuil1!L16","v":"11F"}]
[]
["1er tir",null,"N° licence",null,{"$f":"VLOOKUP(F2,Liste!B:K,4,FALSE)","v":{"$error":"#N/A"}},null,null,null,null,"2ème tir"]
["Volée","Nombre de points par flèches",null,null,"Total 3 flèches","Total cumulé",10,9,null,"Volée","Nombre de points par flèches",null,null,"Total 3 flèches","Total cumulé",10,9]
[null,1,2,3,null,null,null,null,null,null,1,2,3]
[1,null,null,null,null,null,null,null,null,1]
[2,null,null,null,null,null,null,null,null,2]
[3,null,null,null,null,null,null,null,null,3]
[4,null,null,null,null,null,null,null,null,4]
[5,null,null,null,null,null,null,null,null,5]
[6,null,null,null,null,null,null,null,null,6]
["Total 1ère distance",null,null,null,null,null,null,null,null,"Total 2ème distance"]
["Report 2ème distance +",null,null,null,null,null,null,null,null,"Marqueur",null,null,null,"Archer"]
["Total général ="]
[]
[]
[]
[]
[]
[{"$f":"Feuil1!D5","v":"Cie La Flèche Macairoise"},null,null,null,null,null,null,null,null,{"$f":"Feuil1!D6","v":"2ème étape Challenge CHAIRMARTIN"}]
[]
[{"$f":"Feuil1!D7","v":"2023-01-14"}]

{"sheet":"11G","index":90,"n_rows":23,"n_cols":17,"rows_kept":23,"cut":false,"hidden":false,"merged":[[0,1,0,3],[0,6,0,8],[1,1,1,3],[3,0,3,1],[3,2,3,3],[13,0,13,4],[13,9,14,12],[13,13,14,16],[14,0,14,4],[3,11,3,13],[4,0,5,0],[4,1,4,3],[4,4,5,4],[4,5,5,5],[4,6,5,6],[4,7,5,7],[4,9,5,9],[4,10,4,12],[4,13,5,13],[3,9,3,10],[4,14,5,14],[4,15,5,15],[4,16,5,16],[12,0,12,4],[12,9,12,13],[15,9,17,12],[15,13,17,16],[20,0,21,8],[20,9,21,16],[22,0,22,16]]}
["Nom",{"$f":"VLOOKUP(F2,Liste!B:K,2,FALSE)","v":{"$error":"#N/A"}},null,null,"Classement",null,{"$f":"VLOOKUP(F2,Liste!B:K,5,FALSE)","v":{"$error":"#N/A"}}]
["Club",{"$f":"VLOOKUP(F2,Liste!B:K,3,FALSE)","v":{"$error":"#N/A"}},null,null,"N° cible",{"$f":"Feuil1!L17","v":"11G"}]
[]
["1er tir",null,"N° licence",null,{"$f":"VLOOKUP(F2,Liste!B:K,4,FALSE)","v":{"$error":"#N/A"}},null,null,null,null,"2ème tir"]
["Volée","Nombre de points par flèches",null,null,"Total 3 flèches","Total cumulé",10,9,null,"Volée","Nombre de points par flèches",null,null,"Total 3 flèches","Total cumulé",10,9]
[null,1,2,3,null,null,null,null,null,null,1,2,3]
[1,null,null,null,null,null,null,null,null,1]
[2,null,null,null,null,null,null,null,null,2]
[3,null,null,null,null,null,null,null,null,3]
[4,null,null,null,null,null,null,null,null,4]
[5,null,null,null,null,null,null,null,null,5]
[6,null,null,null,null,null,null,null,null,6]
["Total 1ère distance",null,null,null,null,null,null,null,null,"Total 2ème distance"]
["Report 2ème distance +",null,null,null,null,null,null,null,null,"Marqueur",null,null,null,"Archer"]
["Total général ="]
[]
[]
[]
[]
[]
[{"$f":"Feuil1!D5","v":"Cie La Flèche Macairoise"},null,null,null,null,null,null,null,null,{"$f":"Feuil1!D6","v":"2ème étape Challenge CHAIRMARTIN"}]
[]
[{"$f":"Feuil1!D7","v":"2023-01-14"}]

{"sheet":"11H","index":91,"n_rows":23,"n_cols":17,"rows_kept":23,"cut":false,"hidden":false,"merged":[[0,1,0,3],[0,6,0,8],[1,1,1,3],[3,0,3,1],[3,2,3,3],[13,0,13,4],[13,9,14,12],[13,13,14,16],[14,0,14,4],[3,11,3,13],[4,0,5,0],[4,1,4,3],[4,4,5,4],[4,5,5,5],[4,6,5,6],[4,7,5,7],[4,9,5,9],[4,10,4,12],[4,13,5,13],[3,9,3,10],[4,14,5,14],[4,15,5,15],[4,16,5,16],[12,0,12,4],[12,9,12,13],[15,9,17,12],[15,13,17,16],[20,0,21,8],[20,9,21,16],[22,0,22,16]]}
["Nom",{"$f":"VLOOKUP(F2,Liste!B:K,2,FALSE)","v":{"$error":"#N/A"}},null,null,"Classement",null,{"$f":"VLOOKUP(F2,Liste!B:K,5,FALSE)","v":{"$error":"#N/A"}}]
["Club",{"$f":"VLOOKUP(F2,Liste!B:K,3,FALSE)","v":{"$error":"#N/A"}},null,null,"N° cible",{"$f":"Feuil1!L18","v":"11H"}]
[]
["1er tir",null,"N° licence",null,{"$f":"VLOOKUP(F2,Liste!B:K,4,FALSE)","v":{"$error":"#N/A"}},null,null,null,null,"2ème tir"]
["Volée","Nombre de points par flèches",null,null,"Total 3 flèches","Total cumulé",10,9,null,"Volée","Nombre de points par flèches",null,null,"Total 3 flèches","Total cumulé",10,9]
[null,1,2,3,null,null,null,null,null,null,1,2,3]
[1,null,null,null,null,null,null,null,null,1]
[2,null,null,null,null,null,null,null,null,2]
[3,null,null,null,null,null,null,null,null,3]
[4,null,null,null,null,null,null,null,null,4]
[5,null,null,null,null,null,null,null,null,5]
[6,null,null,null,null,null,null,null,null,6]
["Total 1ère distance",null,null,null,null,null,null,null,null,"Total 2ème distance"]
["Report 2ème distance +",null,null,null,null,null,null,null,null,"Marqueur",null,null,null,"Archer"]
["Total général ="]
[]
[]
[]
[]
[]
[{"$f":"Feuil1!D5","v":"Cie La Flèche Macairoise"},null,null,null,null,null,null,null,null,{"$f":"Feuil1!D6","v":"2ème étape Challenge CHAIRMARTIN"}]
[]
[{"$f":"Feuil1!D7","v":"2023-01-14"}]

{"sheet":"12A","index":92,"n_rows":23,"n_cols":17,"rows_kept":23,"cut":false,"hidden":false,"merged":[[0,1,0,3],[0,6,0,8],[1,1,1,3],[3,0,3,1],[3,2,3,3],[13,0,13,4],[13,9,14,12],[13,13,14,16],[14,0,14,4],[3,11,3,13],[4,0,5,0],[4,1,4,3],[4,4,5,4],[4,5,5,5],[4,6,5,6],[4,7,5,7],[4,9,5,9],[4,10,4,12],[4,13,5,13],[3,9,3,10],[4,14,5,14],[4,15,5,15],[4,16,5,16],[12,0,12,4],[12,9,12,13],[15,9,17,12],[15,13,17,16],[20,0,21,8],[20,9,21,16],[22,0,22,16]]}
["Nom",{"$f":"VLOOKUP(F2,Liste!B:K,2,FALSE)","v":{"$error":"#N/A"}},null,null,"Classement",null,{"$f":"VLOOKUP(F2,Liste!B:K,5,FALSE)","v":{"$error":"#N/A"}}]
["Club",{"$f":"VLOOKUP(F2,Liste!B:K,3,FALSE)","v":{"$error":"#N/A"}},null,null,"N° cible",{"$f":"Feuil1!L19","v":"12A"}]
[]
["1er tir",null,"N° licence",null,{"$f":"VLOOKUP(F2,Liste!B:K,4,FALSE)","v":{"$error":"#N/A"}},null,null,null,null,"2ème tir"]
["Volée","Nombre de points par flèches",null,null,"Total 3 flèches","Total cumulé",10,9,null,"Volée","Nombre de points par flèches",null,null,"Total 3 flèches","Total cumulé",10,9]
[null,1,2,3,null,null,null,null,null,null,1,2,3]
[1,null,null,null,null,null,null,null,null,1]
[2,null,null,null,null,null,null,null,null,2]
[3,null,null,null,null,null,null,null,null,3]
[4,null,null,null,null,null,null,null,null,4]
[5,null,null,null,null,null,null,null,null,5]
[6,null,null,null,null,null,null,null,null,6]
["Total 1ère distance",null,null,null,null,null,null,null,null,"Total 2ème distance"]
["Report 2ème distance +",null,null,null,null,null,null,null,null,"Marqueur",null,null,null,"Archer"]
["Total général ="]
[]
[]
[]
[]
[]
[{"$f":"Feuil1!D5","v":"Cie La Flèche Macairoise"},null,null,null,null,null,null,null,null,{"$f":"Feuil1!D6","v":"2ème étape Challenge CHAIRMARTIN"}]
[]
[{"$f":"Feuil1!D7","v":"2023-01-14"}]

{"sheet":"12B","index":93,"n_rows":23,"n_cols":17,"rows_kept":23,"cut":false,"hidden":false,"merged":[[0,1,0,3],[0,6,0,8],[1,1,1,3],[3,0,3,1],[3,2,3,3],[13,0,13,4],[13,9,14,12],[13,13,14,16],[14,0,14,4],[3,11,3,13],[4,0,5,0],[4,1,4,3],[4,4,5,4],[4,5,5,5],[4,6,5,6],[4,7,5,7],[4,9,5,9],[4,10,4,12],[4,13,5,13],[3,9,3,10],[4,14,5,14],[4,15,5,15],[4,16,5,16],[12,0,12,4],[12,9,12,13],[15,9,17,12],[15,13,17,16],[20,0,21,8],[20,9,21,16],[22,0,22,16]]}
["Nom",{"$f":"VLOOKUP(F2,Liste!B:K,2,FALSE)","v":{"$error":"#N/A"}},null,null,"Classement",null,{"$f":"VLOOKUP(F2,Liste!B:K,5,FALSE)","v":{"$error":"#N/A"}}]
["Club",{"$f":"VLOOKUP(F2,Liste!B:K,3,FALSE)","v":{"$error":"#N/A"}},null,null,"N° cible",{"$f":"Feuil1!L20","v":"12B"}]
[]
["1er tir",null,"N° licence",null,{"$f":"VLOOKUP(F2,Liste!B:K,4,FALSE)","v":{"$error":"#N/A"}},null,null,null,null,"2ème tir"]
["Volée","Nombre de points par flèches",null,null,"Total 3 flèches","Total cumulé",10,9,null,"Volée","Nombre de points par flèches",null,null,"Total 3 flèches","Total cumulé",10,9]
[null,1,2,3,null,null,null,null,null,null,1,2,3]
[1,null,null,null,null,null,null,null,null,1]
[2,null,null,null,null,null,null,null,null,2]
[3,null,null,null,null,null,null,null,null,3]
[4,null,null,null,null,null,null,null,null,4]
[5,null,null,null,null,null,null,null,null,5]
[6,null,null,null,null,null,null,null,null,6]
["Total 1ère distance",null,null,null,null,null,null,null,null,"Total 2ème distance"]
["Report 2ème distance +",null,null,null,null,null,null,null,null,"Marqueur",null,null,null,"Archer"]
["Total général ="]
[]
[]
[]
[]
[]
[{"$f":"Feuil1!D5","v":"Cie La Flèche Macairoise"},null,null,null,null,null,null,null,null,{"$f":"Feuil1!D6","v":"2ème étape Challenge CHAIRMARTIN"}]
[]
[{"$f":"Feuil1!D7","v":"2023-01-14"}]

{"sheet":"12C","index":94,"n_rows":23,"n_cols":17,"rows_kept":23,"cut":false,"hidden":false,"merged":[[0,1,0,3],[0,6,0,8],[1,1,1,3],[3,0,3,1],[3,2,3,3],[13,0,13,4],[13,9,14,12],[13,13,14,16],[14,0,14,4],[3,11,3,13],[4,0,5,0],[4,1,4,3],[4,4,5,4],[4,5,5,5],[4,6,5,6],[4,7,5,7],[4,9,5,9],[4,10,4,12],[4,13,5,13],[3,9,3,10],[4,14,5,14],[4,15,5,15],[4,16,5,16],[12,0,12,4],[12,9,12,13],[15,9,17,12],[15,13,17,16],[20,0,21,8],[20,9,21,16],[22,0,22,16]]}
["Nom",{"$f":"VLOOKUP(F2,Liste!B:K,2,FALSE)","v":{"$error":"#N/A"}},null,null,"Classement",null,{"$f":"VLOOKUP(F2,Liste!B:K,5,FALSE)","v":{"$error":"#N/A"}}]
["Club",{"$f":"VLOOKUP(F2,Liste!B:K,3,FALSE)","v":{"$error":"#N/A"}},null,null,"N° cible",{"$f":"Feuil1!L21","v":"12C"}]
[]
["1er tir",null,"N° licence",null,{"$f":"VLOOKUP(F2,Liste!B:K,4,FALSE)","v":{"$error":"#N/A"}},null,null,null,null,"2ème tir"]
["Volée","Nombre de points par flèches",null,null,"Total 3 flèches","Total cumulé",10,9,null,"Volée","Nombre de points par flèches",null,null,"Total 3 flèches","Total cumulé",10,9]
[null,1,2,3,null,null,null,null,null,null,1,2,3]
[1,null,null,null,null,null,null,null,null,1]
[2,null,null,null,null,null,null,null,null,2]
[3,null,null,null,null,null,null,null,null,3]
[4,null,null,null,null,null,null,null,null,4]
[5,null,null,null,null,null,null,null,null,5]
[6,null,null,null,null,null,null,null,null,6]
["Total 1ère distance",null,null,null,null,null,null,null,null,"Total 2ème distance"]
["Report 2ème distance +",null,null,null,null,null,null,null,null,"Marqueur",null,null,null,"Archer"]
["Total général ="]
[]
[]
[]
[]
[]
[{"$f":"Feuil1!D5","v":"Cie La Flèche Macairoise"},null,null,null,null,null,null,null,null,{"$f":"Feuil1!D6","v":"2ème étape Challenge CHAIRMARTIN"}]
[]
[{"$f":"Feuil1!D7","v":"2023-01-14"}]

{"sheet":"12D","index":95,"n_rows":23,"n_cols":17,"rows_kept":23,"cut":false,"hidden":false,"merged":[[0,1,0,3],[0,6,0,8],[1,1,1,3],[3,0,3,1],[3,2,3,3],[13,0,13,4],[13,9,14,12],[13,13,14,16],[14,0,14,4],[3,11,3,13],[4,0,5,0],[4,1,4,3],[4,4,5,4],[4,5,5,5],[4,6,5,6],[4,7,5,7],[4,9,5,9],[4,10,4,12],[4,13,5,13],[3,9,3,10],[4,14,5,14],[4,15,5,15],[4,16,5,16],[12,0,12,4],[12,9,12,13],[15,9,17,12],[15,13,17,16],[20,0,21,8],[20,9,21,16],[22,0,22,16]]}
["Nom",{"$f":"VLOOKUP(F2,Liste!B:K,2,FALSE)","v":{"$error":"#N/A"}},null,null,"Classement",null,{"$f":"VLOOKUP(F2,Liste!B:K,5,FALSE)","v":{"$error":"#N/A"}}]
["Club",{"$f":"VLOOKUP(F2,Liste!B:K,3,FALSE)","v":{"$error":"#N/A"}},null,null,"N° cible",{"$f":"Feuil1!L22","v":"12D"}]
[]
["1er tir",null,"N° licence",null,{"$f":"VLOOKUP(F2,Liste!B:K,4,FALSE)","v":{"$error":"#N/A"}},null,null,null,null,"2ème tir"]
["Volée","Nombre de points par flèches",null,null,"Total 3 flèches","Total cumulé",10,9,null,"Volée","Nombre de points par flèches",null,null,"Total 3 flèches","Total cumulé",10,9]
[null,1,2,3,null,null,null,null,null,null,1,2,3]
[1,null,null,null,null,null,null,null,null,1]
[2,null,null,null,null,null,null,null,null,2]
[3,null,null,null,null,null,null,null,null,3]
[4,null,null,null,null,null,null,null,null,4]
[5,null,null,null,null,null,null,null,null,5]
[6,null,null,null,null,null,null,null,null,6]
["Total 1ère distance",null,null,null,null,null,null,null,null,"Total 2ème distance"]
["Report 2ème distance +",null,null,null,null,null,null,null,null,"Marqueur",null,null,null,"Archer"]
["Total général ="]
[]
[]
[]
[]
[]
[{"$f":"Feuil1!D5","v":"Cie La Flèche Macairoise"},null,null,null,null,null,null,null,null,{"$f":"Feuil1!D6","v":"2ème étape Challenge CHAIRMARTIN"}]
[]
[{"$f":"Feuil1!D7","v":"2023-01-14"}]

{"sheet":"12E","index":96,"n_rows":23,"n_cols":17,"rows_kept":23,"cut":false,"hidden":false,"merged":[[0,1,0,3],[0,6,0,8],[1,1,1,3],[3,0,3,1],[3,2,3,3],[13,0,13,4],[13,9,14,12],[13,13,14,16],[14,0,14,4],[3,11,3,13],[4,0,5,0],[4,1,4,3],[4,4,5,4],[4,5,5,5],[4,6,5,6],[4,7,5,7],[4,9,5,9],[4,10,4,12],[4,13,5,13],[3,9,3,10],[4,14,5,14],[4,15,5,15],[4,16,5,16],[12,0,12,4],[12,9,12,13],[15,9,17,12],[15,13,17,16],[20,0,21,8],[20,9,21,16],[22,0,22,16]]}
["Nom",{"$f":"VLOOKUP(F2,Liste!B:K,2,FALSE)","v":{"$error":"#N/A"}},null,null,"Classement",null,{"$f":"VLOOKUP(F2,Liste!B:K,5,FALSE)","v":{"$error":"#N/A"}}]
["Club",{"$f":"VLOOKUP(F2,Liste!B:K,3,FALSE)","v":{"$error":"#N/A"}},null,null,"N° cible",{"$f":"Feuil1!L23","v":"12E"}]
[]
["1er tir",null,"N° licence",null,{"$f":"VLOOKUP(F2,Liste!B:K,4,FALSE)","v":{"$error":"#N/A"}},null,null,null,null,"2ème tir"]
["Volée","Nombre de points par flèches",null,null,"Total 3 flèches","Total cumulé",10,9,null,"Volée","Nombre de points par flèches",null,null,"Total 3 flèches","Total cumulé",10,9]
[null,1,2,3,null,null,null,null,null,null,1,2,3]
[1,null,null,null,null,null,null,null,null,1]
[2,null,null,null,null,null,null,null,null,2]
[3,null,null,null,null,null,null,null,null,3]
[4,null,null,null,null,null,null,null,null,4]
[5,null,null,null,null,null,null,null,null,5]
[6,null,null,null,null,null,null,null,null,6]
["Total 1ère distance",null,null,null,null,null,null,null,null,"Total 2ème distance"]
["Report 2ème distance +",null,null,null,null,null,null,null,null,"Marqueur",null,null,null,"Archer"]
["Total général ="]
[]
[]
[]
[]
[]
[{"$f":"Feuil1!D5","v":"Cie La Flèche Macairoise"},null,null,null,null,null,null,null,null,{"$f":"Feuil1!D6","v":"2ème étape Challenge CHAIRMARTIN"}]
[]
[{"$f":"Feuil1!D7","v":"2023-01-14"}]

{"sheet":"12F","index":97,"n_rows":23,"n_cols":17,"rows_kept":23,"cut":false,"hidden":false,"merged":[[0,1,0,3],[0,6,0,8],[1,1,1,3],[3,0,3,1],[3,2,3,3],[13,0,13,4],[13,9,14,12],[13,13,14,16],[14,0,14,4],[3,11,3,13],[4,0,5,0],[4,1,4,3],[4,4,5,4],[4,5,5,5],[4,6,5,6],[4,7,5,7],[4,9,5,9],[4,10,4,12],[4,13,5,13],[3,9,3,10],[4,14,5,14],[4,15,5,15],[4,16,5,16],[12,0,12,4],[12,9,12,13],[15,9,17,12],[15,13,17,16],[20,0,21,8],[20,9,21,16],[22,0,22,16]]}
["Nom",{"$f":"VLOOKUP(F2,Liste!B:K,2,FALSE)","v":{"$error":"#N/A"}},null,null,"Classement",null,{"$f":"VLOOKUP(F2,Liste!B:K,5,FALSE)","v":{"$error":"#N/A"}}]
["Club",{"$f":"VLOOKUP(F2,Liste!B:K,3,FALSE)","v":{"$error":"#N/A"}},null,null,"N° cible",{"$f":"Feuil1!L24","v":"12F"}]
[]
["1er tir",null,"N° licence",null,{"$f":"VLOOKUP(F2,Liste!B:K,4,FALSE)","v":{"$error":"#N/A"}},null,null,null,null,"2ème tir"]
["Volée","Nombre de points par flèches",null,null,"Total 3 flèches","Total cumulé",10,9,null,"Volée","Nombre de points par flèches",null,null,"Total 3 flèches","Total cumulé",10,9]
[null,1,2,3,null,null,null,null,null,null,1,2,3]
[1,null,null,null,null,null,null,null,null,1]
[2,null,null,null,null,null,null,null,null,2]
[3,null,null,null,null,null,null,null,null,3]
[4,null,null,null,null,null,null,null,null,4]
[5,null,null,null,null,null,null,null,null,5]
[6,null,null,null,null,null,null,null,null,6]
["Total 1ère distance",null,null,null,null,null,null,null,null,"Total 2ème distance"]
["Report 2ème distance +",null,null,null,null,null,null,null,null,"Marqueur",null,null,null,"Archer"]
["Total général ="]
[]
[]
[]
[]
[]
[{"$f":"Feuil1!D5","v":"Cie La Flèche Macairoise"},null,null,null,null,null,null,null,null,{"$f":"Feuil1!D6","v":"2ème étape Challenge CHAIRMARTIN"}]
[]
[{"$f":"Feuil1!D7","v":"2023-01-14"}]

{"sheet":"12G","index":98,"n_rows":23,"n_cols":17,"rows_kept":23,"cut":false,"hidden":false,"merged":[[0,1,0,3],[0,6,0,8],[1,1,1,3],[3,0,3,1],[3,2,3,3],[13,0,13,4],[13,9,14,12],[13,13,14,16],[14,0,14,4],[3,11,3,13],[4,0,5,0],[4,1,4,3],[4,4,5,4],[4,5,5,5],[4,6,5,6],[4,7,5,7],[4,9,5,9],[4,10,4,12],[4,13,5,13],[3,9,3,10],[4,14,5,14],[4,15,5,15],[4,16,5,16],[12,0,12,4],[12,9,12,13],[15,9,17,12],[15,13,17,16],[20,0,21,8],[20,9,21,16],[22,0,22,16]]}
["Nom",{"$f":"VLOOKUP(F2,Liste!B:K,2,FALSE)","v":{"$error":"#N/A"}},null,null,"Classement",null,{"$f":"VLOOKUP(F2,Liste!B:K,5,FALSE)","v":{"$error":"#N/A"}}]
["Club",{"$f":"VLOOKUP(F2,Liste!B:K,3,FALSE)","v":{"$error":"#N/A"}},null,null,"N° cible",{"$f":"Feuil1!L25","v":"12G"}]
[]
["1er tir",null,"N° licence",null,{"$f":"VLOOKUP(F2,Liste!B:K,4,FALSE)","v":{"$error":"#N/A"}},null,null,null,null,"2ème tir"]
["Volée","Nombre de points par flèches",null,null,"Total 3 flèches","Total cumulé",10,9,null,"Volée","Nombre de points par flèches",null,null,"Total 3 flèches","Total cumulé",10,9]
[null,1,2,3,null,null,null,null,null,null,1,2,3]
[1,null,null,null,null,null,null,null,null,1]
[2,null,null,null,null,null,null,null,null,2]
[3,null,null,null,null,null,null,null,null,3]
[4,null,null,null,null,null,null,null,null,4]
[5,null,null,null,null,null,null,null,null,5]
[6,null,null,null,null,null,null,null,null,6]
["Total 1ère distance",null,null,null,null,null,null,null,null,"Total 2ème distance"]
["Report 2ème distance +",null,null,null,null,null,null,null,null,"Marqueur",null,null,null,"Archer"]
["Total général ="]
[]
[]
[]
[]
[]
[{"$f":"Feuil1!D5","v":"Cie La Flèche Macairoise"},null,null,null,null,null,null,null,null,{"$f":"Feuil1!D6","v":"2ème étape Challenge CHAIRMARTIN"}]
[]
[{"$f":"Feuil1!D7","v":"2023-01-14"}]

{"sheet":"12H","index":99,"n_rows":23,"n_cols":17,"rows_kept":23,"cut":false,"hidden":false,"merged":[[0,1,0,3],[0,6,0,8],[1,1,1,3],[3,0,3,1],[3,2,3,3],[13,0,13,4],[13,9,14,12],[13,13,14,16],[14,0,14,4],[3,11,3,13],[4,0,5,0],[4,1,4,3],[4,4,5,4],[4,5,5,5],[4,6,5,6],[4,7,5,7],[4,9,5,9],[4,10,4,12],[4,13,5,13],[3,9,3,10],[4,14,5,14],[4,15,5,15],[4,16,5,16],[12,0,12,4],[12,9,12,13],[15,9,17,12],[15,13,17,16],[20,0,21,8],[20,9,21,16],[22,0,22,16]]}
["Nom",{"$f":"VLOOKUP(F2,Liste!B:K,2,FALSE)","v":{"$error":"#N/A"}},null,null,"Classement",null,{"$f":"VLOOKUP(F2,Liste!B:K,5,FALSE)","v":{"$error":"#N/A"}}]
["Club",{"$f":"VLOOKUP(F2,Liste!B:K,3,FALSE)","v":{"$error":"#N/A"}},null,null,"N° cible",{"$f":"Feuil1!L26","v":"12H"}]
[]
["1er tir",null,"N° licence",null,{"$f":"VLOOKUP(F2,Liste!B:K,4,FALSE)","v":{"$error":"#N/A"}},null,null,null,null,"2ème tir"]
["Volée","Nombre de points par flèches",null,null,"Total 3 flèches","Total cumulé",10,9,null,"Volée","Nombre de points par flèches",null,null,"Total 3 flèches","Total cumulé",10,9]
[null,1,2,3,null,null,null,null,null,null,1,2,3]
[1,null,null,null,null,null,null,null,null,1]
[2,null,null,null,null,null,null,null,null,2]
[3,null,null,null,null,null,null,null,null,3]
[4,null,null,null,null,null,null,null,null,4]
[5,null,null,null,null,null,null,null,null,5]
[6,null,null,null,null,null,null,null,null,6]
["Total 1ère distance",null,null,null,null,null,null,null,null,"Total 2ème distance"]
["Report 2ème distance +",null,null,null,null,null,null,null,null,"Marqueur",null,null,null,"Archer"]
["Total général ="]
[]
[]
[]
[]
[]
[{"$f":"Feuil1!D5","v":"Cie La Flèche Macairoise"},null,null,null,null,null,null,null,null,{"$f":"Feuil1!D6","v":"2ème étape Challenge CHAIRMARTIN"}]
[]
[{"$f":"Feuil1!D7","v":"2023-01-14"}]

{"sheet":"13A","index":100,"n_rows":23,"n_cols":17,"rows_kept":23,"cut":false,"hidden":false,"merged":[[0,1,0,3],[0,6,0,8],[1,1,1,3],[3,0,3,1],[3,2,3,3],[13,0,13,4],[13,9,14,12],[13,13,14,16],[14,0,14,4],[3,11,3,13],[4,0,5,0],[4,1,4,3],[4,4,5,4],[4,5,5,5],[4,6,5,6],[4,7,5,7],[4,9,5,9],[4,10,4,12],[4,13,5,13],[3,9,3,10],[4,14,5,14],[4,15,5,15],[4,16,5,16],[12,0,12,4],[12,9,12,13],[15,9,17,12],[15,13,17,16],[20,0,21,8],[20,9,21,16],[22,0,22,16]]}
["Nom",{"$f":"VLOOKUP(F2,Liste!B:K,2,FALSE)","v":{"$error":"#N/A"}},null,null,"Classement",null,{"$f":"VLOOKUP(F2,Liste!B:K,5,FALSE)","v":{"$error":"#N/A"}}]
["Club",{"$f":"VLOOKUP(F2,Liste!B:K,3,FALSE)","v":{"$error":"#N/A"}},null,null,"N° cible",{"$f":"Feuil1!N11","v":"13A"}]
[]
["1er tir",null,"N° licence",null,{"$f":"VLOOKUP(F2,Liste!B:K,4,FALSE)","v":{"$error":"#N/A"}},null,null,null,null,"2ème tir"]
["Volée","Nombre de points par flèches",null,null,"Total 3 flèches","Total cumulé",10,9,null,"Volée","Nombre de points par flèches",null,null,"Total 3 flèches","Total cumulé",10,9]
[null,1,2,3,null,null,null,null,null,null,1,2,3]
[1,null,null,null,null,null,null,null,null,1]
[2,null,null,null,null,null,null,null,null,2]
[3,null,null,null,null,null,null,null,null,3]
[4,null,null,null,null,null,null,null,null,4]
[5,null,null,null,null,null,null,null,null,5]
[6,null,null,null,null,null,null,null,null,6]
["Total 1ère distance",null,null,null,null,null,null,null,null,"Total 2ème distance"]
["Report 2ème distance +",null,null,null,null,null,null,null,null,"Marqueur",null,null,null,"Archer"]
["Total général ="]
[]
[]
[]
[]
[]
[{"$f":"Feuil1!D5","v":"Cie La Flèche Macairoise"},null,null,null,null,null,null,null,null,{"$f":"Feuil1!D6","v":"2ème étape Challenge CHAIRMARTIN"}]
[]
[{"$f":"Feuil1!D7","v":"2023-01-14"}]

{"sheet":"13B","index":101,"n_rows":23,"n_cols":17,"rows_kept":23,"cut":false,"hidden":false,"merged":[[0,1,0,3],[0,6,0,8],[1,1,1,3],[3,0,3,1],[3,2,3,3],[13,0,13,4],[13,9,14,12],[13,13,14,16],[14,0,14,4],[3,11,3,13],[4,0,5,0],[4,1,4,3],[4,4,5,4],[4,5,5,5],[4,6,5,6],[4,7,5,7],[4,9,5,9],[4,10,4,12],[4,13,5,13],[3,9,3,10],[4,14,5,14],[4,15,5,15],[4,16,5,16],[12,0,12,4],[12,9,12,13],[15,9,17,12],[15,13,17,16],[20,0,21,8],[20,9,21,16],[22,0,22,16]]}
["Nom",{"$f":"VLOOKUP(F2,Liste!B:K,2,FALSE)","v":{"$error":"#N/A"}},null,null,"Classement",null,{"$f":"VLOOKUP(F2,Liste!B:K,5,FALSE)","v":{"$error":"#N/A"}}]
["Club",{"$f":"VLOOKUP(F2,Liste!B:K,3,FALSE)","v":{"$error":"#N/A"}},null,null,"N° cible",{"$f":"Feuil1!N12","v":"13B"}]
[]
["1er tir",null,"N° licence",null,{"$f":"VLOOKUP(F2,Liste!B:K,4,FALSE)","v":{"$error":"#N/A"}},null,null,null,null,"2ème tir"]
["Volée","Nombre de points par flèches",null,null,"Total 3 flèches","Total cumulé",10,9,null,"Volée","Nombre de points par flèches",null,null,"Total 3 flèches","Total cumulé",10,9]
[null,1,2,3,null,null,null,null,null,null,1,2,3]
[1,null,null,null,null,null,null,null,null,1]
[2,null,null,null,null,null,null,null,null,2]
[3,null,null,null,null,null,null,null,null,3]
[4,null,null,null,null,null,null,null,null,4]
[5,null,null,null,null,null,null,null,null,5]
[6,null,null,null,null,null,null,null,null,6]
["Total 1ère distance",null,null,null,null,null,null,null,null,"Total 2ème distance"]
["Report 2ème distance +",null,null,null,null,null,null,null,null,"Marqueur",null,null,null,"Archer"]
["Total général ="]
[]
[]
[]
[]
[]
[{"$f":"Feuil1!D5","v":"Cie La Flèche Macairoise"},null,null,null,null,null,null,null,null,{"$f":"Feuil1!D6","v":"2ème étape Challenge CHAIRMARTIN"}]
[]
[{"$f":"Feuil1!D7","v":"2023-01-14"}]

{"sheet":"13C","index":102,"n_rows":23,"n_cols":17,"rows_kept":23,"cut":false,"hidden":false,"merged":[[0,1,0,3],[0,6,0,8],[1,1,1,3],[3,0,3,1],[3,2,3,3],[13,0,13,4],[13,9,14,12],[13,13,14,16],[14,0,14,4],[3,11,3,13],[4,0,5,0],[4,1,4,3],[4,4,5,4],[4,5,5,5],[4,6,5,6],[4,7,5,7],[4,9,5,9],[4,10,4,12],[4,13,5,13],[3,9,3,10],[4,14,5,14],[4,15,5,15],[4,16,5,16],[12,0,12,4],[12,9,12,13],[15,9,17,12],[15,13,17,16],[20,0,21,8],[20,9,21,16],[22,0,22,16]]}
["Nom",{"$f":"VLOOKUP(F2,Liste!B:K,2,FALSE)","v":{"$error":"#N/A"}},null,null,"Classement",null,{"$f":"VLOOKUP(F2,Liste!B:K,5,FALSE)","v":{"$error":"#N/A"}}]
["Club",{"$f":"VLOOKUP(F2,Liste!B:K,3,FALSE)","v":{"$error":"#N/A"}},null,null,"N° cible",{"$f":"Feuil1!N13","v":"13C"}]
[]
["1er tir",null,"N° licence",null,{"$f":"VLOOKUP(F2,Liste!B:K,4,FALSE)","v":{"$error":"#N/A"}},null,null,null,null,"2ème tir"]
["Volée","Nombre de points par flèches",null,null,"Total 3 flèches","Total cumulé",10,9,null,"Volée","Nombre de points par flèches",null,null,"Total 3 flèches","Total cumulé",10,9]
[null,1,2,3,null,null,null,null,null,null,1,2,3]
[1,null,null,null,null,null,null,null,null,1]
[2,null,null,null,null,null,null,null,null,2]
[3,null,null,null,null,null,null,null,null,3]
[4,null,null,null,null,null,null,null,null,4]
[5,null,null,null,null,null,null,null,null,5]
[6,null,null,null,null,null,null,null,null,6]
["Total 1ère distance",null,null,null,null,null,null,null,null,"Total 2ème distance"]
["Report 2ème distance +",null,null,null,null,null,null,null,null,"Marqueur",null,null,null,"Archer"]
["Total général ="]
[]
[]
[]
[]
[]
[{"$f":"Feuil1!D5","v":"Cie La Flèche Macairoise"},null,null,null,null,null,null,null,null,{"$f":"Feuil1!D6","v":"2ème étape Challenge CHAIRMARTIN"}]
[]
[{"$f":"Feuil1!D7","v":"2023-01-14"}]

{"sheet":"13D","index":103,"n_rows":23,"n_cols":17,"rows_kept":23,"cut":false,"hidden":false,"merged":[[0,1,0,3],[0,6,0,8],[1,1,1,3],[3,0,3,1],[3,2,3,3],[13,0,13,4],[13,9,14,12],[13,13,14,16],[14,0,14,4],[3,11,3,13],[4,0,5,0],[4,1,4,3],[4,4,5,4],[4,5,5,5],[4,6,5,6],[4,7,5,7],[4,9,5,9],[4,10,4,12],[4,13,5,13],[3,9,3,10],[4,14,5,14],[4,15,5,15],[4,16,5,16],[12,0,12,4],[12,9,12,13],[15,9,17,12],[15,13,17,16],[20,0,21,8],[20,9,21,16],[22,0,22,16]]}
["Nom",{"$f":"VLOOKUP(F2,Liste!B:K,2,FALSE)","v":{"$error":"#N/A"}},null,null,"Classement",null,{"$f":"VLOOKUP(F2,Liste!B:K,5,FALSE)","v":{"$error":"#N/A"}}]
["Club",{"$f":"VLOOKUP(F2,Liste!B:K,3,FALSE)","v":{"$error":"#N/A"}},null,null,"N° cible",{"$f":"Feuil1!N14","v":"13D"}]
[]
["1er tir",null,"N° licence",null,{"$f":"VLOOKUP(F2,Liste!B:K,4,FALSE)","v":{"$error":"#N/A"}},null,null,null,null,"2ème tir"]
["Volée","Nombre de points par flèches",null,null,"Total 3 flèches","Total cumulé",10,9,null,"Volée","Nombre de points par flèches",null,null,"Total 3 flèches","Total cumulé",10,9]
[null,1,2,3,null,null,null,null,null,null,1,2,3]
[1,null,null,null,null,null,null,null,null,1]
[2,null,null,null,null,null,null,null,null,2]
[3,null,null,null,null,null,null,null,null,3]
[4,null,null,null,null,null,null,null,null,4]
[5,null,null,null,null,null,null,null,null,5]
[6,null,null,null,null,null,null,null,null,6]
["Total 1ère distance",null,null,null,null,null,null,null,null,"Total 2ème distance"]
["Report 2ème distance +",null,null,null,null,null,null,null,null,"Marqueur",null,null,null,"Archer"]
["Total général ="]
[]
[]
[]
[]
[]
[{"$f":"Feuil1!D5","v":"Cie La Flèche Macairoise"},null,null,null,null,null,null,null,null,{"$f":"Feuil1!D6","v":"2ème étape Challenge CHAIRMARTIN"}]
[]
[{"$f":"Feuil1!D7","v":"2023-01-14"}]

{"sheet":"13E","index":104,"n_rows":23,"n_cols":17,"rows_kept":23,"cut":false,"hidden":false,"merged":[[0,1,0,3],[0,6,0,8],[1,1,1,3],[3,0,3,1],[3,2,3,3],[13,0,13,4],[13,9,14,12],[13,13,14,16],[14,0,14,4],[3,11,3,13],[4,0,5,0],[4,1,4,3],[4,4,5,4],[4,5,5,5],[4,6,5,6],[4,7,5,7],[4,9,5,9],[4,10,4,12],[4,13,5,13],[3,9,3,10],[4,14,5,14],[4,15,5,15],[4,16,5,16],[12,0,12,4],[12,9,12,13],[15,9,17,12],[15,13,17,16],[20,0,21,8],[20,9,21,16],[22,0,22,16]]}
["Nom",{"$f":"VLOOKUP(F2,Liste!B:K,2,FALSE)","v":{"$error":"#N/A"}},null,null,"Classement",null,{"$f":"VLOOKUP(F2,Liste!B:K,5,FALSE)","v":{"$error":"#N/A"}}]
["Club",{"$f":"VLOOKUP(F2,Liste!B:K,3,FALSE)","v":{"$error":"#N/A"}},null,null,"N° cible",{"$f":"Feuil1!N15","v":"13E"}]
[]
["1er tir",null,"N° licence",null,{"$f":"VLOOKUP(F2,Liste!B:K,4,FALSE)","v":{"$error":"#N/A"}},null,null,null,null,"2ème tir"]
["Volée","Nombre de points par flèches",null,null,"Total 3 flèches","Total cumulé",10,9,null,"Volée","Nombre de points par flèches",null,null,"Total 3 flèches","Total cumulé",10,9]
[null,1,2,3,null,null,null,null,null,null,1,2,3]
[1,null,null,null,null,null,null,null,null,1]
[2,null,null,null,null,null,null,null,null,2]
[3,null,null,null,null,null,null,null,null,3]
[4,null,null,null,null,null,null,null,null,4]
[5,null,null,null,null,null,null,null,null,5]
[6,null,null,null,null,null,null,null,null,6]
["Total 1ère distance",null,null,null,null,null,null,null,null,"Total 2ème distance"]
["Report 2ème distance +",null,null,null,null,null,null,null,null,"Marqueur",null,null,null,"Archer"]
["Total général ="]
[]
[]
[]
[]
[]
[{"$f":"Feuil1!D5","v":"Cie La Flèche Macairoise"},null,null,null,null,null,null,null,null,{"$f":"Feuil1!D6","v":"2ème étape Challenge CHAIRMARTIN"}]
[]
[{"$f":"Feuil1!D7","v":"2023-01-14"}]

{"sheet":"13F","index":105,"n_rows":23,"n_cols":17,"rows_kept":23,"cut":false,"hidden":false,"merged":[[0,1,0,3],[0,6,0,8],[1,1,1,3],[3,0,3,1],[3,2,3,3],[13,0,13,4],[13,9,14,12],[13,13,14,16],[14,0,14,4],[3,11,3,13],[4,0,5,0],[4,1,4,3],[4,4,5,4],[4,5,5,5],[4,6,5,6],[4,7,5,7],[4,9,5,9],[4,10,4,12],[4,13,5,13],[3,9,3,10],[4,14,5,14],[4,15,5,15],[4,16,5,16],[12,0,12,4],[12,9,12,13],[15,9,17,12],[15,13,17,16],[20,0,21,8],[20,9,21,16],[22,0,22,16]]}
["Nom",{"$f":"VLOOKUP(F2,Liste!B:K,2,FALSE)","v":{"$error":"#N/A"}},null,null,"Classement",null,{"$f":"VLOOKUP(F2,Liste!B:K,5,FALSE)","v":{"$error":"#N/A"}}]
["Club",{"$f":"VLOOKUP(F2,Liste!B:K,3,FALSE)","v":{"$error":"#N/A"}},null,null,"N° cible",{"$f":"Feuil1!N16","v":"13F"}]
[]
["1er tir",null,"N° licence",null,{"$f":"VLOOKUP(F2,Liste!B:K,4,FALSE)","v":{"$error":"#N/A"}},null,null,null,null,"2ème tir"]
["Volée","Nombre de points par flèches",null,null,"Total 3 flèches","Total cumulé",10,9,null,"Volée","Nombre de points par flèches",null,null,"Total 3 flèches","Total cumulé",10,9]
[null,1,2,3,null,null,null,null,null,null,1,2,3]
[1,null,null,null,null,null,null,null,null,1]
[2,null,null,null,null,null,null,null,null,2]
[3,null,null,null,null,null,null,null,null,3]
[4,null,null,null,null,null,null,null,null,4]
[5,null,null,null,null,null,null,null,null,5]
[6,null,null,null,null,null,null,null,null,6]
["Total 1ère distance",null,null,null,null,null,null,null,null,"Total 2ème distance"]
["Report 2ème distance +",null,null,null,null,null,null,null,null,"Marqueur",null,null,null,"Archer"]
["Total général ="]
[]
[]
[]
[]
[]
[{"$f":"Feuil1!D5","v":"Cie La Flèche Macairoise"},null,null,null,null,null,null,null,null,{"$f":"Feuil1!D6","v":"2ème étape Challenge CHAIRMARTIN"}]
[]
[{"$f":"Feuil1!D7","v":"2023-01-14"}]

{"sheet":"13G","index":106,"n_rows":23,"n_cols":17,"rows_kept":23,"cut":false,"hidden":false,"merged":[[0,1,0,3],[0,6,0,8],[1,1,1,3],[3,0,3,1],[3,2,3,3],[13,0,13,4],[13,9,14,12],[13,13,14,16],[14,0,14,4],[3,11,3,13],[4,0,5,0],[4,1,4,3],[4,4,5,4],[4,5,5,5],[4,6,5,6],[4,7,5,7],[4,9,5,9],[4,10,4,12],[4,13,5,13],[3,9,3,10],[4,14,5,14],[4,15,5,15],[4,16,5,16],[12,0,12,4],[12,9,12,13],[15,9,17,12],[15,13,17,16],[20,0,21,8],[20,9,21,16],[22,0,22,16]]}
["Nom",{"$f":"VLOOKUP(F2,Liste!B:K,2,FALSE)","v":{"$error":"#N/A"}},null,null,"Classement",null,{"$f":"VLOOKUP(F2,Liste!B:K,5,FALSE)","v":{"$error":"#N/A"}}]
["Club",{"$f":"VLOOKUP(F2,Liste!B:K,3,FALSE)","v":{"$error":"#N/A"}},null,null,"N° cible",{"$f":"Feuil1!N17","v":"13G"}]
[]
["1er tir",null,"N° licence",null,{"$f":"VLOOKUP(F2,Liste!B:K,4,FALSE)","v":{"$error":"#N/A"}},null,null,null,null,"2ème tir"]
["Volée","Nombre de points par flèches",null,null,"Total 3 flèches","Total cumulé",10,9,null,"Volée","Nombre de points par flèches",null,null,"Total 3 flèches","Total cumulé",10,9]
[null,1,2,3,null,null,null,null,null,null,1,2,3]
[1,null,null,null,null,null,null,null,null,1]
[2,null,null,null,null,null,null,null,null,2]
[3,null,null,null,null,null,null,null,null,3]
[4,null,null,null,null,null,null,null,null,4]
[5,null,null,null,null,null,null,null,null,5]
[6,null,null,null,null,null,null,null,null,6]
["Total 1ère distance",null,null,null,null,null,null,null,null,"Total 2ème distance"]
["Report 2ème distance +",null,null,null,null,null,null,null,null,"Marqueur",null,null,null,"Archer"]
["Total général ="]
[]
[]
[]
[]
[]
[{"$f":"Feuil1!D5","v":"Cie La Flèche Macairoise"},null,null,null,null,null,null,null,null,{"$f":"Feuil1!D6","v":"2ème étape Challenge CHAIRMARTIN"}]
[]
[{"$f":"Feuil1!D7","v":"2023-01-14"}]

{"sheet":"13H","index":107,"n_rows":23,"n_cols":17,"rows_kept":23,"cut":false,"hidden":false,"merged":[[0,1,0,3],[0,6,0,8],[1,1,1,3],[3,0,3,1],[3,2,3,3],[13,0,13,4],[13,9,14,12],[13,13,14,16],[14,0,14,4],[3,11,3,13],[4,0,5,0],[4,1,4,3],[4,4,5,4],[4,5,5,5],[4,6,5,6],[4,7,5,7],[4,9,5,9],[4,10,4,12],[4,13,5,13],[3,9,3,10],[4,14,5,14],[4,15,5,15],[4,16,5,16],[12,0,12,4],[12,9,12,13],[15,9,17,12],[15,13,17,16],[20,0,21,8],[20,9,21,16],[22,0,22,16]]}
["Nom",{"$f":"VLOOKUP(F2,Liste!B:K,2,FALSE)","v":{"$error":"#N/A"}},null,null,"Classement",null,{"$f":"VLOOKUP(F2,Liste!B:K,5,FALSE)","v":{"$error":"#N/A"}}]
["Club",{"$f":"VLOOKUP(F2,Liste!B:K,3,FALSE)","v":{"$error":"#N/A"}},null,null,"N° cible",{"$f":"Feuil1!N18","v":"13H"}]
[]
["1er tir",null,"N° licence",null,{"$f":"VLOOKUP(F2,Liste!B:K,4,FALSE)","v":{"$error":"#N/A"}},null,null,null,null,"2ème tir"]
["Volée","Nombre de points par flèches",null,null,"Total 3 flèches","Total cumulé",10,9,null,"Volée","Nombre de points par flèches",null,null,"Total 3 flèches","Total cumulé",10,9]
[null,1,2,3,null,null,null,null,null,null,1,2,3]
[1,null,null,null,null,null,null,null,null,1]
[2,null,null,null,null,null,null,null,null,2]
[3,null,null,null,null,null,null,null,null,3]
[4,null,null,null,null,null,null,null,null,4]
[5,null,null,null,null,null,null,null,null,5]
[6,null,null,null,null,null,null,null,null,6]
["Total 1ère distance",null,null,null,null,null,null,null,null,"Total 2ème distance"]
["Report 2ème distance +",null,null,null,null,null,null,null,null,"Marqueur",null,null,null,"Archer"]
["Total général ="]
[]
[]
[]
[]
[]
[{"$f":"Feuil1!D5","v":"Cie La Flèche Macairoise"},null,null,null,null,null,null,null,null,{"$f":"Feuil1!D6","v":"2ème étape Challenge CHAIRMARTIN"}]
[]
[{"$f":"Feuil1!D7","v":"2023-01-14"}]

{"sheet":"14A","index":108,"n_rows":23,"n_cols":17,"rows_kept":23,"cut":false,"hidden":false,"merged":[[0,1,0,3],[0,6,0,8],[1,1,1,3],[3,0,3,1],[3,2,3,3],[13,0,13,4],[13,9,14,12],[13,13,14,16],[14,0,14,4],[3,11,3,13],[4,0,5,0],[4,1,4,3],[4,4,5,4],[4,5,5,5],[4,6,5,6],[4,7,5,7],[4,9,5,9],[4,10,4,12],[4,13,5,13],[3,9,3,10],[4,14,5,14],[4,15,5,15],[4,16,5,16],[12,0,12,4],[12,9,12,13],[15,9,17,12],[15,13,17,16],[20,0,21,8],[20,9,21,16],[22,0,22,16]]}
["Nom",{"$f":"VLOOKUP(F2,Liste!B:K,2,FALSE)","v":{"$error":"#N/A"}},null,null,"Classement",null,{"$f":"VLOOKUP(F2,Liste!B:K,5,FALSE)","v":{"$error":"#N/A"}}]
["Club",{"$f":"VLOOKUP(F2,Liste!B:K,3,FALSE)","v":{"$error":"#N/A"}},null,null,"N° cible",{"$f":"Feuil1!N19","v":"14A"}]
[]
["1er tir",null,"N° licence",null,{"$f":"VLOOKUP(F2,Liste!B:K,4,FALSE)","v":{"$error":"#N/A"}},null,null,null,null,"2ème tir"]
["Volée","Nombre de points par flèches",null,null,"Total 3 flèches","Total cumulé",10,9,null,"Volée","Nombre de points par flèches",null,null,"Total 3 flèches","Total cumulé",10,9]
[null,1,2,3,null,null,null,null,null,null,1,2,3]
[1,null,null,null,null,null,null,null,null,1]
[2,null,null,null,null,null,null,null,null,2]
[3,null,null,null,null,null,null,null,null,3]
[4,null,null,null,null,null,null,null,null,4]
[5,null,null,null,null,null,null,null,null,5]
[6,null,null,null,null,null,null,null,null,6]
["Total 1ère distance",null,null,null,null,null,null,null,null,"Total 2ème distance"]
["Report 2ème distance +",null,null,null,null,null,null,null,null,"Marqueur",null,null,null,"Archer"]
["Total général ="]
[]
[]
[]
[]
[]
[{"$f":"Feuil1!D5","v":"Cie La Flèche Macairoise"},null,null,null,null,null,null,null,null,{"$f":"Feuil1!D6","v":"2ème étape Challenge CHAIRMARTIN"}]
[]
[{"$f":"Feuil1!D7","v":"2023-01-14"}]

{"sheet":"14B","index":109,"n_rows":23,"n_cols":17,"rows_kept":23,"cut":false,"hidden":false,"merged":[[0,1,0,3],[0,6,0,8],[1,1,1,3],[3,0,3,1],[3,2,3,3],[13,0,13,4],[13,9,14,12],[13,13,14,16],[14,0,14,4],[3,11,3,13],[4,0,5,0],[4,1,4,3],[4,4,5,4],[4,5,5,5],[4,6,5,6],[4,7,5,7],[4,9,5,9],[4,10,4,12],[4,13,5,13],[3,9,3,10],[4,14,5,14],[4,15,5,15],[4,16,5,16],[12,0,12,4],[12,9,12,13],[15,9,17,12],[15,13,17,16],[20,0,21,8],[20,9,21,16],[22,0,22,16]]}
["Nom",{"$f":"VLOOKUP(F2,Liste!B:K,2,FALSE)","v":{"$error":"#N/A"}},null,null,"Classement",null,{"$f":"VLOOKUP(F2,Liste!B:K,5,FALSE)","v":{"$error":"#N/A"}}]
["Club",{"$f":"VLOOKUP(F2,Liste!B:K,3,FALSE)","v":{"$error":"#N/A"}},null,null,"N° cible",{"$f":"Feuil1!N20","v":"14B"}]
[]
["1er tir",null,"N° licence",null,{"$f":"VLOOKUP(F2,Liste!B:K,4,FALSE)","v":{"$error":"#N/A"}},null,null,null,null,"2ème tir"]
["Volée","Nombre de points par flèches",null,null,"Total 3 flèches","Total cumulé",10,9,null,"Volée","Nombre de points par flèches",null,null,"Total 3 flèches","Total cumulé",10,9]
[null,1,2,3,null,null,null,null,null,null,1,2,3]
[1,null,null,null,null,null,null,null,null,1]
[2,null,null,null,null,null,null,null,null,2]
[3,null,null,null,null,null,null,null,null,3]
[4,null,null,null,null,null,null,null,null,4]
[5,null,null,null,null,null,null,null,null,5]
[6,null,null,null,null,null,null,null,null,6]
["Total 1ère distance",null,null,null,null,null,null,null,null,"Total 2ème distance"]
["Report 2ème distance +",null,null,null,null,null,null,null,null,"Marqueur",null,null,null,"Archer"]
["Total général ="]
[]
[]
[]
[]
[]
[{"$f":"Feuil1!D5","v":"Cie La Flèche Macairoise"},null,null,null,null,null,null,null,null,{"$f":"Feuil1!D6","v":"2ème étape Challenge CHAIRMARTIN"}]
[]
[{"$f":"Feuil1!D7","v":"2023-01-14"}]

{"sheet":"14C","index":110,"n_rows":23,"n_cols":17,"rows_kept":23,"cut":false,"hidden":false,"merged":[[0,1,0,3],[0,6,0,8],[1,1,1,3],[3,0,3,1],[3,2,3,3],[13,0,13,4],[13,9,14,12],[13,13,14,16],[14,0,14,4],[3,11,3,13],[4,0,5,0],[4,1,4,3],[4,4,5,4],[4,5,5,5],[4,6,5,6],[4,7,5,7],[4,9,5,9],[4,10,4,12],[4,13,5,13],[3,9,3,10],[4,14,5,14],[4,15,5,15],[4,16,5,16],[12,0,12,4],[12,9,12,13],[15,9,17,12],[15,13,17,16],[20,0,21,8],[20,9,21,16],[22,0,22,16]]}
["Nom",{"$f":"VLOOKUP(F2,Liste!B:K,2,FALSE)","v":{"$error":"#N/A"}},null,null,"Classement",null,{"$f":"VLOOKUP(F2,Liste!B:K,5,FALSE)","v":{"$error":"#N/A"}}]
["Club",{"$f":"VLOOKUP(F2,Liste!B:K,3,FALSE)","v":{"$error":"#N/A"}},null,null,"N° cible",{"$f":"Feuil1!N21","v":"14C"}]
[]
["1er tir",null,"N° licence",null,{"$f":"VLOOKUP(F2,Liste!B:K,4,FALSE)","v":{"$error":"#N/A"}},null,null,null,null,"2ème tir"]
["Volée","Nombre de points par flèches",null,null,"Total 3 flèches","Total cumulé",10,9,null,"Volée","Nombre de points par flèches",null,null,"Total 3 flèches","Total cumulé",10,9]
[null,1,2,3,null,null,null,null,null,null,1,2,3]
[1,null,null,null,null,null,null,null,null,1]
[2,null,null,null,null,null,null,null,null,2]
[3,null,null,null,null,null,null,null,null,3]
[4,null,null,null,null,null,null,null,null,4]
[5,null,null,null,null,null,null,null,null,5]
[6,null,null,null,null,null,null,null,null,6]
["Total 1ère distance",null,null,null,null,null,null,null,null,"Total 2ème distance"]
["Report 2ème distance +",null,null,null,null,null,null,null,null,"Marqueur",null,null,null,"Archer"]
["Total général ="]
[]
[]
[]
[]
[]
[{"$f":"Feuil1!D5","v":"Cie La Flèche Macairoise"},null,null,null,null,null,null,null,null,{"$f":"Feuil1!D6","v":"2ème étape Challenge CHAIRMARTIN"}]
[]
[{"$f":"Feuil1!D7","v":"2023-01-14"}]

{"sheet":"14D","index":111,"n_rows":23,"n_cols":17,"rows_kept":23,"cut":false,"hidden":false,"merged":[[0,1,0,3],[0,6,0,8],[1,1,1,3],[3,0,3,1],[3,2,3,3],[13,0,13,4],[13,9,14,12],[13,13,14,16],[14,0,14,4],[3,11,3,13],[4,0,5,0],[4,1,4,3],[4,4,5,4],[4,5,5,5],[4,6,5,6],[4,7,5,7],[4,9,5,9],[4,10,4,12],[4,13,5,13],[3,9,3,10],[4,14,5,14],[4,15,5,15],[4,16,5,16],[12,0,12,4],[12,9,12,13],[15,9,17,12],[15,13,17,16],[20,0,21,8],[20,9,21,16],[22,0,22,16]]}
["Nom",{"$f":"VLOOKUP(F2,Liste!B:K,2,FALSE)","v":{"$error":"#N/A"}},null,null,"Classement",null,{"$f":"VLOOKUP(F2,Liste!B:K,5,FALSE)","v":{"$error":"#N/A"}}]
["Club",{"$f":"VLOOKUP(F2,Liste!B:K,3,FALSE)","v":{"$error":"#N/A"}},null,null,"N° cible",{"$f":"Feuil1!N22","v":"14D"}]
[]
["1er tir",null,"N° licence",null,{"$f":"VLOOKUP(F2,Liste!B:K,4,FALSE)","v":{"$error":"#N/A"}},null,null,null,null,"2ème tir"]
["Volée","Nombre de points par flèches",null,null,"Total 3 flèches","Total cumulé",10,9,null,"Volée","Nombre de points par flèches",null,null,"Total 3 flèches","Total cumulé",10,9]
[null,1,2,3,null,null,null,null,null,null,1,2,3]
[1,null,null,null,null,null,null,null,null,1]
[2,null,null,null,null,null,null,null,null,2]
[3,null,null,null,null,null,null,null,null,3]
[4,null,null,null,null,null,null,null,null,4]
[5,null,null,null,null,null,null,null,null,5]
[6,null,null,null,null,null,null,null,null,6]
["Total 1ère distance",null,null,null,null,null,null,null,null,"Total 2ème distance"]
["Report 2ème distance +",null,null,null,null,null,null,null,null,"Marqueur",null,null,null,"Archer"]
["Total général ="]
[]
[]
[]
[]
[]
[{"$f":"Feuil1!D5","v":"Cie La Flèche Macairoise"},null,null,null,null,null,null,null,null,{"$f":"Feuil1!D6","v":"2ème étape Challenge CHAIRMARTIN"}]
[]
[{"$f":"Feuil1!D7","v":"2023-01-14"}]

{"sheet":"14E","index":112,"n_rows":23,"n_cols":17,"rows_kept":23,"cut":false,"hidden":false,"merged":[[0,1,0,3],[0,6,0,8],[1,1,1,3],[3,0,3,1],[3,2,3,3],[13,0,13,4],[13,9,14,12],[13,13,14,16],[14,0,14,4],[3,11,3,13],[4,0,5,0],[4,1,4,3],[4,4,5,4],[4,5,5,5],[4,6,5,6],[4,7,5,7],[4,9,5,9],[4,10,4,12],[4,13,5,13],[3,9,3,10],[4,14,5,14],[4,15,5,15],[4,16,5,16],[12,0,12,4],[12,9,12,13],[15,9,17,12],[15,13,17,16],[20,0,21,8],[20,9,21,16],[22,0,22,16]]}
["Nom",{"$f":"VLOOKUP(F2,Liste!B:K,2,FALSE)","v":{"$error":"#N/A"}},null,null,"Classement",null,{"$f":"VLOOKUP(F2,Liste!B:K,5,FALSE)","v":{"$error":"#N/A"}}]
["Club",{"$f":"VLOOKUP(F2,Liste!B:K,3,FALSE)","v":{"$error":"#N/A"}},null,null,"N° cible",{"$f":"Feuil1!N23","v":"14E"}]
[]
["1er tir",null,"N° licence",null,{"$f":"VLOOKUP(F2,Liste!B:K,4,FALSE)","v":{"$error":"#N/A"}},null,null,null,null,"2ème tir"]
["Volée","Nombre de points par flèches",null,null,"Total 3 flèches","Total cumulé",10,9,null,"Volée","Nombre de points par flèches",null,null,"Total 3 flèches","Total cumulé",10,9]
[null,1,2,3,null,null,null,null,null,null,1,2,3]
[1,null,null,null,null,null,null,null,null,1]
[2,null,null,null,null,null,null,null,null,2]
[3,null,null,null,null,null,null,null,null,3]
[4,null,null,null,null,null,null,null,null,4]
[5,null,null,null,null,null,null,null,null,5]
[6,null,null,null,null,null,null,null,null,6]
["Total 1ère distance",null,null,null,null,null,null,null,null,"Total 2ème distance"]
["Report 2ème distance +",null,null,null,null,null,null,null,null,"Marqueur",null,null,null,"Archer"]
["Total général ="]
[]
[]
[]
[]
[]
[{"$f":"Feuil1!D5","v":"Cie La Flèche Macairoise"},null,null,null,null,null,null,null,null,{"$f":"Feuil1!D6","v":"2ème étape Challenge CHAIRMARTIN"}]
[]
[{"$f":"Feuil1!D7","v":"2023-01-14"}]

{"sheet":"14F","index":113,"n_rows":23,"n_cols":17,"rows_kept":23,"cut":false,"hidden":false,"merged":[[0,1,0,3],[0,6,0,8],[1,1,1,3],[3,0,3,1],[3,2,3,3],[13,0,13,4],[13,9,14,12],[13,13,14,16],[14,0,14,4],[3,11,3,13],[4,0,5,0],[4,1,4,3],[4,4,5,4],[4,5,5,5],[4,6,5,6],[4,7,5,7],[4,9,5,9],[4,10,4,12],[4,13,5,13],[3,9,3,10],[4,14,5,14],[4,15,5,15],[4,16,5,16],[12,0,12,4],[12,9,12,13],[15,9,17,12],[15,13,17,16],[20,0,21,8],[20,9,21,16],[22,0,22,16]]}
["Nom",{"$f":"VLOOKUP(F2,Liste!B:K,2,FALSE)","v":{"$error":"#N/A"}},null,null,"Classement",null,{"$f":"VLOOKUP(F2,Liste!B:K,5,FALSE)","v":{"$error":"#N/A"}}]
["Club",{"$f":"VLOOKUP(F2,Liste!B:K,3,FALSE)","v":{"$error":"#N/A"}},null,null,"N° cible",{"$f":"Feuil1!N24","v":"14F"}]
[]
["1er tir",null,"N° licence",null,{"$f":"VLOOKUP(F2,Liste!B:K,4,FALSE)","v":{"$error":"#N/A"}},null,null,null,null,"2ème tir"]
["Volée","Nombre de points par flèches",null,null,"Total 3 flèches","Total cumulé",10,9,null,"Volée","Nombre de points par flèches",null,null,"Total 3 flèches","Total cumulé",10,9]
[null,1,2,3,null,null,null,null,null,null,1,2,3]
[1,null,null,null,null,null,null,null,null,1]
[2,null,null,null,null,null,null,null,null,2]
[3,null,null,null,null,null,null,null,null,3]
[4,null,null,null,null,null,null,null,null,4]
[5,null,null,null,null,null,null,null,null,5]
[6,null,null,null,null,null,null,null,null,6]
["Total 1ère distance",null,null,null,null,null,null,null,null,"Total 2ème distance"]
["Report 2ème distance +",null,null,null,null,null,null,null,null,"Marqueur",null,null,null,"Archer"]
["Total général ="]
[]
[]
[]
[]
[]
[{"$f":"Feuil1!D5","v":"Cie La Flèche Macairoise"},null,null,null,null,null,null,null,null,{"$f":"Feuil1!D6","v":"2ème étape Challenge CHAIRMARTIN"}]
[]
[{"$f":"Feuil1!D7","v":"2023-01-14"}]

{"sheet":"14G","index":114,"n_rows":23,"n_cols":17,"rows_kept":23,"cut":false,"hidden":false,"merged":[[0,1,0,3],[0,6,0,8],[1,1,1,3],[3,0,3,1],[3,2,3,3],[13,0,13,4],[13,9,14,12],[13,13,14,16],[14,0,14,4],[3,11,3,13],[4,0,5,0],[4,1,4,3],[4,4,5,4],[4,5,5,5],[4,6,5,6],[4,7,5,7],[4,9,5,9],[4,10,4,12],[4,13,5,13],[3,9,3,10],[4,14,5,14],[4,15,5,15],[4,16,5,16],[12,0,12,4],[12,9,12,13],[15,9,17,12],[15,13,17,16],[20,0,21,8],[20,9,21,16],[22,0,22,16]]}
["Nom",{"$f":"VLOOKUP(F2,Liste!B:K,2,FALSE)","v":{"$error":"#N/A"}},null,null,"Classement",null,{"$f":"VLOOKUP(F2,Liste!B:K,5,FALSE)","v":{"$error":"#N/A"}}]
["Club",{"$f":"VLOOKUP(F2,Liste!B:K,3,FALSE)","v":{"$error":"#N/A"}},null,null,"N° cible",{"$f":"Feuil1!N25","v":"14G"}]
[]
["1er tir",null,"N° licence",null,{"$f":"VLOOKUP(F2,Liste!B:K,4,FALSE)","v":{"$error":"#N/A"}},null,null,null,null,"2ème tir"]
["Volée","Nombre de points par flèches",null,null,"Total 3 flèches","Total cumulé",10,9,null,"Volée","Nombre de points par flèches",null,null,"Total 3 flèches","Total cumulé",10,9]
[null,1,2,3,null,null,null,null,null,null,1,2,3]
[1,null,null,null,null,null,null,null,null,1]
[2,null,null,null,null,null,null,null,null,2]
[3,null,null,null,null,null,null,null,null,3]
[4,null,null,null,null,null,null,null,null,4]
[5,null,null,null,null,null,null,null,null,5]
[6,null,null,null,null,null,null,null,null,6]
["Total 1ère distance",null,null,null,null,null,null,null,null,"Total 2ème distance"]
["Report 2ème distance +",null,null,null,null,null,null,null,null,"Marqueur",null,null,null,"Archer"]
["Total général ="]
[]
[]
[]
[]
[]
[{"$f":"Feuil1!D5","v":"Cie La Flèche Macairoise"},null,null,null,null,null,null,null,null,{"$f":"Feuil1!D6","v":"2ème étape Challenge CHAIRMARTIN"}]
[]
[{"$f":"Feuil1!D7","v":"2023-01-14"}]

{"sheet":"14H","index":115,"n_rows":23,"n_cols":17,"rows_kept":23,"cut":false,"hidden":false,"merged":[[0,1,0,3],[0,6,0,8],[1,1,1,3],[3,0,3,1],[3,2,3,3],[13,0,13,4],[13,9,14,12],[13,13,14,16],[14,0,14,4],[3,11,3,13],[4,0,5,0],[4,1,4,3],[4,4,5,4],[4,5,5,5],[4,6,5,6],[4,7,5,7],[4,9,5,9],[4,10,4,12],[4,13,5,13],[3,9,3,10],[4,14,5,14],[4,15,5,15],[4,16,5,16],[12,0,12,4],[12,9,12,13],[15,9,17,12],[15,13,17,16],[20,0,21,8],[20,9,21,16],[22,0,22,16]]}
["Nom",{"$f":"VLOOKUP(F2,Liste!B:K,2,FALSE)","v":{"$error":"#N/A"}},null,null,"Classement",null,{"$f":"VLOOKUP(F2,Liste!B:K,5,FALSE)","v":{"$error":"#N/A"}}]
["Club",{"$f":"VLOOKUP(F2,Liste!B:K,3,FALSE)","v":{"$error":"#N/A"}},null,null,"N° cible",{"$f":"Feuil1!N26","v":"14H"}]
[]
["1er tir",null,"N° licence",null,{"$f":"VLOOKUP(F2,Liste!B:K,4,FALSE)","v":{"$error":"#N/A"}},null,null,null,null,"2ème tir"]
["Volée","Nombre de points par flèches",null,null,"Total 3 flèches","Total cumulé",10,9,null,"Volée","Nombre de points par flèches",null,null,"Total 3 flèches","Total cumulé",10,9]
[null,1,2,3,null,null,null,null,null,null,1,2,3]
[1,null,null,null,null,null,null,null,null,1]
[2,null,null,null,null,null,null,null,null,2]
[3,null,null,null,null,null,null,null,null,3]
[4,null,null,null,null,null,null,null,null,4]
[5,null,null,null,null,null,null,null,null,5]
[6,null,null,null,null,null,null,null,null,6]
["Total 1ère distance",null,null,null,null,null,null,null,null,"Total 2ème distance"]
["Report 2ème distance +",null,null,null,null,null,null,null,null,"Marqueur",null,null,null,"Archer"]
["Total général ="]
[]
[]
[]
[]
[]
[{"$f":"Feuil1!D5","v":"Cie La Flèche Macairoise"},null,null,null,null,null,null,null,null,{"$f":"Feuil1!D6","v":"2ème étape Challenge CHAIRMARTIN"}]
[]
[{"$f":"Feuil1!D7","v":"2023-01-14"}]

{"sheet":"15A","index":116,"n_rows":23,"n_cols":17,"rows_kept":23,"cut":false,"hidden":false,"merged":[[0,1,0,3],[0,6,0,8],[1,1,1,3],[3,0,3,1],[3,2,3,3],[13,0,13,4],[13,9,14,12],[13,13,14,16],[14,0,14,4],[3,11,3,13],[4,0,5,0],[4,1,4,3],[4,4,5,4],[4,5,5,5],[4,6,5,6],[4,7,5,7],[4,9,5,9],[4,10,4,12],[4,13,5,13],[3,9,3,10],[4,14,5,14],[4,15,5,15],[4,16,5,16],[12,0,12,4],[12,9,12,13],[15,9,17,12],[15,13,17,16],[20,0,21,8],[20,9,21,16],[22,0,22,16]]}
["Nom",{"$f":"VLOOKUP(F2,Liste!B:K,2,FALSE)","v":{"$error":"#N/A"}},null,null,"Classement",null,{"$f":"VLOOKUP(F2,Liste!B:K,5,FALSE)","v":{"$error":"#N/A"}}]
["Club",{"$f":"VLOOKUP(F2,Liste!B:K,3,FALSE)","v":{"$error":"#N/A"}},null,null,"N° cible",{"$f":"Feuil1!P11","v":"15A"}]
[]
["1er tir",null,"N° licence",null,{"$f":"VLOOKUP(F2,Liste!B:K,4,FALSE)","v":{"$error":"#N/A"}},null,null,null,null,"2ème tir"]
["Volée","Nombre de points par flèches",null,null,"Total 3 flèches","Total cumulé",10,9,null,"Volée","Nombre de points par flèches",null,null,"Total 3 flèches","Total cumulé",10,9]
[null,1,2,3,null,null,null,null,null,null,1,2,3]
[1,null,null,null,null,null,null,null,null,1]
[2,null,null,null,null,null,null,null,null,2]
[3,null,null,null,null,null,null,null,null,3]
[4,null,null,null,null,null,null,null,null,4]
[5,null,null,null,null,null,null,null,null,5]
[6,null,null,null,null,null,null,null,null,6]
["Total 1ère distance",null,null,null,null,null,null,null,null,"Total 2ème distance"]
["Report 2ème distance +",null,null,null,null,null,null,null,null,"Marqueur",null,null,null,"Archer"]
["Total général ="]
[]
[]
[]
[]
[]
[{"$f":"Feuil1!D5","v":"Cie La Flèche Macairoise"},null,null,null,null,null,null,null,null,{"$f":"Feuil1!D6","v":"2ème étape Challenge CHAIRMARTIN"}]
[]
[{"$f":"Feuil1!D7","v":"2023-01-14"}]

{"sheet":"15B","index":117,"n_rows":23,"n_cols":17,"rows_kept":23,"cut":false,"hidden":false,"merged":[[0,1,0,3],[0,6,0,8],[1,1,1,3],[3,0,3,1],[3,2,3,3],[13,0,13,4],[13,9,14,12],[13,13,14,16],[14,0,14,4],[3,11,3,13],[4,0,5,0],[4,1,4,3],[4,4,5,4],[4,5,5,5],[4,6,5,6],[4,7,5,7],[4,9,5,9],[4,10,4,12],[4,13,5,13],[3,9,3,10],[4,14,5,14],[4,15,5,15],[4,16,5,16],[12,0,12,4],[12,9,12,13],[15,9,17,12],[15,13,17,16],[20,0,21,8],[20,9,21,16],[22,0,22,16]]}
["Nom",{"$f":"VLOOKUP(F2,Liste!B:K,2,FALSE)","v":{"$error":"#N/A"}},null,null,"Classement",null,{"$f":"VLOOKUP(F2,Liste!B:K,5,FALSE)","v":{"$error":"#N/A"}}]
["Club",{"$f":"VLOOKUP(F2,Liste!B:K,3,FALSE)","v":{"$error":"#N/A"}},null,null,"N° cible",{"$f":"Feuil1!P12","v":"15B"}]
[]
["1er tir",null,"N° licence",null,{"$f":"VLOOKUP(F2,Liste!B:K,4,FALSE)","v":{"$error":"#N/A"}},null,null,null,null,"2ème tir"]
["Volée","Nombre de points par flèches",null,null,"Total 3 flèches","Total cumulé",10,9,null,"Volée","Nombre de points par flèches",null,null,"Total 3 flèches","Total cumulé",10,9]
[null,1,2,3,null,null,null,null,null,null,1,2,3]
[1,null,null,null,null,null,null,null,null,1]
[2,null,null,null,null,null,null,null,null,2]
[3,null,null,null,null,null,null,null,null,3]
[4,null,null,null,null,null,null,null,null,4]
[5,null,null,null,null,null,null,null,null,5]
[6,null,null,null,null,null,null,null,null,6]
["Total 1ère distance",null,null,null,null,null,null,null,null,"Total 2ème distance"]
["Report 2ème distance +",null,null,null,null,null,null,null,null,"Marqueur",null,null,null,"Archer"]
["Total général ="]
[]
[]
[]
[]
[]
[{"$f":"Feuil1!D5","v":"Cie La Flèche Macairoise"},null,null,null,null,null,null,null,null,{"$f":"Feuil1!D6","v":"2ème étape Challenge CHAIRMARTIN"}]
[]
[{"$f":"Feuil1!D7","v":"2023-01-14"}]

{"sheet":"15C","index":118,"n_rows":23,"n_cols":17,"rows_kept":23,"cut":false,"hidden":false,"merged":[[0,1,0,3],[0,6,0,8],[1,1,1,3],[3,0,3,1],[3,2,3,3],[13,0,13,4],[13,9,14,12],[13,13,14,16],[14,0,14,4],[3,11,3,13],[4,0,5,0],[4,1,4,3],[4,4,5,4],[4,5,5,5],[4,6,5,6],[4,7,5,7],[4,9,5,9],[4,10,4,12],[4,13,5,13],[3,9,3,10],[4,14,5,14],[4,15,5,15],[4,16,5,16],[12,0,12,4],[12,9,12,13],[15,9,17,12],[15,13,17,16],[20,0,21,8],[20,9,21,16],[22,0,22,16]]}
["Nom",{"$f":"VLOOKUP(F2,Liste!B:K,2,FALSE)","v":{"$error":"#N/A"}},null,null,"Classement",null,{"$f":"VLOOKUP(F2,Liste!B:K,5,FALSE)","v":{"$error":"#N/A"}}]
["Club",{"$f":"VLOOKUP(F2,Liste!B:K,3,FALSE)","v":{"$error":"#N/A"}},null,null,"N° cible",{"$f":"Feuil1!P13","v":"15C"}]
[]
["1er tir",null,"N° licence",null,{"$f":"VLOOKUP(F2,Liste!B:K,4,FALSE)","v":{"$error":"#N/A"}},null,null,null,null,"2ème tir"]
["Volée","Nombre de points par flèches",null,null,"Total 3 flèches","Total cumulé",10,9,null,"Volée","Nombre de points par flèches",null,null,"Total 3 flèches","Total cumulé",10,9]
[null,1,2,3,null,null,null,null,null,null,1,2,3]
[1,null,null,null,null,null,null,null,null,1]
[2,null,null,null,null,null,null,null,null,2]
[3,null,null,null,null,null,null,null,null,3]
[4,null,null,null,null,null,null,null,null,4]
[5,null,null,null,null,null,null,null,null,5]
[6,null,null,null,null,null,null,null,null,6]
["Total 1ère distance",null,null,null,null,null,null,null,null,"Total 2ème distance"]
["Report 2ème distance +",null,null,null,null,null,null,null,null,"Marqueur",null,null,null,"Archer"]
["Total général ="]
[]
[]
[]
[]
[]
[{"$f":"Feuil1!D5","v":"Cie La Flèche Macairoise"},null,null,null,null,null,null,null,null,{"$f":"Feuil1!D6","v":"2ème étape Challenge CHAIRMARTIN"}]
[]
[{"$f":"Feuil1!D7","v":"2023-01-14"}]

{"sheet":"15D","index":119,"n_rows":23,"n_cols":17,"rows_kept":23,"cut":false,"hidden":false,"merged":[[0,1,0,3],[0,6,0,8],[1,1,1,3],[3,0,3,1],[3,2,3,3],[13,0,13,4],[13,9,14,12],[13,13,14,16],[14,0,14,4],[3,11,3,13],[4,0,5,0],[4,1,4,3],[4,4,5,4],[4,5,5,5],[4,6,5,6],[4,7,5,7],[4,9,5,9],[4,10,4,12],[4,13,5,13],[3,9,3,10],[4,14,5,14],[4,15,5,15],[4,16,5,16],[12,0,12,4],[12,9,12,13],[15,9,17,12],[15,13,17,16],[20,0,21,8],[20,9,21,16],[22,0,22,16]]}
["Nom",{"$f":"VLOOKUP(F2,Liste!B:K,2,FALSE)","v":{"$error":"#N/A"}},null,null,"Classement",null,{"$f":"VLOOKUP(F2,Liste!B:K,5,FALSE)","v":{"$error":"#N/A"}}]
["Club",{"$f":"VLOOKUP(F2,Liste!B:K,3,FALSE)","v":{"$error":"#N/A"}},null,null,"N° cible",{"$f":"Feuil1!P14","v":"15D"}]
[]
["1er tir",null,"N° licence",null,{"$f":"VLOOKUP(F2,Liste!B:K,4,FALSE)","v":{"$error":"#N/A"}},null,null,null,null,"2ème tir"]
["Volée","Nombre de points par flèches",null,null,"Total 3 flèches","Total cumulé",10,9,null,"Volée","Nombre de points par flèches",null,null,"Total 3 flèches","Total cumulé",10,9]
[null,1,2,3,null,null,null,null,null,null,1,2,3]
[1,null,null,null,null,null,null,null,null,1]
[2,null,null,null,null,null,null,null,null,2]
[3,null,null,null,null,null,null,null,null,3]
[4,null,null,null,null,null,null,null,null,4]
[5,null,null,null,null,null,null,null,null,5]
[6,null,null,null,null,null,null,null,null,6]
["Total 1ère distance",null,null,null,null,null,null,null,null,"Total 2ème distance"]
["Report 2ème distance +",null,null,null,null,null,null,null,null,"Marqueur",null,null,null,"Archer"]
["Total général ="]
[]
[]
[]
[]
[]
[{"$f":"Feuil1!D5","v":"Cie La Flèche Macairoise"},null,null,null,null,null,null,null,null,{"$f":"Feuil1!D6","v":"2ème étape Challenge CHAIRMARTIN"}]
[]
[{"$f":"Feuil1!D7","v":"2023-01-14"}]

{"sheet":"15E","index":120,"n_rows":23,"n_cols":17,"rows_kept":23,"cut":false,"hidden":false,"merged":[[0,1,0,3],[0,6,0,8],[1,1,1,3],[3,0,3,1],[3,2,3,3],[13,0,13,4],[13,9,14,12],[13,13,14,16],[14,0,14,4],[3,11,3,13],[4,0,5,0],[4,1,4,3],[4,4,5,4],[4,5,5,5],[4,6,5,6],[4,7,5,7],[4,9,5,9],[4,10,4,12],[4,13,5,13],[3,9,3,10],[4,14,5,14],[4,15,5,15],[4,16,5,16],[12,0,12,4],[12,9,12,13],[15,9,17,12],[15,13,17,16],[20,0,21,8],[20,9,21,16],[22,0,22,16]]}
["Nom",{"$f":"VLOOKUP(F2,Liste!B:K,2,FALSE)","v":{"$error":"#N/A"}},null,null,"Classement",null,{"$f":"VLOOKUP(F2,Liste!B:K,5,FALSE)","v":{"$error":"#N/A"}}]
["Club",{"$f":"VLOOKUP(F2,Liste!B:K,3,FALSE)","v":{"$error":"#N/A"}},null,null,"N° cible",{"$f":"Feuil1!P15","v":"15E"}]
[]
["1er tir",null,"N° licence",null,{"$f":"VLOOKUP(F2,Liste!B:K,4,FALSE)","v":{"$error":"#N/A"}},null,null,null,null,"2ème tir"]
["Volée","Nombre de points par flèches",null,null,"Total 3 flèches","Total cumulé",10,9,null,"Volée","Nombre de points par flèches",null,null,"Total 3 flèches","Total cumulé",10,9]
[null,1,2,3,null,null,null,null,null,null,1,2,3]
[1,null,null,null,null,null,null,null,null,1]
[2,null,null,null,null,null,null,null,null,2]
[3,null,null,null,null,null,null,null,null,3]
[4,null,null,null,null,null,null,null,null,4]
[5,null,null,null,null,null,null,null,null,5]
[6,null,null,null,null,null,null,null,null,6]
["Total 1ère distance",null,null,null,null,null,null,null,null,"Total 2ème distance"]
["Report 2ème distance +",null,null,null,null,null,null,null,null,"Marqueur",null,null,null,"Archer"]
["Total général ="]
[]
[]
[]
[]
[]
[{"$f":"Feuil1!D5","v":"Cie La Flèche Macairoise"},null,null,null,null,null,null,null,null,{"$f":"Feuil1!D6","v":"2ème étape Challenge CHAIRMARTIN"}]
[]
[{"$f":"Feuil1!D7","v":"2023-01-14"}]

{"sheet":"15F","index":121,"n_rows":23,"n_cols":17,"rows_kept":23,"cut":false,"hidden":false,"merged":[[0,1,0,3],[0,6,0,8],[1,1,1,3],[3,0,3,1],[3,2,3,3],[13,0,13,4],[13,9,14,12],[13,13,14,16],[14,0,14,4],[3,11,3,13],[4,0,5,0],[4,1,4,3],[4,4,5,4],[4,5,5,5],[4,6,5,6],[4,7,5,7],[4,9,5,9],[4,10,4,12],[4,13,5,13],[3,9,3,10],[4,14,5,14],[4,15,5,15],[4,16,5,16],[12,0,12,4],[12,9,12,13],[15,9,17,12],[15,13,17,16],[20,0,21,8],[20,9,21,16],[22,0,22,16]]}
["Nom",{"$f":"VLOOKUP(F2,Liste!B:K,2,FALSE)","v":{"$error":"#N/A"}},null,null,"Classement",null,{"$f":"VLOOKUP(F2,Liste!B:K,5,FALSE)","v":{"$error":"#N/A"}}]
["Club",{"$f":"VLOOKUP(F2,Liste!B:K,3,FALSE)","v":{"$error":"#N/A"}},null,null,"N° cible",{"$f":"Feuil1!P16","v":"15F"}]
[]
["1er tir",null,"N° licence",null,{"$f":"VLOOKUP(F2,Liste!B:K,4,FALSE)","v":{"$error":"#N/A"}},null,null,null,null,"2ème tir"]
["Volée","Nombre de points par flèches",null,null,"Total 3 flèches","Total cumulé",10,9,null,"Volée","Nombre de points par flèches",null,null,"Total 3 flèches","Total cumulé",10,9]
[null,1,2,3,null,null,null,null,null,null,1,2,3]
[1,null,null,null,null,null,null,null,null,1]
[2,null,null,null,null,null,null,null,null,2]
[3,null,null,null,null,null,null,null,null,3]
[4,null,null,null,null,null,null,null,null,4]
[5,null,null,null,null,null,null,null,null,5]
[6,null,null,null,null,null,null,null,null,6]
["Total 1ère distance",null,null,null,null,null,null,null,null,"Total 2ème distance"]
["Report 2ème distance +",null,null,null,null,null,null,null,null,"Marqueur",null,null,null,"Archer"]
["Total général ="]
[]
[]
[]
[]
[]
[{"$f":"Feuil1!D5","v":"Cie La Flèche Macairoise"},null,null,null,null,null,null,null,null,{"$f":"Feuil1!D6","v":"2ème étape Challenge CHAIRMARTIN"}]
[]
[{"$f":"Feuil1!D7","v":"2023-01-14"}]

{"sheet":"15G","index":122,"n_rows":23,"n_cols":17,"rows_kept":23,"cut":false,"hidden":false,"merged":[[0,1,0,3],[0,6,0,8],[1,1,1,3],[3,0,3,1],[3,2,3,3],[13,0,13,4],[13,9,14,12],[13,13,14,16],[14,0,14,4],[3,11,3,13],[4,0,5,0],[4,1,4,3],[4,4,5,4],[4,5,5,5],[4,6,5,6],[4,7,5,7],[4,9,5,9],[4,10,4,12],[4,13,5,13],[3,9,3,10],[4,14,5,14],[4,15,5,15],[4,16,5,16],[12,0,12,4],[12,9,12,13],[15,9,17,12],[15,13,17,16],[20,0,21,8],[20,9,21,16],[22,0,22,16]]}
["Nom",{"$f":"VLOOKUP(F2,Liste!B:K,2,FALSE)","v":{"$error":"#N/A"}},null,null,"Classement",null,{"$f":"VLOOKUP(F2,Liste!B:K,5,FALSE)","v":{"$error":"#N/A"}}]
["Club",{"$f":"VLOOKUP(F2,Liste!B:K,3,FALSE)","v":{"$error":"#N/A"}},null,null,"N° cible",{"$f":"Feuil1!P17","v":"15G"}]
[]
["1er tir",null,"N° licence",null,{"$f":"VLOOKUP(F2,Liste!B:K,4,FALSE)","v":{"$error":"#N/A"}},null,null,null,null,"2ème tir"]
["Volée","Nombre de points par flèches",null,null,"Total 3 flèches","Total cumulé",10,9,null,"Volée","Nombre de points par flèches",null,null,"Total 3 flèches","Total cumulé",10,9]
[null,1,2,3,null,null,null,null,null,null,1,2,3]
[1,null,null,null,null,null,null,null,null,1]
[2,null,null,null,null,null,null,null,null,2]
[3,null,null,null,null,null,null,null,null,3]
[4,null,null,null,null,null,null,null,null,4]
[5,null,null,null,null,null,null,null,null,5]
[6,null,null,null,null,null,null,null,null,6]
["Total 1ère distance",null,null,null,null,null,null,null,null,"Total 2ème distance"]
["Report 2ème distance +",null,null,null,null,null,null,null,null,"Marqueur",null,null,null,"Archer"]
["Total général ="]
[]
[]
[]
[]
[]
[{"$f":"Feuil1!D5","v":"Cie La Flèche Macairoise"},null,null,null,null,null,null,null,null,{"$f":"Feuil1!D6","v":"2ème étape Challenge CHAIRMARTIN"}]
[]
[{"$f":"Feuil1!D7","v":"2023-01-14"}]

{"sheet":"15H","index":123,"n_rows":23,"n_cols":17,"rows_kept":23,"cut":false,"hidden":false,"merged":[[0,1,0,3],[0,6,0,8],[1,1,1,3],[3,0,3,1],[3,2,3,3],[13,0,13,4],[13,9,14,12],[13,13,14,16],[14,0,14,4],[3,11,3,13],[4,0,5,0],[4,1,4,3],[4,4,5,4],[4,5,5,5],[4,6,5,6],[4,7,5,7],[4,9,5,9],[4,10,4,12],[4,13,5,13],[3,9,3,10],[4,14,5,14],[4,15,5,15],[4,16,5,16],[12,0,12,4],[12,9,12,13],[15,9,17,12],[15,13,17,16],[20,0,21,8],[20,9,21,16],[22,0,22,16]]}
["Nom",{"$f":"VLOOKUP(F2,Liste!B:K,2,FALSE)","v":{"$error":"#N/A"}},null,null,"Classement",null,{"$f":"VLOOKUP(F2,Liste!B:K,5,FALSE)","v":{"$error":"#N/A"}}]
["Club",{"$f":"VLOOKUP(F2,Liste!B:K,3,FALSE)","v":{"$error":"#N/A"}},null,null,"N° cible",{"$f":"Feuil1!P18","v":"15H"}]
[]
["1er tir",null,"N° licence",null,{"$f":"VLOOKUP(F2,Liste!B:K,4,FALSE)","v":{"$error":"#N/A"}},null,null,null,null,"2ème tir"]
["Volée","Nombre de points par flèches",null,null,"Total 3 flèches","Total cumulé",10,9,null,"Volée","Nombre de points par flèches",null,null,"Total 3 flèches","Total cumulé",10,9]
[null,1,2,3,null,null,null,null,null,null,1,2,3]
[1,null,null,null,null,null,null,null,null,1]
[2,null,null,null,null,null,null,null,null,2]
[3,null,null,null,null,null,null,null,null,3]
[4,null,null,null,null,null,null,null,null,4]
[5,null,null,null,null,null,null,null,null,5]
[6,null,null,null,null,null,null,null,null,6]
["Total 1ère distance",null,null,null,null,null,null,null,null,"Total 2ème distance"]
["Report 2ème distance +",null,null,null,null,null,null,null,null,"Marqueur",null,null,null,"Archer"]
["Total général ="]
[]
[]
[]
[]
[]
[{"$f":"Feuil1!D5","v":"Cie La Flèche Macairoise"},null,null,null,null,null,null,null,null,{"$f":"Feuil1!D6","v":"2ème étape Challenge CHAIRMARTIN"}]
[]
[{"$f":"Feuil1!D7","v":"2023-01-14"}]

{"sheet":"16A","index":124,"n_rows":23,"n_cols":17,"rows_kept":23,"cut":false,"hidden":false,"merged":[[0,1,0,3],[0,6,0,8],[1,1,1,3],[3,0,3,1],[3,2,3,3],[13,0,13,4],[13,9,14,12],[13,13,14,16],[14,0,14,4],[3,11,3,13],[4,0,5,0],[4,1,4,3],[4,4,5,4],[4,5,5,5],[4,6,5,6],[4,7,5,7],[4,9,5,9],[4,10,4,12],[4,13,5,13],[3,9,3,10],[4,14,5,14],[4,15,5,15],[4,16,5,16],[12,0,12,4],[12,9,12,13],[15,9,17,12],[15,13,17,16],[20,0,21,8],[20,9,21,16],[22,0,22,16]]}
["Nom",{"$f":"VLOOKUP(F2,Liste!B:K,2,FALSE)","v":{"$error":"#N/A"}},null,null,"Classement",null,{"$f":"VLOOKUP(F2,Liste!B:K,5,FALSE)","v":{"$error":"#N/A"}}]
["Club",{"$f":"VLOOKUP(F2,Liste!B:K,3,FALSE)","v":{"$error":"#N/A"}},null,null,"N° cible",{"$f":"Feuil1!P19","v":"16A"}]
[]
["1er tir",null,"N° licence",null,{"$f":"VLOOKUP(F2,Liste!B:K,4,FALSE)","v":{"$error":"#N/A"}},null,null,null,null,"2ème tir"]
["Volée","Nombre de points par flèches",null,null,"Total 3 flèches","Total cumulé",10,9,null,"Volée","Nombre de points par flèches",null,null,"Total 3 flèches","Total cumulé",10,9]
[null,1,2,3,null,null,null,null,null,null,1,2,3]
[1,null,null,null,null,null,null,null,null,1]
[2,null,null,null,null,null,null,null,null,2]
[3,null,null,null,null,null,null,null,null,3]
[4,null,null,null,null,null,null,null,null,4]
[5,null,null,null,null,null,null,null,null,5]
[6,null,null,null,null,null,null,null,null,6]
["Total 1ère distance",null,null,null,null,null,null,null,null,"Total 2ème distance"]
["Report 2ème distance +",null,null,null,null,null,null,null,null,"Marqueur",null,null,null,"Archer"]
["Total général ="]
[]
[]
[]
[]
[]
[{"$f":"Feuil1!D5","v":"Cie La Flèche Macairoise"},null,null,null,null,null,null,null,null,{"$f":"Feuil1!D6","v":"2ème étape Challenge CHAIRMARTIN"}]
[]
[{"$f":"Feuil1!D7","v":"2023-01-14"}]

{"sheet":"16B","index":125,"n_rows":23,"n_cols":17,"rows_kept":23,"cut":false,"hidden":false,"merged":[[0,1,0,3],[0,6,0,8],[1,1,1,3],[3,0,3,1],[3,2,3,3],[13,0,13,4],[13,9,14,12],[13,13,14,16],[14,0,14,4],[3,11,3,13],[4,0,5,0],[4,1,4,3],[4,4,5,4],[4,5,5,5],[4,6,5,6],[4,7,5,7],[4,9,5,9],[4,10,4,12],[4,13,5,13],[3,9,3,10],[4,14,5,14],[4,15,5,15],[4,16,5,16],[12,0,12,4],[12,9,12,13],[15,9,17,12],[15,13,17,16],[20,0,21,8],[20,9,21,16],[22,0,22,16]]}
["Nom",{"$f":"VLOOKUP(F2,Liste!B:K,2,FALSE)","v":{"$error":"#N/A"}},null,null,"Classement",null,{"$f":"VLOOKUP(F2,Liste!B:K,5,FALSE)","v":{"$error":"#N/A"}}]
["Club",{"$f":"VLOOKUP(F2,Liste!B:K,3,FALSE)","v":{"$error":"#N/A"}},null,null,"N° cible",{"$f":"Feuil1!P20","v":"16B"}]
[]
["1er tir",null,"N° licence",null,{"$f":"VLOOKUP(F2,Liste!B:K,4,FALSE)","v":{"$error":"#N/A"}},null,null,null,null,"2ème tir"]
["Volée","Nombre de points par flèches",null,null,"Total 3 flèches","Total cumulé",10,9,null,"Volée","Nombre de points par flèches",null,null,"Total 3 flèches","Total cumulé",10,9]
[null,1,2,3,null,null,null,null,null,null,1,2,3]
[1,null,null,null,null,null,null,null,null,1]
[2,null,null,null,null,null,null,null,null,2]
[3,null,null,null,null,null,null,null,null,3]
[4,null,null,null,null,null,null,null,null,4]
[5,null,null,null,null,null,null,null,null,5]
[6,null,null,null,null,null,null,null,null,6]
["Total 1ère distance",null,null,null,null,null,null,null,null,"Total 2ème distance"]
["Report 2ème distance +",null,null,null,null,null,null,null,null,"Marqueur",null,null,null,"Archer"]
["Total général ="]
[]
[]
[]
[]
[]
[{"$f":"Feuil1!D5","v":"Cie La Flèche Macairoise"},null,null,null,null,null,null,null,null,{"$f":"Feuil1!D6","v":"2ème étape Challenge CHAIRMARTIN"}]
[]
[{"$f":"Feuil1!D7","v":"2023-01-14"}]

{"sheet":"16C","index":126,"n_rows":23,"n_cols":17,"rows_kept":23,"cut":false,"hidden":false,"merged":[[0,1,0,3],[0,6,0,8],[1,1,1,3],[3,0,3,1],[3,2,3,3],[13,0,13,4],[13,9,14,12],[13,13,14,16],[14,0,14,4],[3,11,3,13],[4,0,5,0],[4,1,4,3],[4,4,5,4],[4,5,5,5],[4,6,5,6],[4,7,5,7],[4,9,5,9],[4,10,4,12],[4,13,5,13],[3,9,3,10],[4,14,5,14],[4,15,5,15],[4,16,5,16],[12,0,12,4],[12,9,12,13],[15,9,17,12],[15,13,17,16],[20,0,21,8],[20,9,21,16],[22,0,22,16]]}
["Nom",{"$f":"VLOOKUP(F2,Liste!B:K,2,FALSE)","v":{"$error":"#N/A"}},null,null,"Classement",null,{"$f":"VLOOKUP(F2,Liste!B:K,5,FALSE)","v":{"$error":"#N/A"}}]
["Club",{"$f":"VLOOKUP(F2,Liste!B:K,3,FALSE)","v":{"$error":"#N/A"}},null,null,"N° cible",{"$f":"Feuil1!P21","v":"16C"}]
[]
["1er tir",null,"N° licence",null,{"$f":"VLOOKUP(F2,Liste!B:K,4,FALSE)","v":{"$error":"#N/A"}},null,null,null,null,"2ème tir"]
["Volée","Nombre de points par flèches",null,null,"Total 3 flèches","Total cumulé",10,9,null,"Volée","Nombre de points par flèches",null,null,"Total 3 flèches","Total cumulé",10,9]
[null,1,2,3,null,null,null,null,null,null,1,2,3]
[1,null,null,null,null,null,null,null,null,1]
[2,null,null,null,null,null,null,null,null,2]
[3,null,null,null,null,null,null,null,null,3]
[4,null,null,null,null,null,null,null,null,4]
[5,null,null,null,null,null,null,null,null,5]
[6,null,null,null,null,null,null,null,null,6]
["Total 1ère distance",null,null,null,null,null,null,null,null,"Total 2ème distance"]
["Report 2ème distance +",null,null,null,null,null,null,null,null,"Marqueur",null,null,null,"Archer"]
["Total général ="]
[]
[]
[]
[]
[]
[{"$f":"Feuil1!D5","v":"Cie La Flèche Macairoise"},null,null,null,null,null,null,null,null,{"$f":"Feuil1!D6","v":"2ème étape Challenge CHAIRMARTIN"}]
[]
[{"$f":"Feuil1!D7","v":"2023-01-14"}]

{"sheet":"16D","index":127,"n_rows":23,"n_cols":17,"rows_kept":23,"cut":false,"hidden":false,"merged":[[0,1,0,3],[0,6,0,8],[1,1,1,3],[3,0,3,1],[3,2,3,3],[13,0,13,4],[13,9,14,12],[13,13,14,16],[14,0,14,4],[3,11,3,13],[4,0,5,0],[4,1,4,3],[4,4,5,4],[4,5,5,5],[4,6,5,6],[4,7,5,7],[4,9,5,9],[4,10,4,12],[4,13,5,13],[3,9,3,10],[4,14,5,14],[4,15,5,15],[4,16,5,16],[12,0,12,4],[12,9,12,13],[15,9,17,12],[15,13,17,16],[20,0,21,8],[20,9,21,16],[22,0,22,16]]}
["Nom",{"$f":"VLOOKUP(F2,Liste!B:K,2,FALSE)","v":{"$error":"#N/A"}},null,null,"Classement",null,{"$f":"VLOOKUP(F2,Liste!B:K,5,FALSE)","v":{"$error":"#N/A"}}]
["Club",{"$f":"VLOOKUP(F2,Liste!B:K,3,FALSE)","v":{"$error":"#N/A"}},null,null,"N° cible",{"$f":"Feuil1!P22","v":"16D"}]
[]
["1er tir",null,"N° licence",null,{"$f":"VLOOKUP(F2,Liste!B:K,4,FALSE)","v":{"$error":"#N/A"}},null,null,null,null,"2ème tir"]
["Volée","Nombre de points par flèches",null,null,"Total 3 flèches","Total cumulé",10,9,null,"Volée","Nombre de points par flèches",null,null,"Total 3 flèches","Total cumulé",10,9]
[null,1,2,3,null,null,null,null,null,null,1,2,3]
[1,null,null,null,null,null,null,null,null,1]
[2,null,null,null,null,null,null,null,null,2]
[3,null,null,null,null,null,null,null,null,3]
[4,null,null,null,null,null,null,null,null,4]
[5,null,null,null,null,null,null,null,null,5]
[6,null,null,null,null,null,null,null,null,6]
["Total 1ère distance",null,null,null,null,null,null,null,null,"Total 2ème distance"]
["Report 2ème distance +",null,null,null,null,null,null,null,null,"Marqueur",null,null,null,"Archer"]
["Total général ="]
[]
[]
[]
[]
[]
[{"$f":"Feuil1!D5","v":"Cie La Flèche Macairoise"},null,null,null,null,null,null,null,null,{"$f":"Feuil1!D6","v":"2ème étape Challenge CHAIRMARTIN"}]
[]
[{"$f":"Feuil1!D7","v":"2023-01-14"}]

{"sheet":"16E","index":128,"n_rows":23,"n_cols":17,"rows_kept":23,"cut":false,"hidden":false,"merged":[[0,1,0,3],[0,6,0,8],[1,1,1,3],[3,0,3,1],[3,2,3,3],[13,0,13,4],[13,9,14,12],[13,13,14,16],[14,0,14,4],[3,11,3,13],[4,0,5,0],[4,1,4,3],[4,4,5,4],[4,5,5,5],[4,6,5,6],[4,7,5,7],[4,9,5,9],[4,10,4,12],[4,13,5,13],[3,9,3,10],[4,14,5,14],[4,15,5,15],[4,16,5,16],[12,0,12,4],[12,9,12,13],[15,9,17,12],[15,13,17,16],[20,0,21,8],[20,9,21,16],[22,0,22,16]]}
["Nom",{"$f":"VLOOKUP(F2,Liste!B:K,2,FALSE)","v":{"$error":"#N/A"}},null,null,"Classement",null,{"$f":"VLOOKUP(F2,Liste!B:K,5,FALSE)","v":{"$error":"#N/A"}}]
["Club",{"$f":"VLOOKUP(F2,Liste!B:K,3,FALSE)","v":{"$error":"#N/A"}},null,null,"N° cible",{"$f":"Feuil1!P23","v":"16E"}]
[]
["1er tir",null,"N° licence",null,{"$f":"VLOOKUP(F2,Liste!B:K,4,FALSE)","v":{"$error":"#N/A"}},null,null,null,null,"2ème tir"]
["Volée","Nombre de points par flèches",null,null,"Total 3 flèches","Total cumulé",10,9,null,"Volée","Nombre de points par flèches",null,null,"Total 3 flèches","Total cumulé",10,9]
[null,1,2,3,null,null,null,null,null,null,1,2,3]
[1,null,null,null,null,null,null,null,null,1]
[2,null,null,null,null,null,null,null,null,2]
[3,null,null,null,null,null,null,null,null,3]
[4,null,null,null,null,null,null,null,null,4]
[5,null,null,null,null,null,null,null,null,5]
[6,null,null,null,null,null,null,null,null,6]
["Total 1ère distance",null,null,null,null,null,null,null,null,"Total 2ème distance"]
["Report 2ème distance +",null,null,null,null,null,null,null,null,"Marqueur",null,null,null,"Archer"]
["Total général ="]
[]
[]
[]
[]
[]
[{"$f":"Feuil1!D5","v":"Cie La Flèche Macairoise"},null,null,null,null,null,null,null,null,{"$f":"Feuil1!D6","v":"2ème étape Challenge CHAIRMARTIN"}]
[]
[{"$f":"Feuil1!D7","v":"2023-01-14"}]

{"sheet":"16F","index":129,"n_rows":23,"n_cols":17,"rows_kept":23,"cut":false,"hidden":false,"merged":[[0,1,0,3],[0,6,0,8],[1,1,1,3],[3,0,3,1],[3,2,3,3],[13,0,13,4],[13,9,14,12],[13,13,14,16],[14,0,14,4],[3,11,3,13],[4,0,5,0],[4,1,4,3],[4,4,5,4],[4,5,5,5],[4,6,5,6],[4,7,5,7],[4,9,5,9],[4,10,4,12],[4,13,5,13],[3,9,3,10],[4,14,5,14],[4,15,5,15],[4,16,5,16],[12,0,12,4],[12,9,12,13],[15,9,17,12],[15,13,17,16],[20,0,21,8],[20,9,21,16],[22,0,22,16]]}
["Nom",{"$f":"VLOOKUP(F2,Liste!B:K,2,FALSE)","v":{"$error":"#N/A"}},null,null,"Classement",null,{"$f":"VLOOKUP(F2,Liste!B:K,5,FALSE)","v":{"$error":"#N/A"}}]
["Club",{"$f":"VLOOKUP(F2,Liste!B:K,3,FALSE)","v":{"$error":"#N/A"}},null,null,"N° cible",{"$f":"Feuil1!P24","v":"16F"}]
[]
["1er tir",null,"N° licence",null,{"$f":"VLOOKUP(F2,Liste!B:K,4,FALSE)","v":{"$error":"#N/A"}},null,null,null,null,"2ème tir"]
["Volée","Nombre de points par flèches",null,null,"Total 3 flèches","Total cumulé",10,9,null,"Volée","Nombre de points par flèches",null,null,"Total 3 flèches","Total cumulé",10,9]
[null,1,2,3,null,null,null,null,null,null,1,2,3]
[1,null,null,null,null,null,null,null,null,1]
[2,null,null,null,null,null,null,null,null,2]
[3,null,null,null,null,null,null,null,null,3]
[4,null,null,null,null,null,null,null,null,4]
[5,null,null,null,null,null,null,null,null,5]
[6,null,null,null,null,null,null,null,null,6]
["Total 1ère distance",null,null,null,null,null,null,null,null,"Total 2ème distance"]
["Report 2ème distance +",null,null,null,null,null,null,null,null,"Marqueur",null,null,null,"Archer"]
["Total général ="]
[]
[]
[]
[]
[]
[{"$f":"Feuil1!D5","v":"Cie La Flèche Macairoise"},null,null,null,null,null,null,null,null,{"$f":"Feuil1!D6","v":"2ème étape Challenge CHAIRMARTIN"}]
[]
[{"$f":"Feuil1!D7","v":"2023-01-14"}]

{"sheet":"16G","index":130,"n_rows":23,"n_cols":17,"rows_kept":23,"cut":false,"hidden":false,"merged":[[0,1,0,3],[0,6,0,8],[1,1,1,3],[3,0,3,1],[3,2,3,3],[13,0,13,4],[13,9,14,12],[13,13,14,16],[14,0,14,4],[3,11,3,13],[4,0,5,0],[4,1,4,3],[4,4,5,4],[4,5,5,5],[4,6,5,6],[4,7,5,7],[4,9,5,9],[4,10,4,12],[4,13,5,13],[3,9,3,10],[4,14,5,14],[4,15,5,15],[4,16,5,16],[12,0,12,4],[12,9,12,13],[15,9,17,12],[15,13,17,16],[20,0,21,8],[20,9,21,16],[22,0,22,16]]}
["Nom",{"$f":"VLOOKUP(F2,Liste!B:K,2,FALSE)","v":{"$error":"#N/A"}},null,null,"Classement",null,{"$f":"VLOOKUP(F2,Liste!B:K,5,FALSE)","v":{"$error":"#N/A"}}]
["Club",{"$f":"VLOOKUP(F2,Liste!B:K,3,FALSE)","v":{"$error":"#N/A"}},null,null,"N° cible",{"$f":"Feuil1!P25","v":"16G"}]
[]
["1er tir",null,"N° licence",null,{"$f":"VLOOKUP(F2,Liste!B:K,4,FALSE)","v":{"$error":"#N/A"}},null,null,null,null,"2ème tir"]
["Volée","Nombre de points par flèches",null,null,"Total 3 flèches","Total cumulé",10,9,null,"Volée","Nombre de points par flèches",null,null,"Total 3 flèches","Total cumulé",10,9]
[null,1,2,3,null,null,null,null,null,null,1,2,3]
[1,null,null,null,null,null,null,null,null,1]
[2,null,null,null,null,null,null,null,null,2]
[3,null,null,null,null,null,null,null,null,3]
[4,null,null,null,null,null,null,null,null,4]
[5,null,null,null,null,null,null,null,null,5]
[6,null,null,null,null,null,null,null,null,6]
["Total 1ère distance",null,null,null,null,null,null,null,null,"Total 2ème distance"]
["Report 2ème distance +",null,null,null,null,null,null,null,null,"Marqueur",null,null,null,"Archer"]
["Total général ="]
[]
[]
[]
[]
[]
[{"$f":"Feuil1!D5","v":"Cie La Flèche Macairoise"},null,null,null,null,null,null,null,null,{"$f":"Feuil1!D6","v":"2ème étape Challenge CHAIRMARTIN"}]
[]
[{"$f":"Feuil1!D7","v":"2023-01-14"}]

{"sheet":"16H","index":131,"n_rows":23,"n_cols":17,"rows_kept":23,"cut":false,"hidden":false,"merged":[[0,1,0,3],[0,6,0,8],[1,1,1,3],[3,0,3,1],[3,2,3,3],[13,0,13,4],[13,9,14,12],[13,13,14,16],[14,0,14,4],[3,11,3,13],[4,0,5,0],[4,1,4,3],[4,4,5,4],[4,5,5,5],[4,6,5,6],[4,7,5,7],[4,9,5,9],[4,10,4,12],[4,13,5,13],[3,9,3,10],[4,14,5,14],[4,15,5,15],[4,16,5,16],[12,0,12,4],[12,9,12,13],[15,9,17,12],[15,13,17,16],[20,0,21,8],[20,9,21,16],[22,0,22,16]]}
["Nom",{"$f":"VLOOKUP(F2,Liste!B:K,2,FALSE)","v":{"$error":"#N/A"}},null,null,"Classement",null,{"$f":"VLOOKUP(F2,Liste!B:K,5,FALSE)","v":{"$error":"#N/A"}}]
["Club",{"$f":"VLOOKUP(F2,Liste!B:K,3,FALSE)","v":{"$error":"#N/A"}},null,null,"N° cible",{"$f":"Feuil1!P26","v":"16H"}]
[]
["1er tir",null,"N° licence",null,{"$f":"VLOOKUP(F2,Liste!B:K,4,FALSE)","v":{"$error":"#N/A"}},null,null,null,null,"2ème tir"]
["Volée","Nombre de points par flèches",null,null,"Total 3 flèches","Total cumulé",10,9,null,"Volée","Nombre de points par flèches",null,null,"Total 3 flèches","Total cumulé",10,9]
[null,1,2,3,null,null,null,null,null,null,1,2,3]
[1,null,null,null,null,null,null,null,null,1]
[2,null,null,null,null,null,null,null,null,2]
[3,null,null,null,null,null,null,null,null,3]
[4,null,null,null,null,null,null,null,null,4]
[5,null,null,null,null,null,null,null,null,5]
[6,null,null,null,null,null,null,null,null,6]
["Total 1ère distance",null,null,null,null,null,null,null,null,"Total 2ème distance"]
["Report 2ème distance +",null,null,null,null,null,null,null,null,"Marqueur",null,null,null,"Archer"]
["Total général ="]
[]
[]
[]
[]
[]
[{"$f":"Feuil1!D5","v":"Cie La Flèche Macairoise"},null,null,null,null,null,null,null,null,{"$f":"Feuil1!D6","v":"2ème étape Challenge CHAIRMARTIN"}]
[]
[{"$f":"Feuil1!D7","v":"2023-01-14"}]

{"sheet":"cible 1","index":132,"n_rows":23,"n_cols":27,"rows_kept":23,"cut":false,"hidden":false,"merged":[[16,21,18,23],[16,24,18,26],[20,0,21,13],[20,14,21,26],[22,0,22,26],[16,0,18,2],[16,3,18,5],[16,7,18,9],[16,10,18,12],[16,14,18,16],[16,17,18,19],[14,21,14,23],[14,24,14,26],[15,0,15,2],[15,3,15,5],[15,7,15,9],[15,10,15,12],[15,14,15,16],[15,17,15,19],[15,21,15,23],[15,24,15,26],[14,0,14,2],[14,3,14,5],[14,7,14,9],[14,10,14,12],[14,14,14,16],[14,17,14,19],[5,21,6,21],[5,22,5,24],[5,25,6,25],[5,26,6,26],[13,0,13,4],[13,7,13,11],[13,14,13,18],[13,21,13,25],[5,11,6,11],[5,12,6,12],[5,14,6,14],[5,15,5,17],[5,18,6,18],[5,19,6,19],[5,0,6,0],[5,1,5,3],[5,4,6,4],[5,5,6,5],[5,7,6,7],[5,8,5,10],[4,14,4,15],[4,11,4,12],[4,16,4,17],[4,18,4,19],[4,21,4,22],[4,23,4,24],[4,25,4,26],[4,0,4,1],[4,2,4,3],[4,4,4,5],[4,7,4,8],[4,9,4,10],[2,21,2,22],[2,23,2,26],[3,0,3,1],[3,7,3,8],[3,14,3,15],[3,21,3,22],[2,0,2,1],[2,2,2,6],[2,7,2,8],[2,9,2,13],[2,14,2,15],[2,16,2,20],[0,1,0,5],[0,8,0,12],[0,15,0,19],[0,22,0,26],[1,1,1,5],[1,8,1,12],[1,15,1,19],[1,22,1,26]]}
["Nom",{"$f":"VLOOKUP(C4,Liste!B:K,2,FALSE)","v":{"$error":"#N/A"}},null,null,null,null,null,"Nom",{"$f":"VLOOKUP(J4,Liste!B:C,2,FALSE)","v":{"$error":"#N/A"}},null,null,null,null,null,"Nom",{"$f":"VLOOKUP(Q4,Liste!B:C,2,FALSE)","v":{"$error":"#N/A"}},null,null,null,null,null,"Nom",{"$f":"VLOOKUP(X4,Liste!B:C,2,FALSE)","v":{"$error":"#N/A"}}]
["Club",{"$f":"VLOOKUP(C4,Liste!B:D,3,FALSE)","v":{"$error":"#N/A"}},null,null,null,null,null,"Club",{"$f":"VLOOKUP(J4,Liste!B:D,3,FALSE)","v":{"$error":"#N/A"}},null,null,null,null,null,"Club",{"$f":"VLOOKUP(Q4,Liste!B:D,3,FALSE)","v":{"$error":"#N/A"}},null,null,null,null,null,"Club",{"$f":"VLOOKUP(X4,Liste!B:D,3,FALSE)","v":{"$error":"#N/A"}}]
["Classement",null,{"$f":"VLOOKUP(C4,Liste!B:K,5,FALSE)","v":{"$error":"#N/A"}},null,null,null,null,"Classement",null,{"$f":"VLOOKUP(J4,Liste!B:K,5,FALSE)","v":{"$error":"#N/A"}},null,null,null,null,"Classement",null,{"$f":"VLOOKUP(Q4,Liste!B:F,5,FALSE)","v":{"$error":"#N/A"}},null,null,null,null,"Classement",null,{"$f":"VLOOKUP(X4,Liste!B:F,5,FALSE)","v":{"$error":"#N/A"}}]
["N° cible",null,{"$f":"Feuil1!B11","v":"1A"},null,null,null,null,"N° cible",null,{"$f":"Feuil1!B12","v":"1B"},null,null,null,null,"N° cible",null,{"$f":"Feuil1!B13","v":"1C"},null,null,null,null,"N° cible",null,{"$f":"Feuil1!B14","v":"1D"}]
[{"$f":"Feuil1!D4","v":"2ème Tir"},null,"Licence",null,{"$f":"VLOOKUP(C4,Liste!B:K,4,FALSE)","v":{"$error":"#N/A"}},null,null,{"$f":"Feuil1!D4","v":"2ème Tir"},null,"Licence",null,{"$f":"VLOOKUP(J4,Liste!B:K,4,FALSE)","v":{"$error":"#N/A"}},null,null,{"$f":"Feuil1!D4","v":"2ème Tir"},null,"Licence",null,{"$f":"VLOOKUP(Q4,Liste!B:E,4,FALSE)","v":{"$error":"#N/A"}},null,null,{"$f":"Feuil1!D4","v":"2ème Tir"},null,"Licence",null,{"$f":"VLOOKUP(X4,Liste!B:E,4,FALSE)","v":{"$error":"#N/A"}}]
["N°","Points par flèches",null,null,"Total 3 flèches","Total cumulé",null,{"$f":"A6","v":"N°"},{"$f":"B6","v":"Points par flèches"},null,null,"Total 3 flèches","Total cumulé",null,"N°","Points par flèches",null,null,"Total 3 flèches","Total cumulé",null,{"$f":"O6","v":"N°"},{"$f":"P6","v":"Points par flèches"},null,null,"Total 3 flèches","Total cumulé"]
[null,1,2,3,null,null,null,null,1,2,3,null,null,null,null,1,2,3,null,null,null,null,1,2,3]
[1,null,null,null,null,null,null,1,null,null,null,null,null,null,1,null,null,null,null,null,null,1]
[2,null,null,null,null,null,null,2,null,null,null,null,null,null,2,null,null,null,null,null,null,2]
[3,null,null,null,null,null,null,3,null,null,null,null,null,null,3,null,null,null,null,null,null,3]
[4,null,null,null,null,null,null,4,null,null,null,null,null,null,4,null,null,null,null,null,null,4]
[5,null,null,null,null,null,null,5,null,null,null,null,null,null,5,null,null,null,null,null,null,5]
[6,null,null,null,null,null,null,6,null,null,null,null,null,null,6,null,null,null,null,null,null,6]
["Total distance",null,null,null,null,null,null,"Total distance",null,null,null,null,null,null,"Total distance",null,null,null,null,null,null,"Total distance"]
[10,null,null,9,null,null,null,10,null,null,9,null,null,null,10,null,null,9,null,null,null,10,null,null,9]
[]
["Archer",null,null,"Marqueur",null,null,null,"Archer",null,null,"Marqueur",null,null,null,"Archer",null,null,"Marqueur",null,null,null,"Archer",null,null,"Marqueur"]
[]
[]
[]
[{"$f":"Feuil1!D5","v":"Cie La Flèche Macairoise"},null,null,null,null,null,null,null,null,null,null,null,null,null,{"$f":"Feuil1!D6","v":"2ème étape Challenge CHAIRMARTIN"}]
[]
[{"$f":"Feuil1!D7","v":"2023-01-14"}]

{"sheet":"cible 1 (2)","index":133,"n_rows":23,"n_cols":27,"rows_kept":23,"cut":false,"hidden":false,"merged":[[0,1,0,5],[0,8,0,12],[0,15,0,19],[0,22,0,26],[1,1,1,5],[1,8,1,12],[1,15,1,19],[1,22,1,26],[2,21,2,22],[2,23,2,26],[3,0,3,1],[3,7,3,8],[3,14,3,15],[3,21,3,22],[2,0,2,1],[2,2,2,6],[2,7,2,8],[2,9,2,13],[2,14,2,15],[2,16,2,20],[4,0,4,1],[4,2,4,3],[4,4,4,5],[4,7,4,8],[4,9,4,10],[4,16,4,17],[4,18,4,19],[4,21,4,22],[4,23,4,24],[4,25,4,26],[5,4,6,4],[5,5,6,5],[5,7,6,7],[5,8,5,10],[4,14,4,15],[4,11,4,12],[5,21,6,21],[5,22,5,24],[5,25,6,25],[5,26,6,26],[13,0,13,4],[13,7,13,11],[13,14,13,18],[13,21,13,25],[5,11,6,11],[5,12,6,12],[5,14,6,14],[5,15,5,17],[5,18,6,18],[5,19,6,19],[5,0,6,0],[5,1,5,3],[14,21,14,23],[14,24,14,26],[15,0,15,2],[15,3,15,5],[15,7,15,9],[15,10,15,12],[15,14,15,16],[15,17,15,19],[15,21,15,23],[15,24,15,26],[14,0,14,2],[14,3,14,5],[14,7,14,9],[14,10,14,12],[14,14,14,16],[14,17,14,19],[16,21,18,23],[16,24,18,26],[20,0,21,13],[20,14,21,26],[22,0,22,26],[16,0,18,2],[16,3,18,5],[16,7,18,9],[16,10,18,12],[16,14,18,16],[16,17,18,19]]}
["Nom",{"$f":"VLOOKUP(C4,Liste!B:K,2,FALSE)","v":{"$error":"#N/A"}},null,null,null,null,null,"Nom",{"$f":"VLOOKUP(J4,Liste!B:C,2,FALSE)","v":{"$error":"#N/A"}},null,null,null,null,null,"Nom",{"$f":"VLOOKUP(Q4,Liste!B:C,2,FALSE)","v":{"$error":"#N/A"}},null,null,null,null,null,"Nom",{"$f":"VLOOKUP(X4,Liste!B:C,2,FALSE)","v":{"$error":"#N/A"}}]
["Club",{"$f":"VLOOKUP(C4,Liste!B:D,3,FALSE)","v":{"$error":"#N/A"}},null,null,null,null,null,"Club",{"$f":"VLOOKUP(J4,Liste!B:D,3,FALSE)","v":{"$error":"#N/A"}},null,null,null,null,null,"Club",{"$f":"VLOOKUP(Q4,Liste!B:D,3,FALSE)","v":{"$error":"#N/A"}},null,null,null,null,null,"Club",{"$f":"VLOOKUP(X4,Liste!B:D,3,FALSE)","v":{"$error":"#N/A"}}]
["Classement",null,{"$f":"VLOOKUP(C4,Liste!B:K,5,FALSE)","v":{"$error":"#N/A"}},null,null,null,null,"Classement",null,{"$f":"VLOOKUP(J4,Liste!B:K,5,FALSE)","v":{"$error":"#N/A"}},null,null,null,null,"Classement",null,{"$f":"VLOOKUP(Q4,Liste!B:F,5,FALSE)","v":{"$error":"#N/A"}},null,null,null,null,"Classement",null,{"$f":"VLOOKUP(X4,Liste!B:F,5,FALSE)","v":{"$error":"#N/A"}}]
["N° cible",null,{"$f":"Feuil1!B15","v":"1E"},null,null,null,null,"N° cible",null,{"$f":"Feuil1!B16","v":"1F"},null,null,null,null,"N° cible",null,{"$f":"Feuil1!B17","v":"1G"},null,null,null,null,"N° cible",null,{"$f":"Feuil1!B18","v":"1H"}]
[{"$f":"Feuil1!D4","v":"2ème Tir"},null,"Licence",null,{"$f":"VLOOKUP(C4,Liste!B:K,4,FALSE)","v":{"$error":"#N/A"}},null,null,{"$f":"Feuil1!D4","v":"2ème Tir"},null,"Licence",null,{"$f":"VLOOKUP(J4,Liste!B:K,4,FALSE)","v":{"$error":"#N/A"}},null,null,{"$f":"Feuil1!D4","v":"2ème Tir"},null,"Licence",null,{"$f":"VLOOKUP(Q4,Liste!B:E,4,FALSE)","v":{"$error":"#N/A"}},null,null,{"$f":"Feuil1!D4","v":"2ème Tir"},null,"Licence",null,{"$f":"VLOOKUP(X4,Liste!B:E,4,FALSE)","v":{"$error":"#N/A"}}]
["N°","Points par flèches",null,null,"Total 3 flèches","Total cumulé",null,{"$f":"A6","v":"N°"},{"$f":"B6","v":"Points par flèches"},null,null,"Total 3 flèches","Total cumulé",null,"N°","Points par flèches",null,null,"Total 3 flèches","Total cumulé",null,{"$f":"O6","v":"N°"},{"$f":"P6","v":"Points par flèches"},null,null,"Total 3 flèches","Total cumulé"]
[null,1,2,3,null,null,null,null,1,2,3,null,null,null,null,1,2,3,null,null,null,null,1,2,3]
[1,null,null,null,null,null,null,1,null,null,null,null,null,null,1,null,null,null,null,null,null,1]
[2,null,null,null,null,null,null,2,null,null,null,null,null,null,2,null,null,null,null,null,null,2]
[3,null,null,null,null,null,null,3,null,null,null,null,null,null,3,null,null,null,null,null,null,3]
[4,null,null,null,null,null,null,4,null,null,null,null,null,null,4,null,null,null,null,null,null,4]
[5,null,null,null,null,null,null,5,null,null,null,null,null,null,5,null,null,null,null,null,null,5]
[6,null,null,null,null,null,null,6,null,null,null,null,null,null,6,null,null,null,null,null,null,6]
["Total distance",null,null,null,null,null,null,"Total distance",null,null,null,null,null,null,"Total distance",null,null,null,null,null,null,"Total distance"]
[10,null,null,9,null,null,null,10,null,null,9,null,null,null,10,null,null,9,null,null,null,10,null,null,9]
[]
["Archer",null,null,"Marqueur",null,null,null,"Archer",null,null,"Marqueur",null,null,null,"Archer",null,null,"Marqueur",null,null,null,"Archer",null,null,"Marqueur"]
[]
[]
[]
[{"$f":"Feuil1!D5","v":"Cie La Flèche Macairoise"},null,null,null,null,null,null,null,null,null,null,null,null,null,{"$f":"Feuil1!D6","v":"2ème étape Challenge CHAIRMARTIN"}]
[]
[{"$f":"Feuil1!D7","v":"2023-01-14"}]

{"sheet":"cible 2","index":134,"n_rows":23,"n_cols":27,"rows_kept":23,"cut":false,"hidden":false,"merged":[[0,1,0,5],[0,8,0,12],[0,15,0,19],[0,22,0,26],[1,1,1,5],[1,8,1,12],[1,15,1,19],[1,22,1,26],[2,21,2,22],[2,23,2,26],[3,0,3,1],[3,7,3,8],[3,14,3,15],[3,21,3,22],[2,0,2,1],[2,2,2,6],[2,7,2,8],[2,9,2,13],[2,14,2,15],[2,16,2,20],[4,0,4,1],[4,2,4,3],[4,4,4,5],[4,7,4,8],[4,9,4,10],[4,16,4,17],[4,18,4,19],[4,21,4,22],[4,23,4,24],[4,25,4,26],[5,4,6,4],[5,5,6,5],[5,7,6,7],[5,8,5,10],[4,14,4,15],[4,11,4,12],[5,21,6,21],[5,22,5,24],[5,25,6,25],[5,26,6,26],[13,0,13,4],[13,7,13,11],[13,14,13,18],[13,21,13,25],[5,11,6,11],[5,12,6,12],[5,14,6,14],[5,15,5,17],[5,18,6,18],[5,19,6,19],[5,0,6,0],[5,1,5,3],[14,21,14,23],[14,24,14,26],[15,0,15,2],[15,3,15,5],[15,7,15,9],[15,10,15,12],[15,14,15,16],[15,17,15,19],[15,21,15,23],[15,24,15,26],[14,0,14,2],[14,3,14,5],[14,7,14,9],[14,10,14,12],[14,14,14,16],[14,17,14,19],[16,21,18,23],[16,24,18,26],[20,0,21,13],[20,14,21,26],[22,0,22,26],[16,0,18,2],[16,3,18,5],[16,7,18,9],[16,10,18,12],[16,14,18,16],[16,17,18,19]]}
["Nom",{"$f":"VLOOKUP(C4,Liste!B:K,2,FALSE)","v":{"$error":"#N/A"}},null,null,null,null,null,"Nom",{"$f":"VLOOKUP(J4,Liste!B:C,2,FALSE)","v":{"$error":"#N/A"}},null,null,null,null,null,"Nom",{"$f":"VLOOKUP(Q4,Liste!B:C,2,FALSE)","v":{"$error":"#N/A"}},null,null,null,null,null,"Nom",{"$f":"VLOOKUP(X4,Liste!B:C,2,FALSE)","v":{"$error":"#N/A"}}]
["Club",{"$f":"VLOOKUP(C4,Liste!B:D,3,FALSE)","v":{"$error":"#N/A"}},null,null,null,null,null,"Club",{"$f":"VLOOKUP(J4,Liste!B:D,3,FALSE)","v":{"$error":"#N/A"}},null,null,null,null,null,"Club",{"$f":"VLOOKUP(Q4,Liste!B:D,3,FALSE)","v":{"$error":"#N/A"}},null,null,null,null,null,"Club",{"$f":"VLOOKUP(X4,Liste!B:D,3,FALSE)","v":{"$error":"#N/A"}}]
["Classement",null,{"$f":"VLOOKUP(C4,Liste!B:K,5,FALSE)","v":{"$error":"#N/A"}},null,null,null,null,"Classement",null,{"$f":"VLOOKUP(J4,Liste!B:K,5,FALSE)","v":{"$error":"#N/A"}},null,null,null,null,"Classement",null,{"$f":"VLOOKUP(Q4,Liste!B:F,5,FALSE)","v":{"$error":"#N/A"}},null,null,null,null,"Classement",null,{"$f":"VLOOKUP(X4,Liste!B:F,5,FALSE)","v":{"$error":"#N/A"}}]
["N° cible",null,{"$f":"Feuil1!B19","v":"2A"},null,null,null,null,"N° cible",null,{"$f":"Feuil1!B20","v":"2B"},null,null,null,null,"N° cible",null,{"$f":"Feuil1!B21","v":"2C"},null,null,null,null,"N° cible",null,{"$f":"Feuil1!B22","v":"2D"}]
[{"$f":"Feuil1!D4","v":"2ème Tir"},null,"Licence",null,{"$f":"VLOOKUP(C4,Liste!B:K,4,FALSE)","v":{"$error":"#N/A"}},null,null,{"$f":"Feuil1!D4","v":"2ème Tir"},null,"Licence",null,{"$f":"VLOOKUP(J4,Liste!B:K,4,FALSE)","v":{"$error":"#N/A"}},null,null,{"$f":"Feuil1!D4","v":"2ème Tir"},null,"Licence",null,{"$f":"VLOOKUP(Q4,Liste!B:E,4,FALSE)","v":{"$error":"#N/A"}},null,null,{"$f":"Feuil1!D4","v":"2ème Tir"},null,"Licence",null,{"$f":"VLOOKUP(X4,Liste!B:E,4,FALSE)","v":{"$error":"#N/A"}}]
["N°","Points par flèches",null,null,"Total 3 flèches","Total cumulé",null,{"$f":"A6","v":"N°"},{"$f":"B6","v":"Points par flèches"},null,null,"Total 3 flèches","Total cumulé",null,"N°","Points par flèches",null,null,"Total 3 flèches","Total cumulé",null,{"$f":"O6","v":"N°"},{"$f":"P6","v":"Points par flèches"},null,null,"Total 3 flèches","Total cumulé"]
[null,1,2,3,null,null,null,null,1,2,3,null,null,null,null,1,2,3,null,null,null,null,1,2,3]
[1,null,null,null,null,null,null,1,null,null,null,null,null,null,1,null,null,null,null,null,null,1]
[2,null,null,null,null,null,null,2,null,null,null,null,null,null,2,null,null,null,null,null,null,2]
[3,null,null,null,null,null,null,3,null,null,null,null,null,null,3,null,null,null,null,null,null,3]
[4,null,null,null,null,null,null,4,null,null,null,null,null,null,4,null,null,null,null,null,null,4]
[5,null,null,null,null,null,null,5,null,null,null,null,null,null,5,null,null,null,null,null,null,5]
[6,null,null,null,null,null,null,6,null,null,null,null,null,null,6,null,null,null,null,null,null,6]
["Total distance",null,null,null,null,null,null,"Total distance",null,null,null,null,null,null,"Total distance",null,null,null,null,null,null,"Total distance"]
[10,null,null,9,null,null,null,10,null,null,9,null,null,null,10,null,null,9,null,null,null,10,null,null,9]
[]
["Archer",null,null,"Marqueur",null,null,null,"Archer",null,null,"Marqueur",null,null,null,"Archer",null,null,"Marqueur",null,null,null,"Archer",null,null,"Marqueur"]
[]
[]
[]
[{"$f":"Feuil1!D5","v":"Cie La Flèche Macairoise"},null,null,null,null,null,null,null,null,null,null,null,null,null,{"$f":"Feuil1!D6","v":"2ème étape Challenge CHAIRMARTIN"}]
[]
[{"$f":"Feuil1!D7","v":"2023-01-14"}]

{"sheet":"cible 2 (2)","index":135,"n_rows":23,"n_cols":27,"rows_kept":23,"cut":false,"hidden":false,"merged":[[0,1,0,5],[0,8,0,12],[0,15,0,19],[0,22,0,26],[1,1,1,5],[1,8,1,12],[1,15,1,19],[1,22,1,26],[2,21,2,22],[2,23,2,26],[3,0,3,1],[3,7,3,8],[3,14,3,15],[3,21,3,22],[2,0,2,1],[2,2,2,6],[2,7,2,8],[2,9,2,13],[2,14,2,15],[2,16,2,20],[4,0,4,1],[4,2,4,3],[4,4,4,5],[4,7,4,8],[4,9,4,10],[4,16,4,17],[4,18,4,19],[4,21,4,22],[4,23,4,24],[4,25,4,26],[5,4,6,4],[5,5,6,5],[5,7,6,7],[5,8,5,10],[4,14,4,15],[4,11,4,12],[5,21,6,21],[5,22,5,24],[5,25,6,25],[5,26,6,26],[13,0,13,4],[13,7,13,11],[13,14,13,18],[13,21,13,25],[5,11,6,11],[5,12,6,12],[5,14,6,14],[5,15,5,17],[5,18,6,18],[5,19,6,19],[5,0,6,0],[5,1,5,3],[14,21,14,23],[14,24,14,26],[15,0,15,2],[15,3,15,5],[15,7,15,9],[15,10,15,12],[15,14,15,16],[15,17,15,19],[15,21,15,23],[15,24,15,26],[14,0,14,2],[14,3,14,5],[14,7,14,9],[14,10,14,12],[14,14,14,16],[14,17,14,19],[16,21,18,23],[16,24,18,26],[20,0,21,13],[20,14,21,26],[22,0,22,26],[16,0,18,2],[16,3,18,5],[16,7,18,9],[16,10,18,12],[16,14,18,16],[16,17,18,19]]}
["Nom",{"$f":"VLOOKUP(C4,Liste!B:K,2,FALSE)","v":{"$error":"#N/A"}},null,null,null,null,null,"Nom",{"$f":"VLOOKUP(J4,Liste!B:C,2,FALSE)","v":{"$error":"#N/A"}},null,null,null,null,null,"Nom",{"$f":"VLOOKUP(Q4,Liste!B:C,2,FALSE)","v":{"$error":"#N/A"}},null,null,null,null,null,"Nom",{"$f":"VLOOKUP(X4,Liste!B:C,2,FALSE)","v":{"$error":"#N/A"}}]
["Club",{"$f":"VLOOKUP(C4,Liste!B:D,3,FALSE)","v":{"$error":"#N/A"}},null,null,null,null,null,"Club",{"$f":"VLOOKUP(J4,Liste!B:D,3,FALSE)","v":{"$error":"#N/A"}},null,null,null,null,null,"Club",{"$f":"VLOOKUP(Q4,Liste!B:D,3,FALSE)","v":{"$error":"#N/A"}},null,null,null,null,null,"Club",{"$f":"VLOOKUP(X4,Liste!B:D,3,FALSE)","v":{"$error":"#N/A"}}]
["Classement",null,{"$f":"VLOOKUP(C4,Liste!B:K,5,FALSE)","v":{"$error":"#N/A"}},null,null,null,null,"Classement",null,{"$f":"VLOOKUP(J4,Liste!B:K,5,FALSE)","v":{"$error":"#N/A"}},null,null,null,null,"Classement",null,{"$f":"VLOOKUP(Q4,Liste!B:F,5,FALSE)","v":{"$error":"#N/A"}},null,null,null,null,"Classement",null,{"$f":"VLOOKUP(X4,Liste!B:F,5,FALSE)","v":{"$error":"#N/A"}}]
["N° cible",null,{"$f":"Feuil1!B23","v":"2E"},null,null,null,null,"N° cible",null,{"$f":"Feuil1!B24","v":"2F"},null,null,null,null,"N° cible",null,{"$f":"Feuil1!B25","v":"2G"},null,null,null,null,"N° cible",null,{"$f":"Feuil1!B26","v":"2H"}]
[{"$f":"Feuil1!D4","v":"2ème Tir"},null,"Licence",null,{"$f":"VLOOKUP(C4,Liste!B:K,4,FALSE)","v":{"$error":"#N/A"}},null,null,{"$f":"Feuil1!D4","v":"2ème Tir"},null,"Licence",null,{"$f":"VLOOKUP(J4,Liste!B:K,4,FALSE)","v":{"$error":"#N/A"}},null,null,{"$f":"Feuil1!D4","v":"2ème Tir"},null,"Licence",null,{"$f":"VLOOKUP(Q4,Liste!B:E,4,FALSE)","v":{"$error":"#N/A"}},null,null,{"$f":"Feuil1!D4","v":"2ème Tir"},null,"Licence",null,{"$f":"VLOOKUP(X4,Liste!B:E,4,FALSE)","v":{"$error":"#N/A"}}]
["N°","Points par flèches",null,null,"Total 3 flèches","Total cumulé",null,{"$f":"A6","v":"N°"},{"$f":"B6","v":"Points par flèches"},null,null,"Total 3 flèches","Total cumulé",null,"N°","Points par flèches",null,null,"Total 3 flèches","Total cumulé",null,{"$f":"O6","v":"N°"},{"$f":"P6","v":"Points par flèches"},null,null,"Total 3 flèches","Total cumulé"]
[null,1,2,3,null,null,null,null,1,2,3,null,null,null,null,1,2,3,null,null,null,null,1,2,3]
[1,null,null,null,null,null,null,1,null,null,null,null,null,null,1,null,null,null,null,null,null,1]
[2,null,null,null,null,null,null,2,null,null,null,null,null,null,2,null,null,null,null,null,null,2]
[3,null,null,null,null,null,null,3,null,null,null,null,null,null,3,null,null,null,null,null,null,3]
[4,null,null,null,null,null,null,4,null,null,null,null,null,null,4,null,null,null,null,null,null,4]
[5,null,null,null,null,null,null,5,null,null,null,null,null,null,5,null,null,null,null,null,null,5]
[6,null,null,null,null,null,null,6,null,null,null,null,null,null,6,null,null,null,null,null,null,6]
["Total distance",null,null,null,null,null,null,"Total distance",null,null,null,null,null,null,"Total distance",null,null,null,null,null,null,"Total distance"]
[10,null,null,9,null,null,null,10,null,null,9,null,null,null,10,null,null,9,null,null,null,10,null,null,9]
[]
["Archer",null,null,"Marqueur",null,null,null,"Archer",null,null,"Marqueur",null,null,null,"Archer",null,null,"Marqueur",null,null,null,"Archer",null,null,"Marqueur"]
[]
[]
[]
[{"$f":"Feuil1!D5","v":"Cie La Flèche Macairoise"},null,null,null,null,null,null,null,null,null,null,null,null,null,{"$f":"Feuil1!D6","v":"2ème étape Challenge CHAIRMARTIN"}]
[]
[{"$f":"Feuil1!D7","v":"2023-01-14"}]

{"sheet":"cible 3","index":136,"n_rows":23,"n_cols":27,"rows_kept":23,"cut":false,"hidden":false,"merged":[[0,1,0,5],[0,8,0,12],[0,15,0,19],[0,22,0,26],[1,1,1,5],[1,8,1,12],[1,15,1,19],[1,22,1,26],[2,21,2,22],[2,23,2,26],[3,0,3,1],[3,7,3,8],[3,14,3,15],[3,21,3,22],[2,0,2,1],[2,2,2,6],[2,7,2,8],[2,9,2,13],[2,14,2,15],[2,16,2,20],[4,0,4,1],[4,2,4,3],[4,4,4,5],[4,7,4,8],[4,9,4,10],[4,16,4,17],[4,18,4,19],[4,21,4,22],[4,23,4,24],[4,25,4,26],[5,4,6,4],[5,5,6,5],[5,7,6,7],[5,8,5,10],[4,14,4,15],[4,11,4,12],[5,21,6,21],[5,22,5,24],[5,25,6,25],[5,26,6,26],[13,0,13,4],[13,7,13,11],[13,14,13,18],[13,21,13,25],[5,11,6,11],[5,12,6,12],[5,14,6,14],[5,15,5,17],[5,18,6,18],[5,19,6,19],[5,0,6,0],[5,1,5,3],[14,21,14,23],[14,24,14,26],[15,0,15,2],[15,3,15,5],[15,7,15,9],[15,10,15,12],[15,14,15,16],[15,17,15,19],[15,21,15,23],[15,24,15,26],[14,0,14,2],[14,3,14,5],[14,7,14,9],[14,10,14,12],[14,14,14,16],[14,17,14,19],[16,21,18,23],[16,24,18,26],[20,0,21,13],[20,14,21,26],[22,0,22,26],[16,0,18,2],[16,3,18,5],[16,7,18,9],[16,10,18,12],[16,14,18,16],[16,17,18,19]]}
["Nom",{"$f":"VLOOKUP(C4,Liste!B:K,2,FALSE)","v":{"$error":"#N/A"}},null,null,null,null,null,"Nom",{"$f":"VLOOKUP(J4,Liste!B:C,2,FALSE)","v":{"$error":"#N/A"}},null,null,null,null,null,"Nom",{"$f":"VLOOKUP(Q4,Liste!B:C,2,FALSE)","v":{"$error":"#N/A"}},null,null,null,null,null,"Nom",{"$f":"VLOOKUP(X4,Liste!B:C,2,FALSE)","v":{"$error":"#N/A"}}]
["Club",{"$f":"VLOOKUP(C4,Liste!B:D,3,FALSE)","v":{"$error":"#N/A"}},null,null,null,null,null,"Club",{"$f":"VLOOKUP(J4,Liste!B:D,3,FALSE)","v":{"$error":"#N/A"}},null,null,null,null,null,"Club",{"$f":"VLOOKUP(Q4,Liste!B:D,3,FALSE)","v":{"$error":"#N/A"}},null,null,null,null,null,"Club",{"$f":"VLOOKUP(X4,Liste!B:D,3,FALSE)","v":{"$error":"#N/A"}}]
["Classement",null,{"$f":"VLOOKUP(C4,Liste!B:K,5,FALSE)","v":{"$error":"#N/A"}},null,null,null,null,"Classement",null,{"$f":"VLOOKUP(J4,Liste!B:K,5,FALSE)","v":{"$error":"#N/A"}},null,null,null,null,"Classement",null,{"$f":"VLOOKUP(Q4,Liste!B:F,5,FALSE)","v":{"$error":"#N/A"}},null,null,null,null,"Classement",null,{"$f":"VLOOKUP(X4,Liste!B:F,5,FALSE)","v":{"$error":"#N/A"}}]
["N° cible",null,{"$f":"Feuil1!D11","v":"3A"},null,null,null,null,"N° cible",null,{"$f":"Feuil1!D12","v":"3B"},null,null,null,null,"N° cible",null,{"$f":"Feuil1!D13","v":"3C"},null,null,null,null,"N° cible",null,{"$f":"Feuil1!D14","v":"3D"}]
[{"$f":"Feuil1!D4","v":"2ème Tir"},null,"Licence",null,{"$f":"VLOOKUP(C4,Liste!B:K,4,FALSE)","v":{"$error":"#N/A"}},null,null,{"$f":"Feuil1!D4","v":"2ème Tir"},null,"Licence",null,{"$f":"VLOOKUP(J4,Liste!B:K,4,FALSE)","v":{"$error":"#N/A"}},null,null,{"$f":"Feuil1!D4","v":"2ème Tir"},null,"Licence",null,{"$f":"VLOOKUP(Q4,Liste!B:E,4,FALSE)","v":{"$error":"#N/A"}},null,null,{"$f":"Feuil1!D4","v":"2ème Tir"},null,"Licence",null,{"$f":"VLOOKUP(X4,Liste!B:E,4,FALSE)","v":{"$error":"#N/A"}}]
["N°","Points par flèches",null,null,"Total 3 flèches","Total cumulé",null,{"$f":"A6","v":"N°"},{"$f":"B6","v":"Points par flèches"},null,null,"Total 3 flèches","Total cumulé",null,"N°","Points par flèches",null,null,"Total 3 flèches","Total cumulé",null,{"$f":"O6","v":"N°"},{"$f":"P6","v":"Points par flèches"},null,null,"Total 3 flèches","Total cumulé"]
[null,1,2,3,null,null,null,null,1,2,3,null,null,null,null,1,2,3,null,null,null,null,1,2,3]
[1,null,null,null,null,null,null,1,null,null,null,null,null,null,1,null,null,null,null,null,null,1]
[2,null,null,null,null,null,null,2,null,null,null,null,null,null,2,null,null,null,null,null,null,2]
[3,null,null,null,null,null,null,3,null,null,null,null,null,null,3,null,null,null,null,null,null,3]
[4,null,null,null,null,null,null,4,null,null,null,null,null,null,4,null,null,null,null,null,null,4]
[5,null,null,null,null,null,null,5,null,null,null,null,null,null,5,null,null,null,null,null,null,5]
[6,null,null,null,null,null,null,6,null,null,null,null,null,null,6,null,null,null,null,null,null,6]
["Total distance",null,null,null,null,null,null,"Total distance",null,null,null,null,null,null,"Total distance",null,null,null,null,null,null,"Total distance"]
[10,null,null,9,null,null,null,10,null,null,9,null,null,null,10,null,null,9,null,null,null,10,null,null,9]
[]
["Archer",null,null,"Marqueur",null,null,null,"Archer",null,null,"Marqueur",null,null,null,"Archer",null,null,"Marqueur",null,null,null,"Archer",null,null,"Marqueur"]
[]
[]
[]
[{"$f":"Feuil1!D5","v":"Cie La Flèche Macairoise"},null,null,null,null,null,null,null,null,null,null,null,null,null,{"$f":"Feuil1!D6","v":"2ème étape Challenge CHAIRMARTIN"}]
[]
[{"$f":"Feuil1!D7","v":"2023-01-14"}]

{"sheet":"cible 3 (2)","index":137,"n_rows":23,"n_cols":27,"rows_kept":23,"cut":false,"hidden":false,"merged":[[0,1,0,5],[0,8,0,12],[0,15,0,19],[0,22,0,26],[1,1,1,5],[1,8,1,12],[1,15,1,19],[1,22,1,26],[2,21,2,22],[2,23,2,26],[3,0,3,1],[3,7,3,8],[3,14,3,15],[3,21,3,22],[2,0,2,1],[2,2,2,6],[2,7,2,8],[2,9,2,13],[2,14,2,15],[2,16,2,20],[4,0,4,1],[4,2,4,3],[4,4,4,5],[4,7,4,8],[4,9,4,10],[4,16,4,17],[4,18,4,19],[4,21,4,22],[4,23,4,24],[4,25,4,26],[5,4,6,4],[5,5,6,5],[5,7,6,7],[5,8,5,10],[4,14,4,15],[4,11,4,12],[5,21,6,21],[5,22,5,24],[5,25,6,25],[5,26,6,26],[13,0,13,4],[13,7,13,11],[13,14,13,18],[13,21,13,25],[5,11,6,11],[5,12,6,12],[5,14,6,14],[5,15,5,17],[5,18,6,18],[5,19,6,19],[5,0,6,0],[5,1,5,3],[14,21,14,23],[14,24,14,26],[15,0,15,2],[15,3,15,5],[15,7,15,9],[15,10,15,12],[15,14,15,16],[15,17,15,19],[15,21,15,23],[15,24,15,26],[14,0,14,2],[14,3,14,5],[14,7,14,9],[14,10,14,12],[14,14,14,16],[14,17,14,19],[16,21,18,23],[16,24,18,26],[20,0,21,13],[20,14,21,26],[22,0,22,26],[16,0,18,2],[16,3,18,5],[16,7,18,9],[16,10,18,12],[16,14,18,16],[16,17,18,19]]}
["Nom",{"$f":"VLOOKUP(C4,Liste!B:K,2,FALSE)","v":{"$error":"#N/A"}},null,null,null,null,null,"Nom",{"$f":"VLOOKUP(J4,Liste!B:C,2,FALSE)","v":{"$error":"#N/A"}},null,null,null,null,null,"Nom",{"$f":"VLOOKUP(Q4,Liste!B:C,2,FALSE)","v":{"$error":"#N/A"}},null,null,null,null,null,"Nom",{"$f":"VLOOKUP(X4,Liste!B:C,2,FALSE)","v":{"$error":"#N/A"}}]
["Club",{"$f":"VLOOKUP(C4,Liste!B:D,3,FALSE)","v":{"$error":"#N/A"}},null,null,null,null,null,"Club",{"$f":"VLOOKUP(J4,Liste!B:D,3,FALSE)","v":{"$error":"#N/A"}},null,null,null,null,null,"Club",{"$f":"VLOOKUP(Q4,Liste!B:D,3,FALSE)","v":{"$error":"#N/A"}},null,null,null,null,null,"Club",{"$f":"VLOOKUP(X4,Liste!B:D,3,FALSE)","v":{"$error":"#N/A"}}]
["Classement",null,{"$f":"VLOOKUP(C4,Liste!B:K,5,FALSE)","v":{"$error":"#N/A"}},null,null,null,null,"Classement",null,{"$f":"VLOOKUP(J4,Liste!B:K,5,FALSE)","v":{"$error":"#N/A"}},null,null,null,null,"Classement",null,{"$f":"VLOOKUP(Q4,Liste!B:F,5,FALSE)","v":{"$error":"#N/A"}},null,null,null,null,"Classement",null,{"$f":"VLOOKUP(X4,Liste!B:F,5,FALSE)","v":{"$error":"#N/A"}}]
["N° cible",null,{"$f":"Feuil1!D15","v":"3E"},null,null,null,null,"N° cible",null,{"$f":"Feuil1!D16","v":"3F"},null,null,null,null,"N° cible",null,{"$f":"Feuil1!D17","v":"3G"},null,null,null,null,"N° cible",null,{"$f":"Feuil1!D18","v":"3H"}]
[{"$f":"Feuil1!D4","v":"2ème Tir"},null,"Licence",null,{"$f":"VLOOKUP(C4,Liste!B:K,4,FALSE)","v":{"$error":"#N/A"}},null,null,{"$f":"Feuil1!D4","v":"2ème Tir"},null,"Licence",null,{"$f":"VLOOKUP(J4,Liste!B:K,4,FALSE)","v":{"$error":"#N/A"}},null,null,{"$f":"Feuil1!D4","v":"2ème Tir"},null,"Licence",null,{"$f":"VLOOKUP(Q4,Liste!B:E,4,FALSE)","v":{"$error":"#N/A"}},null,null,{"$f":"Feuil1!D4","v":"2ème Tir"},null,"Licence",null,{"$f":"VLOOKUP(X4,Liste!B:E,4,FALSE)","v":{"$error":"#N/A"}}]
["N°","Points par flèches",null,null,"Total 3 flèches","Total cumulé",null,{"$f":"A6","v":"N°"},{"$f":"B6","v":"Points par flèches"},null,null,"Total 3 flèches","Total cumulé",null,"N°","Points par flèches",null,null,"Total 3 flèches","Total cumulé",null,{"$f":"O6","v":"N°"},{"$f":"P6","v":"Points par flèches"},null,null,"Total 3 flèches","Total cumulé"]
[null,1,2,3,null,null,null,null,1,2,3,null,null,null,null,1,2,3,null,null,null,null,1,2,3]
[1,null,null,null,null,null,null,1,null,null,null,null,null,null,1,null,null,null,null,null,null,1]
[2,null,null,null,null,null,null,2,null,null,null,null,null,null,2,null,null,null,null,null,null,2]
[3,null,null,null,null,null,null,3,null,null,null,null,null,null,3,null,null,null,null,null,null,3]
[4,null,null,null,null,null,null,4,null,null,null,null,null,null,4,null,null,null,null,null,null,4]
[5,null,null,null,null,null,null,5,null,null,null,null,null,null,5,null,null,null,null,null,null,5]
[6,null,null,null,null,null,null,6,null,null,null,null,null,null,6,null,null,null,null,null,null,6]
["Total distance",null,null,null,null,null,null,"Total distance",null,null,null,null,null,null,"Total distance",null,null,null,null,null,null,"Total distance"]
[10,null,null,9,null,null,null,10,null,null,9,null,null,null,10,null,null,9,null,null,null,10,null,null,9]
[]
["Archer",null,null,"Marqueur",null,null,null,"Archer",null,null,"Marqueur",null,null,null,"Archer",null,null,"Marqueur",null,null,null,"Archer",null,null,"Marqueur"]
[]
[]
[]
[{"$f":"Feuil1!D5","v":"Cie La Flèche Macairoise"},null,null,null,null,null,null,null,null,null,null,null,null,null,{"$f":"Feuil1!D6","v":"2ème étape Challenge CHAIRMARTIN"}]
[]
[{"$f":"Feuil1!D7","v":"2023-01-14"}]

{"sheet":"cible 4","index":138,"n_rows":23,"n_cols":27,"rows_kept":23,"cut":false,"hidden":false,"merged":[[0,1,0,5],[0,8,0,12],[0,15,0,19],[0,22,0,26],[1,1,1,5],[1,8,1,12],[1,15,1,19],[1,22,1,26],[2,21,2,22],[2,23,2,26],[3,0,3,1],[3,7,3,8],[3,14,3,15],[3,21,3,22],[2,0,2,1],[2,2,2,6],[2,7,2,8],[2,9,2,13],[2,14,2,15],[2,16,2,20],[4,0,4,1],[4,2,4,3],[4,4,4,5],[4,7,4,8],[4,9,4,10],[4,16,4,17],[4,18,4,19],[4,21,4,22],[4,23,4,24],[4,25,4,26],[5,4,6,4],[5,5,6,5],[5,7,6,7],[5,8,5,10],[4,14,4,15],[4,11,4,12],[5,21,6,21],[5,22,5,24],[5,25,6,25],[5,26,6,26],[13,0,13,4],[13,7,13,11],[13,14,13,18],[13,21,13,25],[5,11,6,11],[5,12,6,12],[5,14,6,14],[5,15,5,17],[5,18,6,18],[5,19,6,19],[5,0,6,0],[5,1,5,3],[14,21,14,23],[14,24,14,26],[15,0,15,2],[15,3,15,5],[15,7,15,9],[15,10,15,12],[15,14,15,16],[15,17,15,19],[15,21,15,23],[15,24,15,26],[14,0,14,2],[14,3,14,5],[14,7,14,9],[14,10,14,12],[14,14,14,16],[14,17,14,19],[16,21,18,23],[16,24,18,26],[20,0,21,13],[20,14,21,26],[22,0,22,26],[16,0,18,2],[16,3,18,5],[16,7,18,9],[16,10,18,12],[16,14,18,16],[16,17,18,19]]}
["Nom",{"$f":"VLOOKUP(C4,Liste!B:K,2,FALSE)","v":{"$error":"#N/A"}},null,null,null,null,null,"Nom",{"$f":"VLOOKUP(J4,Liste!B:C,2,FALSE)","v":{"$error":"#N/A"}},null,null,null,null,null,"Nom",{"$f":"VLOOKUP(Q4,Liste!B:C,2,FALSE)","v":{"$error":"#N/A"}},null,null,null,null,null,"Nom",{"$f":"VLOOKUP(X4,Liste!B:C,2,FALSE)","v":{"$error":"#N/A"}}]
["Club",{"$f":"VLOOKUP(C4,Liste!B:D,3,FALSE)","v":{"$error":"#N/A"}},null,null,null,null,null,"Club",{"$f":"VLOOKUP(J4,Liste!B:D,3,FALSE)","v":{"$error":"#N/A"}},null,null,null,null,null,"Club",{"$f":"VLOOKUP(Q4,Liste!B:D,3,FALSE)","v":{"$error":"#N/A"}},null,null,null,null,null,"Club",{"$f":"VLOOKUP(X4,Liste!B:D,3,FALSE)","v":{"$error":"#N/A"}}]
["Classement",null,{"$f":"VLOOKUP(C4,Liste!B:K,5,FALSE)","v":{"$error":"#N/A"}},null,null,null,null,"Classement",null,{"$f":"VLOOKUP(J4,Liste!B:K,5,FALSE)","v":{"$error":"#N/A"}},null,null,null,null,"Classement",null,{"$f":"VLOOKUP(Q4,Liste!B:F,5,FALSE)","v":{"$error":"#N/A"}},null,null,null,null,"Classement",null,{"$f":"VLOOKUP(X4,Liste!B:F,5,FALSE)","v":{"$error":"#N/A"}}]
["N° cible",null,{"$f":"Feuil1!D19","v":"4A"},null,null,null,null,"N° cible",null,{"$f":"Feuil1!D20","v":"4B"},null,null,null,null,"N° cible",null,{"$f":"Feuil1!D21","v":"4C"},null,null,null,null,"N° cible",null,{"$f":"Feuil1!D22","v":"4D"}]
[{"$f":"Feuil1!D4","v":"2ème Tir"},null,"Licence",null,{"$f":"VLOOKUP(C4,Liste!B:K,4,FALSE)","v":{"$error":"#N/A"}},null,null,{"$f":"Feuil1!D4","v":"2ème Tir"},null,"Licence",null,{"$f":"VLOOKUP(J4,Liste!B:K,4,FALSE)","v":{"$error":"#N/A"}},null,null,{"$f":"Feuil1!D4","v":"2ème Tir"},null,"Licence",null,{"$f":"VLOOKUP(Q4,Liste!B:E,4,FALSE)","v":{"$error":"#N/A"}},null,null,{"$f":"Feuil1!D4","v":"2ème Tir"},null,"Licence",null,{"$f":"VLOOKUP(X4,Liste!B:E,4,FALSE)","v":{"$error":"#N/A"}}]
["N°","Points par flèches",null,null,"Total 3 flèches","Total cumulé",null,{"$f":"A6","v":"N°"},{"$f":"B6","v":"Points par flèches"},null,null,"Total 3 flèches","Total cumulé",null,"N°","Points par flèches",null,null,"Total 3 flèches","Total cumulé",null,{"$f":"O6","v":"N°"},{"$f":"P6","v":"Points par flèches"},null,null,"Total 3 flèches","Total cumulé"]
[null,1,2,3,null,null,null,null,1,2,3,null,null,null,null,1,2,3,null,null,null,null,1,2,3]
[1,null,null,null,null,null,null,1,null,null,null,null,null,null,1,null,null,null,null,null,null,1]
[2,null,null,null,null,null,null,2,null,null,null,null,null,null,2,null,null,null,null,null,null,2]
[3,null,null,null,null,null,null,3,null,null,null,null,null,null,3,null,null,null,null,null,null,3]
[4,null,null,null,null,null,null,4,null,null,null,null,null,null,4,null,null,null,null,null,null,4]
[5,null,null,null,null,null,null,5,null,null,null,null,null,null,5,null,null,null,null,null,null,5]
[6,null,null,null,null,null,null,6,null,null,null,null,null,null,6,null,null,null,null,null,null,6]
["Total distance",null,null,null,null,null,null,"Total distance",null,null,null,null,null,null,"Total distance",null,null,null,null,null,null,"Total distance"]
[10,null,null,9,null,null,null,10,null,null,9,null,null,null,10,null,null,9,null,null,null,10,null,null,9]
[]
["Archer",null,null,"Marqueur",null,null,null,"Archer",null,null,"Marqueur",null,null,null,"Archer",null,null,"Marqueur",null,null,null,"Archer",null,null,"Marqueur"]
[]
[]
[]
[{"$f":"Feuil1!D5","v":"Cie La Flèche Macairoise"},null,null,null,null,null,null,null,null,null,null,null,null,null,{"$f":"Feuil1!D6","v":"2ème étape Challenge CHAIRMARTIN"}]
[]
[{"$f":"Feuil1!D7","v":"2023-01-14"}]

{"sheet":"cible 4 (2)","index":139,"n_rows":23,"n_cols":27,"rows_kept":23,"cut":false,"hidden":false,"merged":[[0,1,0,5],[0,8,0,12],[0,15,0,19],[0,22,0,26],[1,1,1,5],[1,8,1,12],[1,15,1,19],[1,22,1,26],[2,21,2,22],[2,23,2,26],[3,0,3,1],[3,7,3,8],[3,14,3,15],[3,21,3,22],[2,0,2,1],[2,2,2,6],[2,7,2,8],[2,9,2,13],[2,14,2,15],[2,16,2,20],[4,0,4,1],[4,2,4,3],[4,4,4,5],[4,7,4,8],[4,9,4,10],[4,16,4,17],[4,18,4,19],[4,21,4,22],[4,23,4,24],[4,25,4,26],[5,4,6,4],[5,5,6,5],[5,7,6,7],[5,8,5,10],[4,14,4,15],[4,11,4,12],[5,21,6,21],[5,22,5,24],[5,25,6,25],[5,26,6,26],[13,0,13,4],[13,7,13,11],[13,14,13,18],[13,21,13,25],[5,11,6,11],[5,12,6,12],[5,14,6,14],[5,15,5,17],[5,18,6,18],[5,19,6,19],[5,0,6,0],[5,1,5,3],[14,21,14,23],[14,24,14,26],[15,0,15,2],[15,3,15,5],[15,7,15,9],[15,10,15,12],[15,14,15,16],[15,17,15,19],[15,21,15,23],[15,24,15,26],[14,0,14,2],[14,3,14,5],[14,7,14,9],[14,10,14,12],[14,14,14,16],[14,17,14,19],[16,21,18,23],[16,24,18,26],[20,0,21,13],[20,14,21,26],[22,0,22,26],[16,0,18,2],[16,3,18,5],[16,7,18,9],[16,10,18,12],[16,14,18,16],[16,17,18,19]]}
["Nom",{"$f":"VLOOKUP(C4,Liste!B:K,2,FALSE)","v":{"$error":"#N/A"}},null,null,null,null,null,"Nom",{"$f":"VLOOKUP(J4,Liste!B:C,2,FALSE)","v":{"$error":"#N/A"}},null,null,null,null,null,"Nom",{"$f":"VLOOKUP(Q4,Liste!B:C,2,FALSE)","v":{"$error":"#N/A"}},null,null,null,null,null,"Nom",{"$f":"VLOOKUP(X4,Liste!B:C,2,FALSE)","v":{"$error":"#N/A"}}]
["Club",{"$f":"VLOOKUP(C4,Liste!B:D,3,FALSE)","v":{"$error":"#N/A"}},null,null,null,null,null,"Club",{"$f":"VLOOKUP(J4,Liste!B:D,3,FALSE)","v":{"$error":"#N/A"}},null,null,null,null,null,"Club",{"$f":"VLOOKUP(Q4,Liste!B:D,3,FALSE)","v":{"$error":"#N/A"}},null,null,null,null,null,"Club",{"$f":"VLOOKUP(X4,Liste!B:D,3,FALSE)","v":{"$error":"#N/A"}}]
["Classement",null,{"$f":"VLOOKUP(C4,Liste!B:K,5,FALSE)","v":{"$error":"#N/A"}},null,null,null,null,"Classement",null,{"$f":"VLOOKUP(J4,Liste!B:K,5,FALSE)","v":{"$error":"#N/A"}},null,null,null,null,"Classement",null,{"$f":"VLOOKUP(Q4,Liste!B:F,5,FALSE)","v":{"$error":"#N/A"}},null,null,null,null,"Classement",null,{"$f":"VLOOKUP(X4,Liste!B:F,5,FALSE)","v":{"$error":"#N/A"}}]
["N° cible",null,{"$f":"Feuil1!D23","v":"4E"},null,null,null,null,"N° cible",null,{"$f":"Feuil1!D24","v":"4F"},null,null,null,null,"N° cible",null,{"$f":"Feuil1!D25","v":"4G"},null,null,null,null,"N° cible",null,{"$f":"Feuil1!D26","v":"4H"}]
[{"$f":"Feuil1!D4","v":"2ème Tir"},null,"Licence",null,{"$f":"VLOOKUP(C4,Liste!B:K,4,FALSE)","v":{"$error":"#N/A"}},null,null,{"$f":"Feuil1!D4","v":"2ème Tir"},null,"Licence",null,{"$f":"VLOOKUP(J4,Liste!B:K,4,FALSE)","v":{"$error":"#N/A"}},null,null,{"$f":"Feuil1!D4","v":"2ème Tir"},null,"Licence",null,{"$f":"VLOOKUP(Q4,Liste!B:E,4,FALSE)","v":{"$error":"#N/A"}},null,null,{"$f":"Feuil1!D4","v":"2ème Tir"},null,"Licence",null,{"$f":"VLOOKUP(X4,Liste!B:E,4,FALSE)","v":{"$error":"#N/A"}}]
["N°","Points par flèches",null,null,"Total 3 flèches","Total cumulé",null,{"$f":"A6","v":"N°"},{"$f":"B6","v":"Points par flèches"},null,null,"Total 3 flèches","Total cumulé",null,"N°","Points par flèches",null,null,"Total 3 flèches","Total cumulé",null,{"$f":"O6","v":"N°"},{"$f":"P6","v":"Points par flèches"},null,null,"Total 3 flèches","Total cumulé"]
[null,1,2,3,null,null,null,null,1,2,3,null,null,null,null,1,2,3,null,null,null,null,1,2,3]
[1,null,null,null,null,null,null,1,null,null,null,null,null,null,1,null,null,null,null,null,null,1]
[2,null,null,null,null,null,null,2,null,null,null,null,null,null,2,null,null,null,null,null,null,2]
[3,null,null,null,null,null,null,3,null,null,null,null,null,null,3,null,null,null,null,null,null,3]
[4,null,null,null,null,null,null,4,null,null,null,null,null,null,4,null,null,null,null,null,null,4]
[5,null,null,null,null,null,null,5,null,null,null,null,null,null,5,null,null,null,null,null,null,5]
[6,null,null,null,null,null,null,6,null,null,null,null,null,null,6,null,null,null,null,null,null,6]
["Total distance",null,null,null,null,null,null,"Total distance",null,null,null,null,null,null,"Total distance",null,null,null,null,null,null,"Total distance"]
[10,null,null,9,null,null,null,10,null,null,9,null,null,null,10,null,null,9,null,null,null,10,null,null,9]
[]
["Archer",null,null,"Marqueur",null,null,null,"Archer",null,null,"Marqueur",null,null,null,"Archer",null,null,"Marqueur",null,null,null,"Archer",null,null,"Marqueur"]
[]
[]
[]
[{"$f":"Feuil1!D5","v":"Cie La Flèche Macairoise"},null,null,null,null,null,null,null,null,null,null,null,null,null,{"$f":"Feuil1!D6","v":"2ème étape Challenge CHAIRMARTIN"}]
[]
[{"$f":"Feuil1!D7","v":"2023-01-14"}]

{"sheet":"cible 5","index":140,"n_rows":23,"n_cols":27,"rows_kept":23,"cut":false,"hidden":false,"merged":[[0,1,0,5],[0,8,0,12],[0,15,0,19],[0,22,0,26],[1,1,1,5],[1,8,1,12],[1,15,1,19],[1,22,1,26],[2,21,2,22],[2,23,2,26],[3,0,3,1],[3,7,3,8],[3,14,3,15],[3,21,3,22],[2,0,2,1],[2,2,2,6],[2,7,2,8],[2,9,2,13],[2,14,2,15],[2,16,2,20],[4,0,4,1],[4,2,4,3],[4,4,4,5],[4,7,4,8],[4,9,4,10],[4,16,4,17],[4,18,4,19],[4,21,4,22],[4,23,4,24],[4,25,4,26],[5,4,6,4],[5,5,6,5],[5,7,6,7],[5,8,5,10],[4,14,4,15],[4,11,4,12],[5,21,6,21],[5,22,5,24],[5,25,6,25],[5,26,6,26],[13,0,13,4],[13,7,13,11],[13,14,13,18],[13,21,13,25],[5,11,6,11],[5,12,6,12],[5,14,6,14],[5,15,5,17],[5,18,6,18],[5,19,6,19],[5,0,6,0],[5,1,5,3],[14,21,14,23],[14,24,14,26],[15,0,15,2],[15,3,15,5],[15,7,15,9],[15,10,15,12],[15,14,15,16],[15,17,15,19],[15,21,15,23],[15,24,15,26],[14,0,14,2],[14,3,14,5],[14,7,14,9],[14,10,14,12],[14,14,14,16],[14,17,14,19],[16,21,18,23],[16,24,18,26],[20,0,21,13],[20,14,21,26],[22,0,22,26],[16,0,18,2],[16,3,18,5],[16,7,18,9],[16,10,18,12],[16,14,18,16],[16,17,18,19]]}
["Nom",{"$f":"VLOOKUP(C4,Liste!B:K,2,FALSE)","v":{"$error":"#N/A"}},null,null,null,null,null,"Nom",{"$f":"VLOOKUP(J4,Liste!B:C,2,FALSE)","v":{"$error":"#N/A"}},null,null,null,null,null,"Nom",{"$f":"VLOOKUP(Q4,Liste!B:C,2,FALSE)","v":{"$error":"#N/A"}},null,null,null,null,null,"Nom",{"$f":"VLOOKUP(X4,Liste!B:C,2,FALSE)","v":{"$error":"#N/A"}}]
["Club",{"$f":"VLOOKUP(C4,Liste!B:D,3,FALSE)","v":{"$error":"#N/A"}},null,null,null,null,null,"Club",{"$f":"VLOOKUP(J4,Liste!B:D,3,FALSE)","v":{"$error":"#N/A"}},null,null,null,null,null,"Club",{"$f":"VLOOKUP(Q4,Liste!B:D,3,FALSE)","v":{"$error":"#N/A"}},null,null,null,null,null,"Club",{"$f":"VLOOKUP(X4,Liste!B:D,3,FALSE)","v":{"$error":"#N/A"}}]
["Classement",null,{"$f":"VLOOKUP(C4,Liste!B:K,5,FALSE)","v":{"$error":"#N/A"}},null,null,null,null,"Classement",null,{"$f":"VLOOKUP(J4,Liste!B:K,5,FALSE)","v":{"$error":"#N/A"}},null,null,null,null,"Classement",null,{"$f":"VLOOKUP(Q4,Liste!B:F,5,FALSE)","v":{"$error":"#N/A"}},null,null,null,null,"Classement",null,{"$f":"VLOOKUP(X4,Liste!B:F,5,FALSE)","v":{"$error":"#N/A"}}]
["N° cible",null,{"$f":"Feuil1!F11","v":"5A"},null,null,null,null,"N° cible",null,{"$f":"Feuil1!F12","v":"5B"},null,null,null,null,"N° cible",null,{"$f":"Feuil1!F13","v":"5C"},null,null,null,null,"N° cible",null,{"$f":"Feuil1!F14","v":"5D"}]
[{"$f":"Feuil1!D4","v":"2ème Tir"},null,"Licence",null,{"$f":"VLOOKUP(C4,Liste!B:K,4,FALSE)","v":{"$error":"#N/A"}},null,null,{"$f":"Feuil1!D4","v":"2ème Tir"},null,"Licence",null,{"$f":"VLOOKUP(J4,Liste!B:K,4,FALSE)","v":{"$error":"#N/A"}},null,null,{"$f":"Feuil1!D4","v":"2ème Tir"},null,"Licence",null,{"$f":"VLOOKUP(Q4,Liste!B:E,4,FALSE)","v":{"$error":"#N/A"}},null,null,{"$f":"Feuil1!D4","v":"2ème Tir"},null,"Licence",null,{"$f":"VLOOKUP(X4,Liste!B:E,4,FALSE)","v":{"$error":"#N/A"}}]
["N°","Points par flèches",null,null,"Total 3 flèches","Total cumulé",null,{"$f":"A6","v":"N°"},{"$f":"B6","v":"Points par flèches"},null,null,"Total 3 flèches","Total cumulé",null,"N°","Points par flèches",null,null,"Total 3 flèches","Total cumulé",null,{"$f":"O6","v":"N°"},{"$f":"P6","v":"Points par flèches"},null,null,"Total 3 flèches","Total cumulé"]
[null,1,2,3,null,null,null,null,1,2,3,null,null,null,null,1,2,3,null,null,null,null,1,2,3]
[1,null,null,null,null,null,null,1,null,null,null,null,null,null,1,null,null,null,null,null,null,1]
[2,null,null,null,null,null,null,2,null,null,null,null,null,null,2,null,null,null,null,null,null,2]
[3,null,null,null,null,null,null,3,null,null,null,null,null,null,3,null,null,null,null,null,null,3]
[4,null,null,null,null,null,null,4,null,null,null,null,null,null,4,null,null,null,null,null,null,4]
[5,null,null,null,null,null,null,5,null,null,null,null,null,null,5,null,null,null,null,null,null,5]
[6,null,null,null,null,null,null,6,null,null,null,null,null,null,6,null,null,null,null,null,null,6]
["Total distance",null,null,null,null,null,null,"Total distance",null,null,null,null,null,null,"Total distance",null,null,null,null,null,null,"Total distance"]
[10,null,null,9,null,null,null,10,null,null,9,null,null,null,10,null,null,9,null,null,null,10,null,null,9]
[]
["Archer",null,null,"Marqueur",null,null,null,"Archer",null,null,"Marqueur",null,null,null,"Archer",null,null,"Marqueur",null,null,null,"Archer",null,null,"Marqueur"]
[]
[]
[]
[{"$f":"Feuil1!D5","v":"Cie La Flèche Macairoise"},null,null,null,null,null,null,null,null,null,null,null,null,null,{"$f":"Feuil1!D6","v":"2ème étape Challenge CHAIRMARTIN"}]
[]
[{"$f":"Feuil1!D7","v":"2023-01-14"}]

{"sheet":"cible 5 (2)","index":141,"n_rows":23,"n_cols":27,"rows_kept":23,"cut":false,"hidden":false,"merged":[[0,1,0,5],[0,8,0,12],[0,15,0,19],[0,22,0,26],[1,1,1,5],[1,8,1,12],[1,15,1,19],[1,22,1,26],[2,21,2,22],[2,23,2,26],[3,0,3,1],[3,7,3,8],[3,14,3,15],[3,21,3,22],[2,0,2,1],[2,2,2,6],[2,7,2,8],[2,9,2,13],[2,14,2,15],[2,16,2,20],[4,0,4,1],[4,2,4,3],[4,4,4,5],[4,7,4,8],[4,9,4,10],[4,16,4,17],[4,18,4,19],[4,21,4,22],[4,23,4,24],[4,25,4,26],[5,4,6,4],[5,5,6,5],[5,7,6,7],[5,8,5,10],[4,14,4,15],[4,11,4,12],[5,21,6,21],[5,22,5,24],[5,25,6,25],[5,26,6,26],[13,0,13,4],[13,7,13,11],[13,14,13,18],[13,21,13,25],[5,11,6,11],[5,12,6,12],[5,14,6,14],[5,15,5,17],[5,18,6,18],[5,19,6,19],[5,0,6,0],[5,1,5,3],[14,21,14,23],[14,24,14,26],[15,0,15,2],[15,3,15,5],[15,7,15,9],[15,10,15,12],[15,14,15,16],[15,17,15,19],[15,21,15,23],[15,24,15,26],[14,0,14,2],[14,3,14,5],[14,7,14,9],[14,10,14,12],[14,14,14,16],[14,17,14,19],[16,21,18,23],[16,24,18,26],[20,0,21,13],[20,14,21,26],[22,0,22,26],[16,0,18,2],[16,3,18,5],[16,7,18,9],[16,10,18,12],[16,14,18,16],[16,17,18,19]]}
["Nom",{"$f":"VLOOKUP(C4,Liste!B:K,2,FALSE)","v":{"$error":"#N/A"}},null,null,null,null,null,"Nom",{"$f":"VLOOKUP(J4,Liste!B:C,2,FALSE)","v":{"$error":"#N/A"}},null,null,null,null,null,"Nom",{"$f":"VLOOKUP(Q4,Liste!B:C,2,FALSE)","v":{"$error":"#N/A"}},null,null,null,null,null,"Nom",{"$f":"VLOOKUP(X4,Liste!B:C,2,FALSE)","v":{"$error":"#N/A"}}]
["Club",{"$f":"VLOOKUP(C4,Liste!B:D,3,FALSE)","v":{"$error":"#N/A"}},null,null,null,null,null,"Club",{"$f":"VLOOKUP(J4,Liste!B:D,3,FALSE)","v":{"$error":"#N/A"}},null,null,null,null,null,"Club",{"$f":"VLOOKUP(Q4,Liste!B:D,3,FALSE)","v":{"$error":"#N/A"}},null,null,null,null,null,"Club",{"$f":"VLOOKUP(X4,Liste!B:D,3,FALSE)","v":{"$error":"#N/A"}}]
["Classement",null,{"$f":"VLOOKUP(C4,Liste!B:K,5,FALSE)","v":{"$error":"#N/A"}},null,null,null,null,"Classement",null,{"$f":"VLOOKUP(J4,Liste!B:K,5,FALSE)","v":{"$error":"#N/A"}},null,null,null,null,"Classement",null,{"$f":"VLOOKUP(Q4,Liste!B:F,5,FALSE)","v":{"$error":"#N/A"}},null,null,null,null,"Classement",null,{"$f":"VLOOKUP(X4,Liste!B:F,5,FALSE)","v":{"$error":"#N/A"}}]
["N° cible",null,{"$f":"Feuil1!F15","v":"5E"},null,null,null,null,"N° cible",null,{"$f":"Feuil1!F16","v":"5F"},null,null,null,null,"N° cible",null,{"$f":"Feuil1!F17","v":"5G"},null,null,null,null,"N° cible",null,{"$f":"Feuil1!F18","v":"5H"}]
[{"$f":"Feuil1!D4","v":"2ème Tir"},null,"Licence",null,{"$f":"VLOOKUP(C4,Liste!B:K,4,FALSE)","v":{"$error":"#N/A"}},null,null,{"$f":"Feuil1!D4","v":"2ème Tir"},null,"Licence",null,{"$f":"VLOOKUP(J4,Liste!B:K,4,FALSE)","v":{"$error":"#N/A"}},null,null,{"$f":"Feuil1!D4","v":"2ème Tir"},null,"Licence",null,{"$f":"VLOOKUP(Q4,Liste!B:E,4,FALSE)","v":{"$error":"#N/A"}},null,null,{"$f":"Feuil1!D4","v":"2ème Tir"},null,"Licence",null,{"$f":"VLOOKUP(X4,Liste!B:E,4,FALSE)","v":{"$error":"#N/A"}}]
["N°","Points par flèches",null,null,"Total 3 flèches","Total cumulé",null,{"$f":"A6","v":"N°"},{"$f":"B6","v":"Points par flèches"},null,null,"Total 3 flèches","Total cumulé",null,"N°","Points par flèches",null,null,"Total 3 flèches","Total cumulé",null,{"$f":"O6","v":"N°"},{"$f":"P6","v":"Points par flèches"},null,null,"Total 3 flèches","Total cumulé"]
[null,1,2,3,null,null,null,null,1,2,3,null,null,null,null,1,2,3,null,null,null,null,1,2,3]
[1,null,null,null,null,null,null,1,null,null,null,null,null,null,1,null,null,null,null,null,null,1]
[2,null,null,null,null,null,null,2,null,null,null,null,null,null,2,null,null,null,null,null,null,2]
[3,null,null,null,null,null,null,3,null,null,null,null,null,null,3,null,null,null,null,null,null,3]
[4,null,null,null,null,null,null,4,null,null,null,null,null,null,4,null,null,null,null,null,null,4]
[5,null,null,null,null,null,null,5,null,null,null,null,null,null,5,null,null,null,null,null,null,5]
[6,null,null,null,null,null,null,6,null,null,null,null,null,null,6,null,null,null,null,null,null,6]
["Total distance",null,null,null,null,null,null,"Total distance",null,null,null,null,null,null,"Total distance",null,null,null,null,null,null,"Total distance"]
[10,null,null,9,null,null,null,10,null,null,9,null,null,null,10,null,null,9,null,null,null,10,null,null,9]
[]
["Archer",null,null,"Marqueur",null,null,null,"Archer",null,null,"Marqueur",null,null,null,"Archer",null,null,"Marqueur",null,null,null,"Archer",null,null,"Marqueur"]
[]
[]
[]
[{"$f":"Feuil1!D5","v":"Cie La Flèche Macairoise"},null,null,null,null,null,null,null,null,null,null,null,null,null,{"$f":"Feuil1!D6","v":"2ème étape Challenge CHAIRMARTIN"}]
[]
[{"$f":"Feuil1!D7","v":"2023-01-14"}]

{"sheet":"cible 6","index":142,"n_rows":23,"n_cols":27,"rows_kept":23,"cut":false,"hidden":false,"merged":[[0,1,0,5],[0,8,0,12],[0,15,0,19],[0,22,0,26],[1,1,1,5],[1,8,1,12],[1,15,1,19],[1,22,1,26],[2,21,2,22],[2,23,2,26],[3,0,3,1],[3,7,3,8],[3,14,3,15],[3,21,3,22],[2,0,2,1],[2,2,2,6],[2,7,2,8],[2,9,2,13],[2,14,2,15],[2,16,2,20],[4,0,4,1],[4,2,4,3],[4,4,4,5],[4,7,4,8],[4,9,4,10],[4,16,4,17],[4,18,4,19],[4,21,4,22],[4,23,4,24],[4,25,4,26],[5,4,6,4],[5,5,6,5],[5,7,6,7],[5,8,5,10],[4,14,4,15],[4,11,4,12],[5,21,6,21],[5,22,5,24],[5,25,6,25],[5,26,6,26],[13,0,13,4],[13,7,13,11],[13,14,13,18],[13,21,13,25],[5,11,6,11],[5,12,6,12],[5,14,6,14],[5,15,5,17],[5,18,6,18],[5,19,6,19],[5,0,6,0],[5,1,5,3],[14,21,14,23],[14,24,14,26],[15,0,15,2],[15,3,15,5],[15,7,15,9],[15,10,15,12],[15,14,15,16],[15,17,15,19],[15,21,15,23],[15,24,15,26],[14,0,14,2],[14,3,14,5],[14,7,14,9],[14,10,14,12],[14,14,14,16],[14,17,14,19],[16,21,18,23],[16,24,18,26],[20,0,21,13],[20,14,21,26],[22,0,22,26],[16,0,18,2],[16,3,18,5],[16,7,18,9],[16,10,18,12],[16,14,18,16],[16,17,18,19]]}
["Nom",{"$f":"VLOOKUP(C4,Liste!B:K,2,FALSE)","v":{"$error":"#N/A"}},null,null,null,null,null,"Nom",{"$f":"VLOOKUP(J4,Liste!B:C,2,FALSE)","v":{"$error":"#N/A"}},null,null,null,null,null,"Nom",{"$f":"VLOOKUP(Q4,Liste!B:C,2,FALSE)","v":{"$error":"#N/A"}},null,null,null,null,null,"Nom",{"$f":"VLOOKUP(X4,Liste!B:C,2,FALSE)","v":{"$error":"#N/A"}}]
["Club",{"$f":"VLOOKUP(C4,Liste!B:D,3,FALSE)","v":{"$error":"#N/A"}},null,null,null,null,null,"Club",{"$f":"VLOOKUP(J4,Liste!B:D,3,FALSE)","v":{"$error":"#N/A"}},null,null,null,null,null,"Club",{"$f":"VLOOKUP(Q4,Liste!B:D,3,FALSE)","v":{"$error":"#N/A"}},null,null,null,null,null,"Club",{"$f":"VLOOKUP(X4,Liste!B:D,3,FALSE)","v":{"$error":"#N/A"}}]
["Classement",null,{"$f":"VLOOKUP(C4,Liste!B:K,5,FALSE)","v":{"$error":"#N/A"}},null,null,null,null,"Classement",null,{"$f":"VLOOKUP(J4,Liste!B:K,5,FALSE)","v":{"$error":"#N/A"}},null,null,null,null,"Classement",null,{"$f":"VLOOKUP(Q4,Liste!B:F,5,FALSE)","v":{"$error":"#N/A"}},null,null,null,null,"Classement",null,{"$f":"VLOOKUP(X4,Liste!B:F,5,FALSE)","v":{"$error":"#N/A"}}]
["N° cible",null,{"$f":"Feuil1!F19","v":"6A"},null,null,null,null,"N° cible",null,{"$f":"Feuil1!F20","v":"6B"},null,null,null,null,"N° cible",null,{"$f":"Feuil1!F21","v":"6C"},null,null,null,null,"N° cible",null,{"$f":"Feuil1!F22","v":"6D"}]
[{"$f":"Feuil1!D4","v":"2ème Tir"},null,"Licence",null,{"$f":"VLOOKUP(C4,Liste!B:K,4,FALSE)","v":{"$error":"#N/A"}},null,null,{"$f":"Feuil1!D4","v":"2ème Tir"},null,"Licence",null,{"$f":"VLOOKUP(J4,Liste!B:K,4,FALSE)","v":{"$error":"#N/A"}},null,null,{"$f":"Feuil1!D4","v":"2ème Tir"},null,"Licence",null,{"$f":"VLOOKUP(Q4,Liste!B:E,4,FALSE)","v":{"$error":"#N/A"}},null,null,{"$f":"Feuil1!D4","v":"2ème Tir"},null,"Licence",null,{"$f":"VLOOKUP(X4,Liste!B:E,4,FALSE)","v":{"$error":"#N/A"}}]
["N°","Points par flèches",null,null,"Total 3 flèches","Total cumulé",null,{"$f":"A6","v":"N°"},{"$f":"B6","v":"Points par flèches"},null,null,"Total 3 flèches","Total cumulé",null,"N°","Points par flèches",null,null,"Total 3 flèches","Total cumulé",null,{"$f":"O6","v":"N°"},{"$f":"P6","v":"Points par flèches"},null,null,"Total 3 flèches","Total cumulé"]
[null,1,2,3,null,null,null,null,1,2,3,null,null,null,null,1,2,3,null,null,null,null,1,2,3]
[1,null,null,null,null,null,null,1,null,null,null,null,null,null,1,null,null,null,null,null,null,1]
[2,null,null,null,null,null,null,2,null,null,null,null,null,null,2,null,null,null,null,null,null,2]
[3,null,null,null,null,null,null,3,null,null,null,null,null,null,3,null,null,null,null,null,null,3]
[4,null,null,null,null,null,null,4,null,null,null,null,null,null,4,null,null,null,null,null,null,4]
[5,null,null,null,null,null,null,5,null,null,null,null,null,null,5,null,null,null,null,null,null,5]
[6,null,null,null,null,null,null,6,null,null,null,null,null,null,6,null,null,null,null,null,null,6]
["Total distance",null,null,null,null,null,null,"Total distance",null,null,null,null,null,null,"Total distance",null,null,null,null,null,null,"Total distance"]
[10,null,null,9,null,null,null,10,null,null,9,null,null,null,10,null,null,9,null,null,null,10,null,null,9]
[]
["Archer",null,null,"Marqueur",null,null,null,"Archer",null,null,"Marqueur",null,null,null,"Archer",null,null,"Marqueur",null,null,null,"Archer",null,null,"Marqueur"]
[]
[]
[]
[{"$f":"Feuil1!D5","v":"Cie La Flèche Macairoise"},null,null,null,null,null,null,null,null,null,null,null,null,null,{"$f":"Feuil1!D6","v":"2ème étape Challenge CHAIRMARTIN"}]
[]
[{"$f":"Feuil1!D7","v":"2023-01-14"}]

{"sheet":"cible 6 (2)","index":143,"n_rows":23,"n_cols":27,"rows_kept":23,"cut":false,"hidden":false,"merged":[[0,1,0,5],[0,8,0,12],[0,15,0,19],[0,22,0,26],[1,1,1,5],[1,8,1,12],[1,15,1,19],[1,22,1,26],[2,21,2,22],[2,23,2,26],[3,0,3,1],[3,7,3,8],[3,14,3,15],[3,21,3,22],[2,0,2,1],[2,2,2,6],[2,7,2,8],[2,9,2,13],[2,14,2,15],[2,16,2,20],[4,0,4,1],[4,2,4,3],[4,4,4,5],[4,7,4,8],[4,9,4,10],[4,16,4,17],[4,18,4,19],[4,21,4,22],[4,23,4,24],[4,25,4,26],[5,4,6,4],[5,5,6,5],[5,7,6,7],[5,8,5,10],[4,14,4,15],[4,11,4,12],[5,21,6,21],[5,22,5,24],[5,25,6,25],[5,26,6,26],[13,0,13,4],[13,7,13,11],[13,14,13,18],[13,21,13,25],[5,11,6,11],[5,12,6,12],[5,14,6,14],[5,15,5,17],[5,18,6,18],[5,19,6,19],[5,0,6,0],[5,1,5,3],[14,21,14,23],[14,24,14,26],[15,0,15,2],[15,3,15,5],[15,7,15,9],[15,10,15,12],[15,14,15,16],[15,17,15,19],[15,21,15,23],[15,24,15,26],[14,0,14,2],[14,3,14,5],[14,7,14,9],[14,10,14,12],[14,14,14,16],[14,17,14,19],[16,21,18,23],[16,24,18,26],[20,0,21,13],[20,14,21,26],[22,0,22,26],[16,0,18,2],[16,3,18,5],[16,7,18,9],[16,10,18,12],[16,14,18,16],[16,17,18,19]]}
["Nom",{"$f":"VLOOKUP(C4,Liste!B:K,2,FALSE)","v":{"$error":"#N/A"}},null,null,null,null,null,"Nom",{"$f":"VLOOKUP(J4,Liste!B:C,2,FALSE)","v":{"$error":"#N/A"}},null,null,null,null,null,"Nom",{"$f":"VLOOKUP(Q4,Liste!B:C,2,FALSE)","v":{"$error":"#N/A"}},null,null,null,null,null,"Nom",{"$f":"VLOOKUP(X4,Liste!B:C,2,FALSE)","v":{"$error":"#N/A"}}]
["Club",{"$f":"VLOOKUP(C4,Liste!B:D,3,FALSE)","v":{"$error":"#N/A"}},null,null,null,null,null,"Club",{"$f":"VLOOKUP(J4,Liste!B:D,3,FALSE)","v":{"$error":"#N/A"}},null,null,null,null,null,"Club",{"$f":"VLOOKUP(Q4,Liste!B:D,3,FALSE)","v":{"$error":"#N/A"}},null,null,null,null,null,"Club",{"$f":"VLOOKUP(X4,Liste!B:D,3,FALSE)","v":{"$error":"#N/A"}}]
["Classement",null,{"$f":"VLOOKUP(C4,Liste!B:K,5,FALSE)","v":{"$error":"#N/A"}},null,null,null,null,"Classement",null,{"$f":"VLOOKUP(J4,Liste!B:K,5,FALSE)","v":{"$error":"#N/A"}},null,null,null,null,"Classement",null,{"$f":"VLOOKUP(Q4,Liste!B:F,5,FALSE)","v":{"$error":"#N/A"}},null,null,null,null,"Classement",null,{"$f":"VLOOKUP(X4,Liste!B:F,5,FALSE)","v":{"$error":"#N/A"}}]
["N° cible",null,{"$f":"Feuil1!F23","v":"6E"},null,null,null,null,"N° cible",null,{"$f":"Feuil1!F24","v":"6F"},null,null,null,null,"N° cible",null,{"$f":"Feuil1!F25","v":"6G"},null,null,null,null,"N° cible",null,{"$f":"Feuil1!F26","v":"6H"}]
[{"$f":"Feuil1!D4","v":"2ème Tir"},null,"Licence",null,{"$f":"VLOOKUP(C4,Liste!B:K,4,FALSE)","v":{"$error":"#N/A"}},null,null,{"$f":"Feuil1!D4","v":"2ème Tir"},null,"Licence",null,{"$f":"VLOOKUP(J4,Liste!B:K,4,FALSE)","v":{"$error":"#N/A"}},null,null,{"$f":"Feuil1!D4","v":"2ème Tir"},null,"Licence",null,{"$f":"VLOOKUP(Q4,Liste!B:E,4,FALSE)","v":{"$error":"#N/A"}},null,null,{"$f":"Feuil1!D4","v":"2ème Tir"},null,"Licence",null,{"$f":"VLOOKUP(X4,Liste!B:E,4,FALSE)","v":{"$error":"#N/A"}}]
["N°","Points par flèches",null,null,"Total 3 flèches","Total cumulé",null,{"$f":"A6","v":"N°"},{"$f":"B6","v":"Points par flèches"},null,null,"Total 3 flèches","Total cumulé",null,"N°","Points par flèches",null,null,"Total 3 flèches","Total cumulé",null,{"$f":"O6","v":"N°"},{"$f":"P6","v":"Points par flèches"},null,null,"Total 3 flèches","Total cumulé"]
[null,1,2,3,null,null,null,null,1,2,3,null,null,null,null,1,2,3,null,null,null,null,1,2,3]
[1,null,null,null,null,null,null,1,null,null,null,null,null,null,1,null,null,null,null,null,null,1]
[2,null,null,null,null,null,null,2,null,null,null,null,null,null,2,null,null,null,null,null,null,2]
[3,null,null,null,null,null,null,3,null,null,null,null,null,null,3,null,null,null,null,null,null,3]
[4,null,null,null,null,null,null,4,null,null,null,null,null,null,4,null,null,null,null,null,null,4]
[5,null,null,null,null,null,null,5,null,null,null,null,null,null,5,null,null,null,null,null,null,5]
[6,null,null,null,null,null,null,6,null,null,null,null,null,null,6,null,null,null,null,null,null,6]
["Total distance",null,null,null,null,null,null,"Total distance",null,null,null,null,null,null,"Total distance",null,null,null,null,null,null,"Total distance"]
[10,null,null,9,null,null,null,10,null,null,9,null,null,null,10,null,null,9,null,null,null,10,null,null,9]
[]
["Archer",null,null,"Marqueur",null,null,null,"Archer",null,null,"Marqueur",null,null,null,"Archer",null,null,"Marqueur",null,null,null,"Archer",null,null,"Marqueur"]
[]
[]
[]
[{"$f":"Feuil1!D5","v":"Cie La Flèche Macairoise"},null,null,null,null,null,null,null,null,null,null,null,null,null,{"$f":"Feuil1!D6","v":"2ème étape Challenge CHAIRMARTIN"}]
[]
[{"$f":"Feuil1!D7","v":"2023-01-14"}]

{"sheet":"cible 7","index":144,"n_rows":23,"n_cols":27,"rows_kept":23,"cut":false,"hidden":false,"merged":[[0,1,0,5],[0,8,0,12],[0,15,0,19],[0,22,0,26],[1,1,1,5],[1,8,1,12],[1,15,1,19],[1,22,1,26],[2,21,2,22],[2,23,2,26],[3,0,3,1],[3,7,3,8],[3,14,3,15],[3,21,3,22],[2,0,2,1],[2,2,2,6],[2,7,2,8],[2,9,2,13],[2,14,2,15],[2,16,2,20],[4,0,4,1],[4,2,4,3],[4,4,4,5],[4,7,4,8],[4,9,4,10],[4,16,4,17],[4,18,4,19],[4,21,4,22],[4,23,4,24],[4,25,4,26],[5,4,6,4],[5,5,6,5],[5,7,6,7],[5,8,5,10],[4,14,4,15],[4,11,4,12],[5,21,6,21],[5,22,5,24],[5,25,6,25],[5,26,6,26],[13,0,13,4],[13,7,13,11],[13,14,13,18],[13,21,13,25],[5,11,6,11],[5,12,6,12],[5,14,6,14],[5,15,5,17],[5,18,6,18],[5,19,6,19],[5,0,6,0],[5,1,5,3],[14,21,14,23],[14,24,14,26],[15,0,15,2],[15,3,15,5],[15,7,15,9],[15,10,15,12],[15,14,15,16],[15,17,15,19],[15,21,15,23],[15,24,15,26],[14,0,14,2],[14,3,14,5],[14,7,14,9],[14,10,14,12],[14,14,14,16],[14,17,14,19],[16,21,18,23],[16,24,18,26],[20,0,21,13],[20,14,21,26],[22,0,22,26],[16,0,18,2],[16,3,18,5],[16,7,18,9],[16,10,18,12],[16,14,18,16],[16,17,18,19]]}
["Nom",{"$f":"VLOOKUP(C4,Liste!B:K,2,FALSE)","v":{"$error":"#N/A"}},null,null,null,null,null,"Nom",{"$f":"VLOOKUP(J4,Liste!B:C,2,FALSE)","v":{"$error":"#N/A"}},null,null,null,null,null,"Nom",{"$f":"VLOOKUP(Q4,Liste!B:C,2,FALSE)","v":{"$error":"#N/A"}},null,null,null,null,null,"Nom",{"$f":"VLOOKUP(X4,Liste!B:C,2,FALSE)","v":{"$error":"#N/A"}}]
["Club",{"$f":"VLOOKUP(C4,Liste!B:D,3,FALSE)","v":{"$error":"#N/A"}},null,null,null,null,null,"Club",{"$f":"VLOOKUP(J4,Liste!B:D,3,FALSE)","v":{"$error":"#N/A"}},null,null,null,null,null,"Club",{"$f":"VLOOKUP(Q4,Liste!B:D,3,FALSE)","v":{"$error":"#N/A"}},null,null,null,null,null,"Club",{"$f":"VLOOKUP(X4,Liste!B:D,3,FALSE)","v":{"$error":"#N/A"}}]
["Classement",null,{"$f":"VLOOKUP(C4,Liste!B:K,5,FALSE)","v":{"$error":"#N/A"}},null,null,null,null,"Classement",null,{"$f":"VLOOKUP(J4,Liste!B:K,5,FALSE)","v":{"$error":"#N/A"}},null,null,null,null,"Classement",null,{"$f":"VLOOKUP(Q4,Liste!B:F,5,FALSE)","v":{"$error":"#N/A"}},null,null,null,null,"Classement",null,{"$f":"VLOOKUP(X4,Liste!B:F,5,FALSE)","v":{"$error":"#N/A"}}]
["N° cible",null,{"$f":"Feuil1!H11","v":"7A"},null,null,null,null,"N° cible",null,{"$f":"Feuil1!H12","v":"7B"},null,null,null,null,"N° cible",null,{"$f":"Feuil1!H13","v":"7C"},null,null,null,null,"N° cible",null,{"$f":"Feuil1!H14","v":"7D"}]
[{"$f":"Feuil1!D4","v":"2ème Tir"},null,"Licence",null,{"$f":"VLOOKUP(C4,Liste!B:K,4,FALSE)","v":{"$error":"#N/A"}},null,null,{"$f":"Feuil1!D4","v":"2ème Tir"},null,"Licence",null,{"$f":"VLOOKUP(J4,Liste!B:K,4,FALSE)","v":{"$error":"#N/A"}},null,null,{"$f":"Feuil1!D4","v":"2ème Tir"},null,"Licence",null,{"$f":"VLOOKUP(Q4,Liste!B:E,4,FALSE)","v":{"$error":"#N/A"}},null,null,{"$f":"Feuil1!D4","v":"2ème Tir"},null,"Licence",null,{"$f":"VLOOKUP(X4,Liste!B:E,4,FALSE)","v":{"$error":"#N/A"}}]
["N°","Points par flèches",null,null,"Total 3 flèches","Total cumulé",null,{"$f":"A6","v":"N°"},{"$f":"B6","v":"Points par flèches"},null,null,"Total 3 flèches","Total cumulé",null,"N°","Points par flèches",null,null,"Total 3 flèches","Total cumulé",null,{"$f":"O6","v":"N°"},{"$f":"P6","v":"Points par flèches"},null,null,"Total 3 flèches","Total cumulé"]
[null,1,2,3,null,null,null,null,1,2,3,null,null,null,null,1,2,3,null,null,null,null,1,2,3]
[1,null,null,null,null,null,null,1,null,null,null,null,null,null,1,null,null,null,null,null,null,1]
[2,null,null,null,null,null,null,2,null,null,null,null,null,null,2,null,null,null,null,null,null,2]
[3,null,null,null,null,null,null,3,null,null,null,null,null,null,3,null,null,null,null,null,null,3]
[4,null,null,null,null,null,null,4,null,null,null,null,null,null,4,null,null,null,null,null,null,4]
[5,null,null,null,null,null,null,5,null,null,null,null,null,null,5,null,null,null,null,null,null,5]
[6,null,null,null,null,null,null,6,null,null,null,null,null,null,6,null,null,null,null,null,null,6]
["Total distance",null,null,null,null,null,null,"Total distance",null,null,null,null,null,null,"Total distance",null,null,null,null,null,null,"Total distance"]
[10,null,null,9,null,null,null,10,null,null,9,null,null,null,10,null,null,9,null,null,null,10,null,null,9]
[]
["Archer",null,null,"Marqueur",null,null,null,"Archer",null,null,"Marqueur",null,null,null,"Archer",null,null,"Marqueur",null,null,null,"Archer",null,null,"Marqueur"]
[]
[]
[]
[{"$f":"Feuil1!D5","v":"Cie La Flèche Macairoise"},null,null,null,null,null,null,null,null,null,null,null,null,null,{"$f":"Feuil1!D6","v":"2ème étape Challenge CHAIRMARTIN"}]
[]
[{"$f":"Feuil1!D7","v":"2023-01-14"}]

{"sheet":"cible 7 (2)","index":145,"n_rows":23,"n_cols":27,"rows_kept":23,"cut":false,"hidden":false,"merged":[[0,1,0,5],[0,8,0,12],[0,15,0,19],[0,22,0,26],[1,1,1,5],[1,8,1,12],[1,15,1,19],[1,22,1,26],[2,21,2,22],[2,23,2,26],[3,0,3,1],[3,7,3,8],[3,14,3,15],[3,21,3,22],[2,0,2,1],[2,2,2,6],[2,7,2,8],[2,9,2,13],[2,14,2,15],[2,16,2,20],[4,0,4,1],[4,2,4,3],[4,4,4,5],[4,7,4,8],[4,9,4,10],[4,16,4,17],[4,18,4,19],[4,21,4,22],[4,23,4,24],[4,25,4,26],[5,4,6,4],[5,5,6,5],[5,7,6,7],[5,8,5,10],[4,14,4,15],[4,11,4,12],[5,21,6,21],[5,22,5,24],[5,25,6,25],[5,26,6,26],[13,0,13,4],[13,7,13,11],[13,14,13,18],[13,21,13,25],[5,11,6,11],[5,12,6,12],[5,14,6,14],[5,15,5,17],[5,18,6,18],[5,19,6,19],[5,0,6,0],[5,1,5,3],[14,21,14,23],[14,24,14,26],[15,0,15,2],[15,3,15,5],[15,7,15,9],[15,10,15,12],[15,14,15,16],[15,17,15,19],[15,21,15,23],[15,24,15,26],[14,0,14,2],[14,3,14,5],[14,7,14,9],[14,10,14,12],[14,14,14,16],[14,17,14,19],[16,21,18,23],[16,24,18,26],[20,0,21,13],[20,14,21,26],[22,0,22,26],[16,0,18,2],[16,3,18,5],[16,7,18,9],[16,10,18,12],[16,14,18,16],[16,17,18,19]]}
["Nom",{"$f":"VLOOKUP(C4,Liste!B:K,2,FALSE)","v":{"$error":"#N/A"}},null,null,null,null,null,"Nom",{"$f":"VLOOKUP(J4,Liste!B:C,2,FALSE)","v":{"$error":"#N/A"}},null,null,null,null,null,"Nom",{"$f":"VLOOKUP(Q4,Liste!B:C,2,FALSE)","v":{"$error":"#N/A"}},null,null,null,null,null,"Nom",{"$f":"VLOOKUP(X4,Liste!B:C,2,FALSE)","v":{"$error":"#N/A"}}]
["Club",{"$f":"VLOOKUP(C4,Liste!B:D,3,FALSE)","v":{"$error":"#N/A"}},null,null,null,null,null,"Club",{"$f":"VLOOKUP(J4,Liste!B:D,3,FALSE)","v":{"$error":"#N/A"}},null,null,null,null,null,"Club",{"$f":"VLOOKUP(Q4,Liste!B:D,3,FALSE)","v":{"$error":"#N/A"}},null,null,null,null,null,"Club",{"$f":"VLOOKUP(X4,Liste!B:D,3,FALSE)","v":{"$error":"#N/A"}}]
["Classement",null,{"$f":"VLOOKUP(C4,Liste!B:K,5,FALSE)","v":{"$error":"#N/A"}},null,null,null,null,"Classement",null,{"$f":"VLOOKUP(J4,Liste!B:K,5,FALSE)","v":{"$error":"#N/A"}},null,null,null,null,"Classement",null,{"$f":"VLOOKUP(Q4,Liste!B:F,5,FALSE)","v":{"$error":"#N/A"}},null,null,null,null,"Classement",null,{"$f":"VLOOKUP(X4,Liste!B:F,5,FALSE)","v":{"$error":"#N/A"}}]
["N° cible",null,{"$f":"Feuil1!H15","v":"7E"},null,null,null,null,"N° cible",null,{"$f":"Feuil1!H16","v":"7F"},null,null,null,null,"N° cible",null,{"$f":"Feuil1!H17","v":"7G"},null,null,null,null,"N° cible",null,{"$f":"Feuil1!H18","v":"7H"}]
[{"$f":"Feuil1!D4","v":"2ème Tir"},null,"Licence",null,{"$f":"VLOOKUP(C4,Liste!B:K,4,FALSE)","v":{"$error":"#N/A"}},null,null,{"$f":"Feuil1!D4","v":"2ème Tir"},null,"Licence",null,{"$f":"VLOOKUP(J4,Liste!B:K,4,FALSE)","v":{"$error":"#N/A"}},null,null,{"$f":"Feuil1!D4","v":"2ème Tir"},null,"Licence",null,{"$f":"VLOOKUP(Q4,Liste!B:E,4,FALSE)","v":{"$error":"#N/A"}},null,null,{"$f":"Feuil1!D4","v":"2ème Tir"},null,"Licence",null,{"$f":"VLOOKUP(X4,Liste!B:E,4,FALSE)","v":{"$error":"#N/A"}}]
["N°","Points par flèches",null,null,"Total 3 flèches","Total cumulé",null,{"$f":"A6","v":"N°"},{"$f":"B6","v":"Points par flèches"},null,null,"Total 3 flèches","Total cumulé",null,"N°","Points par flèches",null,null,"Total 3 flèches","Total cumulé",null,{"$f":"O6","v":"N°"},{"$f":"P6","v":"Points par flèches"},null,null,"Total 3 flèches","Total cumulé"]
[null,1,2,3,null,null,null,null,1,2,3,null,null,null,null,1,2,3,null,null,null,null,1,2,3]
[1,null,null,null,null,null,null,1,null,null,null,null,null,null,1,null,null,null,null,null,null,1]
[2,null,null,null,null,null,null,2,null,null,null,null,null,null,2,null,null,null,null,null,null,2]
[3,null,null,null,null,null,null,3,null,null,null,null,null,null,3,null,null,null,null,null,null,3]
[4,null,null,null,null,null,null,4,null,null,null,null,null,null,4,null,null,null,null,null,null,4]
[5,null,null,null,null,null,null,5,null,null,null,null,null,null,5,null,null,null,null,null,null,5]
[6,null,null,null,null,null,null,6,null,null,null,null,null,null,6,null,null,null,null,null,null,6]
["Total distance",null,null,null,null,null,null,"Total distance",null,null,null,null,null,null,"Total distance",null,null,null,null,null,null,"Total distance"]
[10,null,null,9,null,null,null,10,null,null,9,null,null,null,10,null,null,9,null,null,null,10,null,null,9]
[]
["Archer",null,null,"Marqueur",null,null,null,"Archer",null,null,"Marqueur",null,null,null,"Archer",null,null,"Marqueur",null,null,null,"Archer",null,null,"Marqueur"]
[]
[]
[]
[{"$f":"Feuil1!D5","v":"Cie La Flèche Macairoise"},null,null,null,null,null,null,null,null,null,null,null,null,null,{"$f":"Feuil1!D6","v":"2ème étape Challenge CHAIRMARTIN"}]
[]
[{"$f":"Feuil1!D7","v":"2023-01-14"}]

{"sheet":"cible 8","index":146,"n_rows":23,"n_cols":27,"rows_kept":23,"cut":false,"hidden":false,"merged":[[0,1,0,5],[0,8,0,12],[0,15,0,19],[0,22,0,26],[1,1,1,5],[1,8,1,12],[1,15,1,19],[1,22,1,26],[2,21,2,22],[2,23,2,26],[3,0,3,1],[3,7,3,8],[3,14,3,15],[3,21,3,22],[2,0,2,1],[2,2,2,6],[2,7,2,8],[2,9,2,13],[2,14,2,15],[2,16,2,20],[4,0,4,1],[4,2,4,3],[4,4,4,5],[4,7,4,8],[4,9,4,10],[4,16,4,17],[4,18,4,19],[4,21,4,22],[4,23,4,24],[4,25,4,26],[5,4,6,4],[5,5,6,5],[5,7,6,7],[5,8,5,10],[4,14,4,15],[4,11,4,12],[5,21,6,21],[5,22,5,24],[5,25,6,25],[5,26,6,26],[13,0,13,4],[13,7,13,11],[13,14,13,18],[13,21,13,25],[5,11,6,11],[5,12,6,12],[5,14,6,14],[5,15,5,17],[5,18,6,18],[5,19,6,19],[5,0,6,0],[5,1,5,3],[14,21,14,23],[14,24,14,26],[15,0,15,2],[15,3,15,5],[15,7,15,9],[15,10,15,12],[15,14,15,16],[15,17,15,19],[15,21,15,23],[15,24,15,26],[14,0,14,2],[14,3,14,5],[14,7,14,9],[14,10,14,12],[14,14,14,16],[14,17,14,19],[16,21,18,23],[16,24,18,26],[20,0,21,13],[20,14,21,26],[22,0,22,26],[16,0,18,2],[16,3,18,5],[16,7,18,9],[16,10,18,12],[16,14,18,16],[16,17,18,19]]}
["Nom",{"$f":"VLOOKUP(C4,Liste!B:K,2,FALSE)","v":{"$error":"#N/A"}},null,null,null,null,null,"Nom",{"$f":"VLOOKUP(J4,Liste!B:C,2,FALSE)","v":{"$error":"#N/A"}},null,null,null,null,null,"Nom",{"$f":"VLOOKUP(Q4,Liste!B:C,2,FALSE)","v":{"$error":"#N/A"}},null,null,null,null,null,"Nom",{"$f":"VLOOKUP(X4,Liste!B:C,2,FALSE)","v":{"$error":"#N/A"}}]
["Club",{"$f":"VLOOKUP(C4,Liste!B:D,3,FALSE)","v":{"$error":"#N/A"}},null,null,null,null,null,"Club",{"$f":"VLOOKUP(J4,Liste!B:D,3,FALSE)","v":{"$error":"#N/A"}},null,null,null,null,null,"Club",{"$f":"VLOOKUP(Q4,Liste!B:D,3,FALSE)","v":{"$error":"#N/A"}},null,null,null,null,null,"Club",{"$f":"VLOOKUP(X4,Liste!B:D,3,FALSE)","v":{"$error":"#N/A"}}]
["Classement",null,{"$f":"VLOOKUP(C4,Liste!B:K,5,FALSE)","v":{"$error":"#N/A"}},null,null,null,null,"Classement",null,{"$f":"VLOOKUP(J4,Liste!B:K,5,FALSE)","v":{"$error":"#N/A"}},null,null,null,null,"Classement",null,{"$f":"VLOOKUP(Q4,Liste!B:K,5,FALSE)","v":{"$error":"#N/A"}},null,null,null,null,"Classement",null,{"$f":"VLOOKUP(X4,Liste!B:F,5,FALSE)","v":{"$error":"#N/A"}}]
["N° cible",null,{"$f":"Feuil1!H19","v":"8A"},null,null,null,null,"N° cible",null,{"$f":"Feuil1!H20","v":"8B"},null,null,null,null,"N° cible",null,{"$f":"Feuil1!H21","v":"8C"},null,null,null,null,"N° cible",null,{"$f":"Feuil1!H22","v":"8D"}]
[{"$f":"Feuil1!D4","v":"2ème Tir"},null,"Licence",null,{"$f":"VLOOKUP(C4,Liste!B:K,4,FALSE)","v":{"$error":"#N/A"}},null,null,{"$f":"Feuil1!D4","v":"2ème Tir"},null,"Licence",null,{"$f":"VLOOKUP(J4,Liste!B:K,4,FALSE)","v":{"$error":"#N/A"}},null,null,{"$f":"Feuil1!D4","v":"2ème Tir"},null,"Licence",null,{"$f":"VLOOKUP(Q4,Liste!B:K,4,FALSE)","v":{"$error":"#N/A"}},null,null,{"$f":"Feuil1!D4","v":"2ème Tir"},null,"Licence",null,{"$f":"VLOOKUP(X4,Liste!B:E,4,FALSE)","v":{"$error":"#N/A"}}]
["N°","Points par flèches",null,null,"Total 3 flèches","Total cumulé",null,{"$f":"A6","v":"N°"},{"$f":"B6","v":"Points par flèches"},null,null,"Total 3 flèches","Total cumulé",null,"N°","Points par flèches",null,null,"Total 3 flèches","Total cumulé",null,{"$f":"O6","v":"N°"},{"$f":"P6","v":"Points par flèches"},null,null,"Total 3 flèches","Total cumulé"]
[null,1,2,3,null,null,null,null,1,2,3,null,null,null,null,1,2,3,null,null,null,null,1,2,3]
[1,null,null,null,null,null,null,1,null,null,null,null,null,null,1,null,null,null,null,null,null,1]
[2,null,null,null,null,null,null,2,null,null,null,null,null,null,2,null,null,null,null,null,null,2]
[3,null,null,null,null,null,null,3,null,null,null,null,null,null,3,null,null,null,null,null,null,3]
[4,null,null,null,null,null,null,4,null,null,null,null,null,null,4,null,null,null,null,null,null,4]
[5,null,null,null,null,null,null,5,null,null,null,null,null,null,5,null,null,null,null,null,null,5]
[6,null,null,null,null,null,null,6,null,null,null,null,null,null,6,null,null,null,null,null,null,6]
["Total distance",null,null,null,null,null,null,"Total distance",null,null,null,null,null,null,"Total distance",null,null,null,null,null,null,"Total distance"]
[10,null,null,9,null,null,null,10,null,null,9,null,null,null,10,null,null,9,null,null,null,10,null,null,9]
[]
["Archer",null,null,"Marqueur",null,null,null,"Archer",null,null,"Marqueur",null,null,null,"Archer",null,null,"Marqueur",null,null,null,"Archer",null,null,"Marqueur"]
[]
[]
[]
[{"$f":"Feuil1!D5","v":"Cie La Flèche Macairoise"},null,null,null,null,null,null,null,null,null,null,null,null,null,{"$f":"Feuil1!D6","v":"2ème étape Challenge CHAIRMARTIN"}]
[]
[{"$f":"Feuil1!D7","v":"2023-01-14"}]

{"sheet":"cible 8 (2)","index":147,"n_rows":23,"n_cols":27,"rows_kept":23,"cut":false,"hidden":false,"merged":[[0,1,0,5],[0,8,0,12],[0,15,0,19],[0,22,0,26],[1,1,1,5],[1,8,1,12],[1,15,1,19],[1,22,1,26],[2,21,2,22],[2,23,2,26],[3,0,3,1],[3,7,3,8],[3,14,3,15],[3,21,3,22],[2,0,2,1],[2,2,2,6],[2,7,2,8],[2,9,2,13],[2,14,2,15],[2,16,2,20],[4,0,4,1],[4,2,4,3],[4,4,4,5],[4,7,4,8],[4,9,4,10],[4,16,4,17],[4,18,4,19],[4,21,4,22],[4,23,4,24],[4,25,4,26],[5,4,6,4],[5,5,6,5],[5,7,6,7],[5,8,5,10],[4,14,4,15],[4,11,4,12],[5,21,6,21],[5,22,5,24],[5,25,6,25],[5,26,6,26],[13,0,13,4],[13,7,13,11],[13,14,13,18],[13,21,13,25],[5,11,6,11],[5,12,6,12],[5,14,6,14],[5,15,5,17],[5,18,6,18],[5,19,6,19],[5,0,6,0],[5,1,5,3],[14,21,14,23],[14,24,14,26],[15,0,15,2],[15,3,15,5],[15,7,15,9],[15,10,15,12],[15,14,15,16],[15,17,15,19],[15,21,15,23],[15,24,15,26],[14,0,14,2],[14,3,14,5],[14,7,14,9],[14,10,14,12],[14,14,14,16],[14,17,14,19],[16,21,18,23],[16,24,18,26],[20,0,21,13],[20,14,21,26],[22,0,22,26],[16,0,18,2],[16,3,18,5],[16,7,18,9],[16,10,18,12],[16,14,18,16],[16,17,18,19]]}
["Nom",{"$f":"VLOOKUP(C4,Liste!B:K,2,FALSE)","v":{"$error":"#N/A"}},null,null,null,null,null,"Nom",{"$f":"VLOOKUP(J4,Liste!B:C,2,FALSE)","v":{"$error":"#N/A"}},null,null,null,null,null,"Nom",{"$f":"VLOOKUP(Q4,Liste!B:C,2,FALSE)","v":{"$error":"#N/A"}},null,null,null,null,null,"Nom",{"$f":"VLOOKUP(X4,Liste!B:C,2,FALSE)","v":{"$error":"#N/A"}}]
["Club",{"$f":"VLOOKUP(C4,Liste!B:D,3,FALSE)","v":{"$error":"#N/A"}},null,null,null,null,null,"Club",{"$f":"VLOOKUP(J4,Liste!B:D,3,FALSE)","v":{"$error":"#N/A"}},null,null,null,null,null,"Club",{"$f":"VLOOKUP(Q4,Liste!B:D,3,FALSE)","v":{"$error":"#N/A"}},null,null,null,null,null,"Club",{"$f":"VLOOKUP(X4,Liste!B:D,3,FALSE)","v":{"$error":"#N/A"}}]
["Classement",null,{"$f":"VLOOKUP(C4,Liste!B:K,5,FALSE)","v":{"$error":"#N/A"}},null,null,null,null,"Classement",null,{"$f":"VLOOKUP(J4,Liste!B:K,5,FALSE)","v":{"$error":"#N/A"}},null,null,null,null,"Classement",null,{"$f":"VLOOKUP(Q4,Liste!B:F,5,FALSE)","v":{"$error":"#N/A"}},null,null,null,null,"Classement",null,{"$f":"VLOOKUP(X4,Liste!B:F,5,FALSE)","v":{"$error":"#N/A"}}]
["N° cible",null,{"$f":"Feuil1!H23","v":"8E"},null,null,null,null,"N° cible",null,{"$f":"Feuil1!H24","v":"8F"},null,null,null,null,"N° cible",null,{"$f":"Feuil1!H25","v":"8G"},null,null,null,null,"N° cible",null,{"$f":"Feuil1!H26","v":"8H"}]
[{"$f":"Feuil1!D4","v":"2ème Tir"},null,"Licence",null,{"$f":"VLOOKUP(C4,Liste!B:K,4,FALSE)","v":{"$error":"#N/A"}},null,null,{"$f":"Feuil1!D4","v":"2ème Tir"},null,"Licence",null,{"$f":"VLOOKUP(J4,Liste!B:K,4,FALSE)","v":{"$error":"#N/A"}},null,null,{"$f":"Feuil1!D4","v":"2ème Tir"},null,"Licence",null,{"$f":"VLOOKUP(Q4,Liste!B:E,4,FALSE)","v":{"$error":"#N/A"}},null,null,{"$f":"Feuil1!D4","v":"2ème Tir"},null,"Licence",null,{"$f":"VLOOKUP(X4,Liste!B:E,4,FALSE)","v":{"$error":"#N/A"}}]
["N°","Points par flèches",null,null,"Total 3 flèches","Total cumulé",null,{"$f":"A6","v":"N°"},{"$f":"B6","v":"Points par flèches"},null,null,"Total 3 flèches","Total cumulé",null,"N°","Points par flèches",null,null,"Total 3 flèches","Total cumulé",null,{"$f":"O6","v":"N°"},{"$f":"P6","v":"Points par flèches"},null,null,"Total 3 flèches","Total cumulé"]
[null,1,2,3,null,null,null,null,1,2,3,null,null,null,null,1,2,3,null,null,null,null,1,2,3]
[1,null,null,null,null,null,null,1,null,null,null,null,null,null,1,null,null,null,null,null,null,1]
[2,null,null,null,null,null,null,2,null,null,null,null,null,null,2,null,null,null,null,null,null,2]
[3,null,null,null,null,null,null,3,null,null,null,null,null,null,3,null,null,null,null,null,null,3]
[4,null,null,null,null,null,null,4,null,null,null,null,null,null,4,null,null,null,null,null,null,4]
[5,null,null,null,null,null,null,5,null,null,null,null,null,null,5,null,null,null,null,null,null,5]
[6,null,null,null,null,null,null,6,null,null,null,null,null,null,6,null,null,null,null,null,null,6]
["Total distance",null,null,null,null,null,null,"Total distance",null,null,null,null,null,null,"Total distance",null,null,null,null,null,null,"Total distance"]
[10,null,null,9,null,null,null,10,null,null,9,null,null,null,10,null,null,9,null,null,null,10,null,null,9]
[]
["Archer",null,null,"Marqueur",null,null,null,"Archer",null,null,"Marqueur",null,null,null,"Archer",null,null,"Marqueur",null,null,null,"Archer",null,null,"Marqueur"]
[]
[]
[]
[{"$f":"Feuil1!D5","v":"Cie La Flèche Macairoise"},null,null,null,null,null,null,null,null,null,null,null,null,null,{"$f":"Feuil1!D6","v":"2ème étape Challenge CHAIRMARTIN"}]
[]
[{"$f":"Feuil1!D7","v":"2023-01-14"}]

{"sheet":"cible 9","index":148,"n_rows":23,"n_cols":27,"rows_kept":23,"cut":false,"hidden":false,"merged":[[0,1,0,5],[0,8,0,12],[0,15,0,19],[0,22,0,26],[1,1,1,5],[1,8,1,12],[1,15,1,19],[1,22,1,26],[2,21,2,22],[2,23,2,26],[3,0,3,1],[3,7,3,8],[3,14,3,15],[3,21,3,22],[2,0,2,1],[2,2,2,6],[2,7,2,8],[2,9,2,13],[2,14,2,15],[2,16,2,20],[4,0,4,1],[4,2,4,3],[4,4,4,5],[4,7,4,8],[4,9,4,10],[4,16,4,17],[4,18,4,19],[4,21,4,22],[4,23,4,24],[4,25,4,26],[5,4,6,4],[5,5,6,5],[5,7,6,7],[5,8,5,10],[4,14,4,15],[4,11,4,12],[5,21,6,21],[5,22,5,24],[5,25,6,25],[5,26,6,26],[13,0,13,4],[13,7,13,11],[13,14,13,18],[13,21,13,25],[5,11,6,11],[5,12,6,12],[5,14,6,14],[5,15,5,17],[5,18,6,18],[5,19,6,19],[5,0,6,0],[5,1,5,3],[14,21,14,23],[14,24,14,26],[15,0,15,2],[15,3,15,5],[15,7,15,9],[15,10,15,12],[15,14,15,16],[15,17,15,19],[15,21,15,23],[15,24,15,26],[14,0,14,2],[14,3,14,5],[14,7,14,9],[14,10,14,12],[14,14,14,16],[14,17,14,19],[16,21,18,23],[16,24,18,26],[20,0,21,13],[20,14,21,26],[22,0,22,26],[16,0,18,2],[16,3,18,5],[16,7,18,9],[16,10,18,12],[16,14,18,16],[16,17,18,19]]}
["Nom",{"$f":"VLOOKUP(C4,Liste!B:K,2,FALSE)","v":{"$error":"#N/A"}},null,null,null,null,null,"Nom",{"$f":"VLOOKUP(J4,Liste!B:C,2,FALSE)","v":{"$error":"#N/A"}},null,null,null,null,null,"Nom",{"$f":"VLOOKUP(Q4,Liste!B:C,2,FALSE)","v":{"$error":"#N/A"}},null,null,null,null,null,"Nom",{"$f":"VLOOKUP(X4,Liste!B:C,2,FALSE)","v":{"$error":"#N/A"}}]
["Club",{"$f":"VLOOKUP(C4,Liste!B:D,3,FALSE)","v":{"$error":"#N/A"}},null,null,null,null,null,"Club",{"$f":"VLOOKUP(J4,Liste!B:D,3,FALSE)","v":{"$error":"#N/A"}},null,null,null,null,null,"Club",{"$f":"VLOOKUP(Q4,Liste!B:D,3,FALSE)","v":{"$error":"#N/A"}},null,null,null,null,null,"Club",{"$f":"VLOOKUP(X4,Liste!B:D,3,FALSE)","v":{"$error":"#N/A"}}]
["Classement",null,{"$f":"VLOOKUP(C4,Liste!B:K,5,FALSE)","v":{"$error":"#N/A"}},null,null,null,null,"Classement",null,{"$f":"VLOOKUP(J4,Liste!B:K,5,FALSE)","v":{"$error":"#N/A"}},null,null,null,null,"Classement",null,{"$f":"VLOOKUP(Q4,Liste!B:F,5,FALSE)","v":{"$error":"#N/A"}},null,null,null,null,"Classement",null,{"$f":"VLOOKUP(X4,Liste!B:F,5,FALSE)","v":{"$error":"#N/A"}}]
["N° cible",null,{"$f":"Feuil1!J11","v":"9A"},null,null,null,null,"N° cible",null,{"$f":"Feuil1!J12","v":"9B"},null,null,null,null,"N° cible",null,{"$f":"Feuil1!J13","v":"9C"},null,null,null,null,"N° cible",null,{"$f":"Feuil1!J14","v":"9D"}]
[{"$f":"Feuil1!D4","v":"2ème Tir"},null,"Licence",null,{"$f":"VLOOKUP(C4,Liste!B:K,4,FALSE)","v":{"$error":"#N/A"}},null,null,{"$f":"Feuil1!D4","v":"2ème Tir"},null,"Licence",null,{"$f":"VLOOKUP(J4,Liste!B:K,4,FALSE)","v":{"$error":"#N/A"}},null,null,{"$f":"Feuil1!D4","v":"2ème Tir"},null,"Licence",null,{"$f":"VLOOKUP(Q4,Liste!B:E,4,FALSE)","v":{"$error":"#N/A"}},null,null,{"$f":"Feuil1!D4","v":"2ème Tir"},null,"Licence",null,{"$f":"VLOOKUP(X4,Liste!B:E,4,FALSE)","v":{"$error":"#N/A"}}]
["N°","Points par flèches",null,null,"Total 3 flèches","Total cumulé",null,{"$f":"A6","v":"N°"},{"$f":"B6","v":"Points par flèches"},null,null,"Total 3 flèches","Total cumulé",null,"N°","Points par flèches",null,null,"Total 3 flèches","Total cumulé",null,{"$f":"O6","v":"N°"},{"$f":"P6","v":"Points par flèches"},null,null,"Total 3 flèches","Total cumulé"]
[null,1,2,3,null,null,null,null,1,2,3,null,null,null,null,1,2,3,null,null,null,null,1,2,3]
[1,null,null,null,null,null,null,1,null,null,null,null,null,null,1,null,null,null,null,null,null,1]
[2,null,null,null,null,null,null,2,null,null,null,null,null,null,2,null,null,null,null,null,null,2]
[3,null,null,null,null,null,null,3,null,null,null,null,null,null,3,null,null,null,null,null,null,3]
[4,null,null,null,null,null,null,4,null,null,null,null,null,null,4,null,null,null,null,null,null,4]
[5,null,null,null,null,null,null,5,null,null,null,null,null,null,5,null,null,null,null,null,null,5]
[6,null,null,null,null,null,null,6,null,null,null,null,null,null,6,null,null,null,null,null,null,6]
["Total distance",null,null,null,null,null,null,"Total distance",null,null,null,null,null,null,"Total distance",null,null,null,null,null,null,"Total distance"]
[10,null,null,9,null,null,null,10,null,null,9,null,null,null,10,null,null,9,null,null,null,10,null,null,9]
[]
["Archer",null,null,"Marqueur",null,null,null,"Archer",null,null,"Marqueur",null,null,null,"Archer",null,null,"Marqueur",null,null,null,"Archer",null,null,"Marqueur"]
[]
[]
[]
[{"$f":"Feuil1!D5","v":"Cie La Flèche Macairoise"},null,null,null,null,null,null,null,null,null,null,null,null,null,{"$f":"Feuil1!D6","v":"2ème étape Challenge CHAIRMARTIN"}]
[]
[{"$f":"Feuil1!D7","v":"2023-01-14"}]

{"sheet":"cible 9 (2)","index":149,"n_rows":23,"n_cols":27,"rows_kept":23,"cut":false,"hidden":false,"merged":[[0,1,0,5],[0,8,0,12],[0,15,0,19],[0,22,0,26],[1,1,1,5],[1,8,1,12],[1,15,1,19],[1,22,1,26],[2,21,2,22],[2,23,2,26],[3,0,3,1],[3,7,3,8],[3,14,3,15],[3,21,3,22],[2,0,2,1],[2,2,2,6],[2,7,2,8],[2,9,2,13],[2,14,2,15],[2,16,2,20],[4,0,4,1],[4,2,4,3],[4,4,4,5],[4,7,4,8],[4,9,4,10],[4,16,4,17],[4,18,4,19],[4,21,4,22],[4,23,4,24],[4,25,4,26],[5,4,6,4],[5,5,6,5],[5,7,6,7],[5,8,5,10],[4,14,4,15],[4,11,4,12],[5,21,6,21],[5,22,5,24],[5,25,6,25],[5,26,6,26],[13,0,13,4],[13,7,13,11],[13,14,13,18],[13,21,13,25],[5,11,6,11],[5,12,6,12],[5,14,6,14],[5,15,5,17],[5,18,6,18],[5,19,6,19],[5,0,6,0],[5,1,5,3],[14,21,14,23],[14,24,14,26],[15,0,15,2],[15,3,15,5],[15,7,15,9],[15,10,15,12],[15,14,15,16],[15,17,15,19],[15,21,15,23],[15,24,15,26],[14,0,14,2],[14,3,14,5],[14,7,14,9],[14,10,14,12],[14,14,14,16],[14,17,14,19],[16,21,18,23],[16,24,18,26],[20,0,21,13],[20,14,21,26],[22,0,22,26],[16,0,18,2],[16,3,18,5],[16,7,18,9],[16,10,18,12],[16,14,18,16],[16,17,18,19]]}
["Nom",{"$f":"VLOOKUP(C4,Liste!B:K,2,FALSE)","v":{"$error":"#N/A"}},null,null,null,null,null,"Nom",{"$f":"VLOOKUP(J4,Liste!B:C,2,FALSE)","v":{"$error":"#N/A"}},null,null,null,null,null,"Nom",{"$f":"VLOOKUP(Q4,Liste!B:C,2,FALSE)","v":{"$error":"#N/A"}},null,null,null,null,null,"Nom",{"$f":"VLOOKUP(X4,Liste!B:C,2,FALSE)","v":{"$error":"#N/A"}}]
["Club",{"$f":"VLOOKUP(C4,Liste!B:D,3,FALSE)","v":{"$error":"#N/A"}},null,null,null,null,null,"Club",{"$f":"VLOOKUP(J4,Liste!B:D,3,FALSE)","v":{"$error":"#N/A"}},null,null,null,null,null,"Club",{"$f":"VLOOKUP(Q4,Liste!B:D,3,FALSE)","v":{"$error":"#N/A"}},null,null,null,null,null,"Club",{"$f":"VLOOKUP(X4,Liste!B:D,3,FALSE)","v":{"$error":"#N/A"}}]
["Classement",null,{"$f":"VLOOKUP(C4,Liste!B:K,5,FALSE)","v":{"$error":"#N/A"}},null,null,null,null,"Classement",null,{"$f":"VLOOKUP(J4,Liste!B:K,5,FALSE)","v":{"$error":"#N/A"}},null,null,null,null,"Classement",null,{"$f":"VLOOKUP(Q4,Liste!B:F,5,FALSE)","v":{"$error":"#N/A"}},null,null,null,null,"Classement",null,{"$f":"VLOOKUP(X4,Liste!B:F,5,FALSE)","v":{"$error":"#N/A"}}]
["N° cible",null,{"$f":"Feuil1!J15","v":"9E"},null,null,null,null,"N° cible",null,{"$f":"Feuil1!J16","v":"9F"},null,null,null,null,"N° cible",null,{"$f":"Feuil1!J17","v":"9G"},null,null,null,null,"N° cible",null,{"$f":"Feuil1!J18","v":"9H"}]
[{"$f":"Feuil1!D4","v":"2ème Tir"},null,"Licence",null,{"$f":"VLOOKUP(C4,Liste!B:K,4,FALSE)","v":{"$error":"#N/A"}},null,null,{"$f":"Feuil1!D4","v":"2ème Tir"},null,"Licence",null,{"$f":"VLOOKUP(J4,Liste!B:K,4,FALSE)","v":{"$error":"#N/A"}},null,null,{"$f":"Feuil1!D4","v":"2ème Tir"},null,"Licence",null,{"$f":"VLOOKUP(Q4,Liste!B:E,4,FALSE)","v":{"$error":"#N/A"}},null,null,{"$f":"Feuil1!D4","v":"2ème Tir"},null,"Licence",null,{"$f":"VLOOKUP(X4,Liste!B:E,4,FALSE)","v":{"$error":"#N/A"}}]
["N°","Points par flèches",null,null,"Total 3 flèches","Total cumulé",null,{"$f":"A6","v":"N°"},{"$f":"B6","v":"Points par flèches"},null,null,"Total 3 flèches","Total cumulé",null,"N°","Points par flèches",null,null,"Total 3 flèches","Total cumulé",null,{"$f":"O6","v":"N°"},{"$f":"P6","v":"Points par flèches"},null,null,"Total 3 flèches","Total cumulé"]
[null,1,2,3,null,null,null,null,1,2,3,null,null,null,null,1,2,3,null,null,null,null,1,2,3]
[1,null,null,null,null,null,null,1,null,null,null,null,null,null,1,null,null,null,null,null,null,1]
[2,null,null,null,null,null,null,2,null,null,null,null,null,null,2,null,null,null,null,null,null,2]
[3,null,null,null,null,null,null,3,null,null,null,null,null,null,3,null,null,null,null,null,null,3]
[4,null,null,null,null,null,null,4,null,null,null,null,null,null,4,null,null,null,null,null,null,4]
[5,null,null,null,null,null,null,5,null,null,null,null,null,null,5,null,null,null,null,null,null,5]
[6,null,null,null,null,null,null,6,null,null,null,null,null,null,6,null,null,null,null,null,null,6]
["Total distance",null,null,null,null,null,null,"Total distance",null,null,null,null,null,null,"Total distance",null,null,null,null,null,null,"Total distance"]
[10,null,null,9,null,null,null,10,null,null,9,null,null,null,10,null,null,9,null,null,null,10,null,null,9]
[]
["Archer",null,null,"Marqueur",null,null,null,"Archer",null,null,"Marqueur",null,null,null,"Archer",null,null,"Marqueur",null,null,null,"Archer",null,null,"Marqueur"]
[]
[]
[]
[{"$f":"Feuil1!D5","v":"Cie La Flèche Macairoise"},null,null,null,null,null,null,null,null,null,null,null,null,null,{"$f":"Feuil1!D6","v":"2ème étape Challenge CHAIRMARTIN"}]
[]
[{"$f":"Feuil1!D7","v":"2023-01-14"}]

{"sheet":"cible 10","index":150,"n_rows":23,"n_cols":27,"rows_kept":23,"cut":false,"hidden":false,"merged":[[0,1,0,5],[0,8,0,12],[0,15,0,19],[0,22,0,26],[1,1,1,5],[1,8,1,12],[1,15,1,19],[1,22,1,26],[2,21,2,22],[2,23,2,26],[3,0,3,1],[3,7,3,8],[3,14,3,15],[3,21,3,22],[2,0,2,1],[2,2,2,6],[2,7,2,8],[2,9,2,13],[2,14,2,15],[2,16,2,20],[4,0,4,1],[4,2,4,3],[4,4,4,5],[4,7,4,8],[4,9,4,10],[4,16,4,17],[4,18,4,19],[4,21,4,22],[4,23,4,24],[4,25,4,26],[5,4,6,4],[5,5,6,5],[5,7,6,7],[5,8,5,10],[4,14,4,15],[4,11,4,12],[5,21,6,21],[5,22,5,24],[5,25,6,25],[5,26,6,26],[13,0,13,4],[13,7,13,11],[13,14,13,18],[13,21,13,25],[5,11,6,11],[5,12,6,12],[5,14,6,14],[5,15,5,17],[5,18,6,18],[5,19,6,19],[5,0,6,0],[5,1,5,3],[14,21,14,23],[14,24,14,26],[15,0,15,2],[15,3,15,5],[15,7,15,9],[15,10,15,12],[15,14,15,16],[15,17,15,19],[15,21,15,23],[15,24,15,26],[14,0,14,2],[14,3,14,5],[14,7,14,9],[14,10,14,12],[14,14,14,16],[14,17,14,19],[16,21,18,23],[16,24,18,26],[20,0,21,13],[20,14,21,26],[22,0,22,26],[16,0,18,2],[16,3,18,5],[16,7,18,9],[16,10,18,12],[16,14,18,16],[16,17,18,19]]}
["Nom",{"$f":"VLOOKUP(C4,Liste!B:K,2,FALSE)","v":{"$error":"#N/A"}},null,null,null,null,null,"Nom",{"$f":"VLOOKUP(J4,Liste!B:C,2,FALSE)","v":{"$error":"#N/A"}},null,null,null,null,null,"Nom",{"$f":"VLOOKUP(Q4,Liste!B:C,2,FALSE)","v":{"$error":"#N/A"}},null,null,null,null,null,"Nom",{"$f":"VLOOKUP(X4,Liste!B:C,2,FALSE)","v":{"$error":"#N/A"}}]
["Club",{"$f":"VLOOKUP(C4,Liste!B:D,3,FALSE)","v":{"$error":"#N/A"}},null,null,null,null,null,"Club",{"$f":"VLOOKUP(J4,Liste!B:D,3,FALSE)","v":{"$error":"#N/A"}},null,null,null,null,null,"Club",{"$f":"VLOOKUP(Q4,Liste!B:D,3,FALSE)","v":{"$error":"#N/A"}},null,null,null,null,null,"Club",{"$f":"VLOOKUP(X4,Liste!B:D,3,FALSE)","v":{"$error":"#N/A"}}]
["Classement",null,{"$f":"VLOOKUP(C4,Liste!B:K,5,FALSE)","v":{"$error":"#N/A"}},null,null,null,null,"Classement",null,{"$f":"VLOOKUP(J4,Liste!B:K,5,FALSE)","v":{"$error":"#N/A"}},null,null,null,null,"Classement",null,{"$f":"VLOOKUP(Q4,Liste!B:F,5,FALSE)","v":{"$error":"#N/A"}},null,null,null,null,"Classement",null,{"$f":"VLOOKUP(X4,Liste!B:F,5,FALSE)","v":{"$error":"#N/A"}}]
["N° cible",null,{"$f":"Feuil1!J19","v":"10A"},null,null,null,null,"N° cible",null,{"$f":"Feuil1!J20","v":"10B"},null,null,null,null,"N° cible",null,{"$f":"Feuil1!J21","v":"10C"},null,null,null,null,"N° cible",null,{"$f":"Feuil1!J22","v":"10D"}]
[{"$f":"Feuil1!D4","v":"2ème Tir"},null,"Licence",null,{"$f":"VLOOKUP(C4,Liste!B:K,4,FALSE)","v":{"$error":"#N/A"}},null,null,{"$f":"Feuil1!D4","v":"2ème Tir"},null,"Licence",null,{"$f":"VLOOKUP(J4,Liste!B:K,4,FALSE)","v":{"$error":"#N/A"}},null,null,{"$f":"Feuil1!D4","v":"2ème Tir"},null,"Licence",null,{"$f":"VLOOKUP(Q4,Liste!B:E,4,FALSE)","v":{"$error":"#N/A"}},null,null,{"$f":"Feuil1!D4","v":"2ème Tir"},null,"Licence",null,{"$f":"VLOOKUP(X4,Liste!B:E,4,FALSE)","v":{"$error":"#N/A"}}]
["N°","Points par flèches",null,null,"Total 3 flèches","Total cumulé",null,{"$f":"A6","v":"N°"},{"$f":"B6","v":"Points par flèches"},null,null,"Total 3 flèches","Total cumulé",null,"N°","Points par flèches",null,null,"Total 3 flèches","Total cumulé",null,{"$f":"O6","v":"N°"},{"$f":"P6","v":"Points par flèches"},null,null,"Total 3 flèches","Total cumulé"]
[null,1,2,3,null,null,null,null,1,2,3,null,null,null,null,1,2,3,null,null,null,null,1,2,3]
[1,null,null,null,null,null,null,1,null,null,null,null,null,null,1,null,null,null,null,null,null,1]
[2,null,null,null,null,null,null,2,null,null,null,null,null,null,2,null,null,null,null,null,null,2]
[3,null,null,null,null,null,null,3,null,null,null,null,null,null,3,null,null,null,null,null,null,3]
[4,null,null,null,null,null,null,4,null,null,null,null,null,null,4,null,null,null,null,null,null,4]
[5,null,null,null,null,null,null,5,null,null,null,null,null,null,5,null,null,null,null,null,null,5]
[6,null,null,null,null,null,null,6,null,null,null,null,null,null,6,null,null,null,null,null,null,6]
["Total distance",null,null,null,null,null,null,"Total distance",null,null,null,null,null,null,"Total distance",null,null,null,null,null,null,"Total distance"]
[10,null,null,9,null,null,null,10,null,null,9,null,null,null,10,null,null,9,null,null,null,10,null,null,9]
[]
["Archer",null,null,"Marqueur",null,null,null,"Archer",null,null,"Marqueur",null,null,null,"Archer",null,null,"Marqueur",null,null,null,"Archer",null,null,"Marqueur"]
[]
[]
[]
[{"$f":"Feuil1!D5","v":"Cie La Flèche Macairoise"},null,null,null,null,null,null,null,null,null,null,null,null,null,{"$f":"Feuil1!D6","v":"2ème étape Challenge CHAIRMARTIN"}]
[]
[{"$f":"Feuil1!D7","v":"2023-01-14"}]

{"sheet":"cible 10 (2)","index":151,"n_rows":23,"n_cols":27,"rows_kept":23,"cut":false,"hidden":false,"merged":[[0,1,0,5],[0,8,0,12],[0,15,0,19],[0,22,0,26],[1,1,1,5],[1,8,1,12],[1,15,1,19],[1,22,1,26],[2,21,2,22],[2,23,2,26],[3,0,3,1],[3,7,3,8],[3,14,3,15],[3,21,3,22],[2,0,2,1],[2,2,2,6],[2,7,2,8],[2,9,2,13],[2,14,2,15],[2,16,2,20],[4,0,4,1],[4,2,4,3],[4,4,4,5],[4,7,4,8],[4,9,4,10],[4,16,4,17],[4,18,4,19],[4,21,4,22],[4,23,4,24],[4,25,4,26],[5,4,6,4],[5,5,6,5],[5,7,6,7],[5,8,5,10],[4,14,4,15],[4,11,4,12],[5,21,6,21],[5,22,5,24],[5,25,6,25],[5,26,6,26],[13,0,13,4],[13,7,13,11],[13,14,13,18],[13,21,13,25],[5,11,6,11],[5,12,6,12],[5,14,6,14],[5,15,5,17],[5,18,6,18],[5,19,6,19],[5,0,6,0],[5,1,5,3],[14,21,14,23],[14,24,14,26],[15,0,15,2],[15,3,15,5],[15,7,15,9],[15,10,15,12],[15,14,15,16],[15,17,15,19],[15,21,15,23],[15,24,15,26],[14,0,14,2],[14,3,14,5],[14,7,14,9],[14,10,14,12],[14,14,14,16],[14,17,14,19],[16,21,18,23],[16,24,18,26],[20,0,21,13],[20,14,21,26],[22,0,22,26],[16,0,18,2],[16,3,18,5],[16,7,18,9],[16,10,18,12],[16,14,18,16],[16,17,18,19]]}
["Nom",{"$f":"VLOOKUP(C4,Liste!B:K,2,FALSE)","v":{"$error":"#N/A"}},null,null,null,null,null,"Nom",{"$f":"VLOOKUP(J4,Liste!B:C,2,FALSE)","v":{"$error":"#N/A"}},null,null,null,null,null,"Nom",{"$f":"VLOOKUP(Q4,Liste!B:C,2,FALSE)","v":{"$error":"#N/A"}},null,null,null,null,null,"Nom",{"$f":"VLOOKUP(X4,Liste!B:C,2,FALSE)","v":{"$error":"#N/A"}}]
["Club",{"$f":"VLOOKUP(C4,Liste!B:D,3,FALSE)","v":{"$error":"#N/A"}},null,null,null,null,null,"Club",{"$f":"VLOOKUP(J4,Liste!B:D,3,FALSE)","v":{"$error":"#N/A"}},null,null,null,null,null,"Club",{"$f":"VLOOKUP(Q4,Liste!B:D,3,FALSE)","v":{"$error":"#N/A"}},null,null,null,null,null,"Club",{"$f":"VLOOKUP(X4,Liste!B:D,3,FALSE)","v":{"$error":"#N/A"}}]
["Classement",null,{"$f":"VLOOKUP(C4,Liste!B:K,5,FALSE)","v":{"$error":"#N/A"}},null,null,null,null,"Classement",null,{"$f":"VLOOKUP(J4,Liste!B:K,5,FALSE)","v":{"$error":"#N/A"}},null,null,null,null,"Classement",null,{"$f":"VLOOKUP(Q4,Liste!B:F,5,FALSE)","v":{"$error":"#N/A"}},null,null,null,null,"Classement",null,{"$f":"VLOOKUP(X4,Liste!B:F,5,FALSE)","v":{"$error":"#N/A"}}]
["N° cible",null,{"$f":"Feuil1!J23","v":"10E"},null,null,null,null,"N° cible",null,{"$f":"Feuil1!J24","v":"10F"},null,null,null,null,"N° cible",null,{"$f":"Feuil1!J25","v":"10G"},null,null,null,null,"N° cible",null,{"$f":"Feuil1!J26","v":"10H"}]
[{"$f":"Feuil1!D4","v":"2ème Tir"},null,"Licence",null,{"$f":"VLOOKUP(C4,Liste!B:K,4,FALSE)","v":{"$error":"#N/A"}},null,null,{"$f":"Feuil1!D4","v":"2ème Tir"},null,"Licence",null,{"$f":"VLOOKUP(J4,Liste!B:K,4,FALSE)","v":{"$error":"#N/A"}},null,null,{"$f":"Feuil1!D4","v":"2ème Tir"},null,"Licence",null,{"$f":"VLOOKUP(Q4,Liste!B:E,4,FALSE)","v":{"$error":"#N/A"}},null,null,{"$f":"Feuil1!D4","v":"2ème Tir"},null,"Licence",null,{"$f":"VLOOKUP(X4,Liste!B:E,4,FALSE)","v":{"$error":"#N/A"}}]
["N°","Points par flèches",null,null,"Total 3 flèches","Total cumulé",null,{"$f":"A6","v":"N°"},{"$f":"B6","v":"Points par flèches"},null,null,"Total 3 flèches","Total cumulé",null,"N°","Points par flèches",null,null,"Total 3 flèches","Total cumulé",null,{"$f":"O6","v":"N°"},{"$f":"P6","v":"Points par flèches"},null,null,"Total 3 flèches","Total cumulé"]
[null,1,2,3,null,null,null,null,1,2,3,null,null,null,null,1,2,3,null,null,null,null,1,2,3]
[1,null,null,null,null,null,null,1,null,null,null,null,null,null,1,null,null,null,null,null,null,1]
[2,null,null,null,null,null,null,2,null,null,null,null,null,null,2,null,null,null,null,null,null,2]
[3,null,null,null,null,null,null,3,null,null,null,null,null,null,3,null,null,null,null,null,null,3]
[4,null,null,null,null,null,null,4,null,null,null,null,null,null,4,null,null,null,null,null,null,4]
[5,null,null,null,null,null,null,5,null,null,null,null,null,null,5,null,null,null,null,null,null,5]
[6,null,null,null,null,null,null,6,null,null,null,null,null,null,6,null,null,null,null,null,null,6]
["Total distance",null,null,null,null,null,null,"Total distance",null,null,null,null,null,null,"Total distance",null,null,null,null,null,null,"Total distance"]
[10,null,null,9,null,null,null,10,null,null,9,null,null,null,10,null,null,9,null,null,null,10,null,null,9]
[]
["Archer",null,null,"Marqueur",null,null,null,"Archer",null,null,"Marqueur",null,null,null,"Archer",null,null,"Marqueur",null,null,null,"Archer",null,null,"Marqueur"]
[]
[]
[]
[{"$f":"Feuil1!D5","v":"Cie La Flèche Macairoise"},null,null,null,null,null,null,null,null,null,null,null,null,null,{"$f":"Feuil1!D6","v":"2ème étape Challenge CHAIRMARTIN"}]
[]
[{"$f":"Feuil1!D7","v":"2023-01-14"}]

{"sheet":"cible 11","index":152,"n_rows":23,"n_cols":27,"rows_kept":23,"cut":false,"hidden":false,"merged":[[0,1,0,5],[0,8,0,12],[0,15,0,19],[0,22,0,26],[1,1,1,5],[1,8,1,12],[1,15,1,19],[1,22,1,26],[2,21,2,22],[2,23,2,26],[3,0,3,1],[3,7,3,8],[3,14,3,15],[3,21,3,22],[2,0,2,1],[2,2,2,6],[2,7,2,8],[2,9,2,13],[2,14,2,15],[2,16,2,20],[4,0,4,1],[4,2,4,3],[4,4,4,5],[4,7,4,8],[4,9,4,10],[4,16,4,17],[4,18,4,19],[4,21,4,22],[4,23,4,24],[4,25,4,26],[5,4,6,4],[5,5,6,5],[5,7,6,7],[5,8,5,10],[4,14,4,15],[4,11,4,12],[5,21,6,21],[5,22,5,24],[5,25,6,25],[5,26,6,26],[13,0,13,4],[13,7,13,11],[13,14,13,18],[13,21,13,25],[5,11,6,11],[5,12,6,12],[5,14,6,14],[5,15,5,17],[5,18,6,18],[5,19,6,19],[5,0,6,0],[5,1,5,3],[14,21,14,23],[14,24,14,26],[15,0,15,2],[15,3,15,5],[15,7,15,9],[15,10,15,12],[15,14,15,16],[15,17,15,19],[15,21,15,23],[15,24,15,26],[14,0,14,2],[14,3,14,5],[14,7,14,9],[14,10,14,12],[14,14,14,16],[14,17,14,19],[16,21,18,23],[16,24,18,26],[20,0,21,13],[20,14,21,26],[22,0,22,26],[16,0,18,2],[16,3,18,5],[16,7,18,9],[16,10,18,12],[16,14,18,16],[16,17,18,19]]}
["Nom",{"$f":"VLOOKUP(C4,Liste!B:K,2,FALSE)","v":{"$error":"#N/A"}},null,null,null,null,null,"Nom",{"$f":"VLOOKUP(J4,Liste!B:C,2,FALSE)","v":{"$error":"#N/A"}},null,null,null,null,null,"Nom",{"$f":"VLOOKUP(Q4,Liste!B:C,2,FALSE)","v":{"$error":"#N/A"}},null,null,null,null,null,"Nom",{"$f":"VLOOKUP(X4,Liste!B:C,2,FALSE)","v":{"$error":"#N/A"}}]
["Club",{"$f":"VLOOKUP(C4,Liste!B:D,3,FALSE)","v":{"$error":"#N/A"}},null,null,null,null,null,"Club",{"$f":"VLOOKUP(J4,Liste!B:D,3,FALSE)","v":{"$error":"#N/A"}},null,null,null,null,null,"Club",{"$f":"VLOOKUP(Q4,Liste!B:D,3,FALSE)","v":{"$error":"#N/A"}},null,null,null,null,null,"Club",{"$f":"VLOOKUP(X4,Liste!B:D,3,FALSE)","v":{"$error":"#N/A"}}]
["Classement",null,{"$f":"VLOOKUP(C4,Liste!B:K,5,FALSE)","v":{"$error":"#N/A"}},null,null,null,null,"Classement",null,{"$f":"VLOOKUP(J4,Liste!B:K,5,FALSE)","v":{"$error":"#N/A"}},null,null,null,null,"Classement",null,{"$f":"VLOOKUP(Q4,Liste!B:F,5,FALSE)","v":{"$error":"#N/A"}},null,null,null,null,"Classement",null,{"$f":"VLOOKUP(X4,Liste!B:F,5,FALSE)","v":{"$error":"#N/A"}}]
["N° cible",null,{"$f":"Feuil1!L11","v":"11A"},null,null,null,null,"N° cible",null,{"$f":"Feuil1!L12","v":"11B"},null,null,null,null,"N° cible",null,{"$f":"Feuil1!L13","v":"11C"},null,null,null,null,"N° cible",null,{"$f":"Feuil1!L14","v":"11D"}]
[{"$f":"Feuil1!D4","v":"2ème Tir"},null,"Licence",null,{"$f":"VLOOKUP(C4,Liste!B:K,4,FALSE)","v":{"$error":"#N/A"}},null,null,{"$f":"Feuil1!D4","v":"2ème Tir"},null,"Licence",null,{"$f":"VLOOKUP(J4,Liste!B:K,4,FALSE)","v":{"$error":"#N/A"}},null,null,{"$f":"Feuil1!D4","v":"2ème Tir"},null,"Licence",null,{"$f":"VLOOKUP(Q4,Liste!B:E,4,FALSE)","v":{"$error":"#N/A"}},null,null,{"$f":"Feuil1!D4","v":"2ème Tir"},null,"Licence",null,{"$f":"VLOOKUP(X4,Liste!B:E,4,FALSE)","v":{"$error":"#N/A"}}]
["N°","Points par flèches",null,null,"Total 3 flèches","Total cumulé",null,{"$f":"A6","v":"N°"},{"$f":"B6","v":"Points par flèches"},null,null,"Total 3 flèches","Total cumulé",null,"N°","Points par flèches",null,null,"Total 3 flèches","Total cumulé",null,{"$f":"O6","v":"N°"},{"$f":"P6","v":"Points par flèches"},null,null,"Total 3 flèches","Total cumulé"]
[null,1,2,3,null,null,null,null,1,2,3,null,null,null,null,1,2,3,null,null,null,null,1,2,3]
[1,null,null,null,null,null,null,1,null,null,null,null,null,null,1,null,null,null,null,null,null,1]
[2,null,null,null,null,null,null,2,null,null,null,null,null,null,2,null,null,null,null,null,null,2]
[3,null,null,null,null,null,null,3,null,null,null,null,null,null,3,null,null,null,null,null,null,3]
[4,null,null,null,null,null,null,4,null,null,null,null,null,null,4,null,null,null,null,null,null,4]
[5,null,null,null,null,null,null,5,null,null,null,null,null,null,5,null,null,null,null,null,null,5]
[6,null,null,null,null,null,null,6,null,null,null,null,null,null,6,null,null,null,null,null,null,6]
["Total distance",null,null,null,null,null,null,"Total distance",null,null,null,null,null,null,"Total distance",null,null,null,null,null,null,"Total distance"]
[10,null,null,9,null,null,null,10,null,null,9,null,null,null,10,null,null,9,null,null,null,10,null,null,9]
[]
["Archer",null,null,"Marqueur",null,null,null,"Archer",null,null,"Marqueur",null,null,null,"Archer",null,null,"Marqueur",null,null,null,"Archer",null,null,"Marqueur"]
[]
[]
[]
[{"$f":"Feuil1!D5","v":"Cie La Flèche Macairoise"},null,null,null,null,null,null,null,null,null,null,null,null,null,{"$f":"Feuil1!D6","v":"2ème étape Challenge CHAIRMARTIN"}]
[]
[{"$f":"Feuil1!D7","v":"2023-01-14"}]

{"sheet":"cible 11 (2)","index":153,"n_rows":23,"n_cols":27,"rows_kept":23,"cut":false,"hidden":false,"merged":[[0,1,0,5],[0,8,0,12],[0,15,0,19],[0,22,0,26],[1,1,1,5],[1,8,1,12],[1,15,1,19],[1,22,1,26],[2,21,2,22],[2,23,2,26],[3,0,3,1],[3,7,3,8],[3,14,3,15],[3,21,3,22],[2,0,2,1],[2,2,2,6],[2,7,2,8],[2,9,2,13],[2,14,2,15],[2,16,2,20],[4,0,4,1],[4,2,4,3],[4,4,4,5],[4,7,4,8],[4,9,4,10],[4,16,4,17],[4,18,4,19],[4,21,4,22],[4,23,4,24],[4,25,4,26],[5,4,6,4],[5,5,6,5],[5,7,6,7],[5,8,5,10],[4,14,4,15],[4,11,4,12],[5,21,6,21],[5,22,5,24],[5,25,6,25],[5,26,6,26],[13,0,13,4],[13,7,13,11],[13,14,13,18],[13,21,13,25],[5,11,6,11],[5,12,6,12],[5,14,6,14],[5,15,5,17],[5,18,6,18],[5,19,6,19],[5,0,6,0],[5,1,5,3],[14,21,14,23],[14,24,14,26],[15,0,15,2],[15,3,15,5],[15,7,15,9],[15,10,15,12],[15,14,15,16],[15,17,15,19],[15,21,15,23],[15,24,15,26],[14,0,14,2],[14,3,14,5],[14,7,14,9],[14,10,14,12],[14,14,14,16],[14,17,14,19],[16,21,18,23],[16,24,18,26],[20,0,21,13],[20,14,21,26],[22,0,22,26],[16,0,18,2],[16,3,18,5],[16,7,18,9],[16,10,18,12],[16,14,18,16],[16,17,18,19]]}
["Nom",{"$f":"VLOOKUP(C4,Liste!B:K,2,FALSE)","v":{"$error":"#N/A"}},null,null,null,null,null,"Nom",{"$f":"VLOOKUP(J4,Liste!B:C,2,FALSE)","v":{"$error":"#N/A"}},null,null,null,null,null,"Nom",{"$f":"VLOOKUP(Q4,Liste!B:C,2,FALSE)","v":{"$error":"#N/A"}},null,null,null,null,null,"Nom",{"$f":"VLOOKUP(X4,Liste!B:C,2,FALSE)","v":{"$error":"#N/A"}}]
["Club",{"$f":"VLOOKUP(C4,Liste!B:D,3,FALSE)","v":{"$error":"#N/A"}},null,null,null,null,null,"Club",{"$f":"VLOOKUP(J4,Liste!B:D,3,FALSE)","v":{"$error":"#N/A"}},null,null,null,null,null,"Club",{"$f":"VLOOKUP(Q4,Liste!B:D,3,FALSE)","v":{"$error":"#N/A"}},null,null,null,null,null,"Club",{"$f":"VLOOKUP(X4,Liste!B:D,3,FALSE)","v":{"$error":"#N/A"}}]
["Classement",null,{"$f":"VLOOKUP(C4,Liste!B:K,5,FALSE)","v":{"$error":"#N/A"}},null,null,null,null,"Classement",null,{"$f":"VLOOKUP(J4,Liste!B:K,5,FALSE)","v":{"$error":"#N/A"}},null,null,null,null,"Classement",null,{"$f":"VLOOKUP(Q4,Liste!B:F,5,FALSE)","v":{"$error":"#N/A"}},null,null,null,null,"Classement",null,{"$f":"VLOOKUP(X4,Liste!B:F,5,FALSE)","v":{"$error":"#N/A"}}]
["N° cible",null,{"$f":"Feuil1!L15","v":"11E"},null,null,null,null,"N° cible",null,{"$f":"Feuil1!L16","v":"11F"},null,null,null,null,"N° cible",null,{"$f":"Feuil1!L17","v":"11G"},null,null,null,null,"N° cible",null,{"$f":"Feuil1!L18","v":"11H"}]
[{"$f":"Feuil1!D4","v":"2ème Tir"},null,"Licence",null,{"$f":"VLOOKUP(C4,Liste!B:K,4,FALSE)","v":{"$error":"#N/A"}},null,null,{"$f":"Feuil1!D4","v":"2ème Tir"},null,"Licence",null,{"$f":"VLOOKUP(J4,Liste!B:K,4,FALSE)","v":{"$error":"#N/A"}},null,null,{"$f":"Feuil1!D4","v":"2ème Tir"},null,"Licence",null,{"$f":"VLOOKUP(Q4,Liste!B:E,4,FALSE)","v":{"$error":"#N/A"}},null,null,{"$f":"Feuil1!D4","v":"2ème Tir"},null,"Licence",null,{"$f":"VLOOKUP(X4,Liste!B:E,4,FALSE)","v":{"$error":"#N/A"}}]
["N°","Points par flèches",null,null,"Total 3 flèches","Total cumulé",null,{"$f":"A6","v":"N°"},{"$f":"B6","v":"Points par flèches"},null,null,"Total 3 flèches","Total cumulé",null,"N°","Points par flèches",null,null,"Total 3 flèches","Total cumulé",null,{"$f":"O6","v":"N°"},{"$f":"P6","v":"Points par flèches"},null,null,"Total 3 flèches","Total cumulé"]
[null,1,2,3,null,null,null,null,1,2,3,null,null,null,null,1,2,3,null,null,null,null,1,2,3]
[1,null,null,null,null,null,null,1,null,null,null,null,null,null,1,null,null,null,null,null,null,1]
[2,null,null,null,null,null,null,2,null,null,null,null,null,null,2,null,null,null,null,null,null,2]
[3,null,null,null,null,null,null,3,null,null,null,null,null,null,3,null,null,null,null,null,null,3]
[4,null,null,null,null,null,null,4,null,null,null,null,null,null,4,null,null,null,null,null,null,4]
[5,null,null,null,null,null,null,5,null,null,null,null,null,null,5,null,null,null,null,null,null,5]
[6,null,null,null,null,null,null,6,null,null,null,null,null,null,6,null,null,null,null,null,null,6]
["Total distance",null,null,null,null,null,null,"Total distance",null,null,null,null,null,null,"Total distance",null,null,null,null,null,null,"Total distance"]
[10,null,null,9,null,null,null,10,null,null,9,null,null,null,10,null,null,9,null,null,null,10,null,null,9]
[]
["Archer",null,null,"Marqueur",null,null,null,"Archer",null,null,"Marqueur",null,null,null,"Archer",null,null,"Marqueur",null,null,null,"Archer",null,null,"Marqueur"]
[]
[]
[]
[{"$f":"Feuil1!D5","v":"Cie La Flèche Macairoise"},null,null,null,null,null,null,null,null,null,null,null,null,null,{"$f":"Feuil1!D6","v":"2ème étape Challenge CHAIRMARTIN"}]
[]
[{"$f":"Feuil1!D7","v":"2023-01-14"}]

{"sheet":"cible 12","index":154,"n_rows":23,"n_cols":27,"rows_kept":23,"cut":false,"hidden":false,"merged":[[0,1,0,5],[0,8,0,12],[0,15,0,19],[0,22,0,26],[1,1,1,5],[1,8,1,12],[1,15,1,19],[1,22,1,26],[2,21,2,22],[2,23,2,26],[3,0,3,1],[3,7,3,8],[3,14,3,15],[3,21,3,22],[2,0,2,1],[2,2,2,6],[2,7,2,8],[2,9,2,13],[2,14,2,15],[2,16,2,20],[4,0,4,1],[4,2,4,3],[4,4,4,5],[4,7,4,8],[4,9,4,10],[4,16,4,17],[4,18,4,19],[4,21,4,22],[4,23,4,24],[4,25,4,26],[5,4,6,4],[5,5,6,5],[5,7,6,7],[5,8,5,10],[4,14,4,15],[4,11,4,12],[5,21,6,21],[5,22,5,24],[5,25,6,25],[5,26,6,26],[13,0,13,4],[13,7,13,11],[13,14,13,18],[13,21,13,25],[5,11,6,11],[5,12,6,12],[5,14,6,14],[5,15,5,17],[5,18,6,18],[5,19,6,19],[5,0,6,0],[5,1,5,3],[14,21,14,23],[14,24,14,26],[15,0,15,2],[15,3,15,5],[15,7,15,9],[15,10,15,12],[15,14,15,16],[15,17,15,19],[15,21,15,23],[15,24,15,26],[14,0,14,2],[14,3,14,5],[14,7,14,9],[14,10,14,12],[14,14,14,16],[14,17,14,19],[16,21,18,23],[16,24,18,26],[20,0,21,13],[20,14,21,26],[22,0,22,26],[16,0,18,2],[16,3,18,5],[16,7,18,9],[16,10,18,12],[16,14,18,16],[16,17,18,19]]}
["Nom",{"$f":"VLOOKUP(C4,Liste!B:K,2,FALSE)","v":{"$error":"#N/A"}},null,null,null,null,null,"Nom",{"$f":"VLOOKUP(J4,Liste!B:C,2,FALSE)","v":{"$error":"#N/A"}},null,null,null,null,null,"Nom",{"$f":"VLOOKUP(Q4,Liste!B:C,2,FALSE)","v":{"$error":"#N/A"}},null,null,null,null,null,"Nom",{"$f":"VLOOKUP(X4,Liste!B:C,2,FALSE)","v":{"$error":"#N/A"}}]
["Club",{"$f":"VLOOKUP(C4,Liste!B:D,3,FALSE)","v":{"$error":"#N/A"}},null,null,null,null,null,"Club",{"$f":"VLOOKUP(J4,Liste!B:D,3,FALSE)","v":{"$error":"#N/A"}},null,null,null,null,null,"Club",{"$f":"VLOOKUP(Q4,Liste!B:D,3,FALSE)","v":{"$error":"#N/A"}},null,null,null,null,null,"Club",{"$f":"VLOOKUP(X4,Liste!B:D,3,FALSE)","v":{"$error":"#N/A"}}]
["Classement",null,{"$f":"VLOOKUP(C4,Liste!B:K,5,FALSE)","v":{"$error":"#N/A"}},null,null,null,null,"Classement",null,{"$f":"VLOOKUP(J4,Liste!B:K,5,FALSE)","v":{"$error":"#N/A"}},null,null,null,null,"Classement",null,{"$f":"VLOOKUP(Q4,Liste!B:F,5,FALSE)","v":{"$error":"#N/A"}},null,null,null,null,"Classement",null,{"$f":"VLOOKUP(X4,Liste!B:F,5,FALSE)","v":{"$error":"#N/A"}}]
["N° cible",null,{"$f":"Feuil1!L19","v":"12A"},null,null,null,null,"N° cible",null,{"$f":"Feuil1!L20","v":"12B"},null,null,null,null,"N° cible",null,{"$f":"Feuil1!L21","v":"12C"},null,null,null,null,"N° cible",null,{"$f":"Feuil1!L22","v":"12D"}]
[{"$f":"Feuil1!D4","v":"2ème Tir"},null,"Licence",null,{"$f":"VLOOKUP(C4,Liste!B:K,4,FALSE)","v":{"$error":"#N/A"}},null,null,{"$f":"Feuil1!D4","v":"2ème Tir"},null,"Licence",null,{"$f":"VLOOKUP(J4,Liste!B:K,4,FALSE)","v":{"$error":"#N/A"}},null,null,{"$f":"Feuil1!D4","v":"2ème Tir"},null,"Licence",null,{"$f":"VLOOKUP(Q4,Liste!B:E,4,FALSE)","v":{"$error":"#N/A"}},null,null,{"$f":"Feuil1!D4","v":"2ème Tir"},null,"Licence",null,{"$f":"VLOOKUP(X4,Liste!B:E,4,FALSE)","v":{"$error":"#N/A"}}]
["N°","Points par flèches",null,null,"Total 3 flèches","Total cumulé",null,{"$f":"A6","v":"N°"},{"$f":"B6","v":"Points par flèches"},null,null,"Total 3 flèches","Total cumulé",null,"N°","Points par flèches",null,null,"Total 3 flèches","Total cumulé",null,{"$f":"O6","v":"N°"},{"$f":"P6","v":"Points par flèches"},null,null,"Total 3 flèches","Total cumulé"]
[null,1,2,3,null,null,null,null,1,2,3,null,null,null,null,1,2,3,null,null,null,null,1,2,3]
[1,null,null,null,null,null,null,1,null,null,null,null,null,null,1,null,null,null,null,null,null,1]
[2,null,null,null,null,null,null,2,null,null,null,null,null,null,2,null,null,null,null,null,null,2]
[3,null,null,null,null,null,null,3,null,null,null,null,null,null,3,null,null,null,null,null,null,3]
[4,null,null,null,null,null,null,4,null,null,null,null,null,null,4,null,null,null,null,null,null,4]
[5,null,null,null,null,null,null,5,null,null,null,null,null,null,5,null,null,null,null,null,null,5]
[6,null,null,null,null,null,null,6,null,null,null,null,null,null,6,null,null,null,null,null,null,6]
["Total distance",null,null,null,null,null,null,"Total distance",null,null,null,null,null,null,"Total distance",null,null,null,null,null,null,"Total distance"]
[10,null,null,9,null,null,null,10,null,null,9,null,null,null,10,null,null,9,null,null,null,10,null,null,9]
[]
["Archer",null,null,"Marqueur",null,null,null,"Archer",null,null,"Marqueur",null,null,null,"Archer",null,null,"Marqueur",null,null,null,"Archer",null,null,"Marqueur"]
[]
[]
[]
[{"$f":"Feuil1!D5","v":"Cie La Flèche Macairoise"},null,null,null,null,null,null,null,null,null,null,null,null,null,{"$f":"Feuil1!D6","v":"2ème étape Challenge CHAIRMARTIN"}]
[]
[{"$f":"Feuil1!D7","v":"2023-01-14"}]

{"sheet":"cible 12 (2)","index":155,"n_rows":23,"n_cols":27,"rows_kept":23,"cut":false,"hidden":false,"merged":[[0,1,0,5],[0,8,0,12],[0,15,0,19],[0,22,0,26],[1,1,1,5],[1,8,1,12],[1,15,1,19],[1,22,1,26],[2,21,2,22],[2,23,2,26],[3,0,3,1],[3,7,3,8],[3,14,3,15],[3,21,3,22],[2,0,2,1],[2,2,2,6],[2,7,2,8],[2,9,2,13],[2,14,2,15],[2,16,2,20],[4,0,4,1],[4,2,4,3],[4,4,4,5],[4,7,4,8],[4,9,4,10],[4,16,4,17],[4,18,4,19],[4,21,4,22],[4,23,4,24],[4,25,4,26],[5,4,6,4],[5,5,6,5],[5,7,6,7],[5,8,5,10],[4,14,4,15],[4,11,4,12],[5,21,6,21],[5,22,5,24],[5,25,6,25],[5,26,6,26],[13,0,13,4],[13,7,13,11],[13,14,13,18],[13,21,13,25],[5,11,6,11],[5,12,6,12],[5,14,6,14],[5,15,5,17],[5,18,6,18],[5,19,6,19],[5,0,6,0],[5,1,5,3],[14,21,14,23],[14,24,14,26],[15,0,15,2],[15,3,15,5],[15,7,15,9],[15,10,15,12],[15,14,15,16],[15,17,15,19],[15,21,15,23],[15,24,15,26],[14,0,14,2],[14,3,14,5],[14,7,14,9],[14,10,14,12],[14,14,14,16],[14,17,14,19],[16,21,18,23],[16,24,18,26],[20,0,21,13],[20,14,21,26],[22,0,22,26],[16,0,18,2],[16,3,18,5],[16,7,18,9],[16,10,18,12],[16,14,18,16],[16,17,18,19]]}
["Nom",{"$f":"VLOOKUP(C4,Liste!B:K,2,FALSE)","v":{"$error":"#N/A"}},null,null,null,null,null,"Nom",{"$f":"VLOOKUP(J4,Liste!B:C,2,FALSE)","v":{"$error":"#N/A"}},null,null,null,null,null,"Nom",{"$f":"VLOOKUP(Q4,Liste!B:C,2,FALSE)","v":{"$error":"#N/A"}},null,null,null,null,null,"Nom",{"$f":"VLOOKUP(X4,Liste!B:C,2,FALSE)","v":{"$error":"#N/A"}}]
["Club",{"$f":"VLOOKUP(C4,Liste!B:D,3,FALSE)","v":{"$error":"#N/A"}},null,null,null,null,null,"Club",{"$f":"VLOOKUP(J4,Liste!B:D,3,FALSE)","v":{"$error":"#N/A"}},null,null,null,null,null,"Club",{"$f":"VLOOKUP(Q4,Liste!B:D,3,FALSE)","v":{"$error":"#N/A"}},null,null,null,null,null,"Club",{"$f":"VLOOKUP(X4,Liste!B:D,3,FALSE)","v":{"$error":"#N/A"}}]
["Classement",null,{"$f":"VLOOKUP(C4,Liste!B:K,5,FALSE)","v":{"$error":"#N/A"}},null,null,null,null,"Classement",null,{"$f":"VLOOKUP(J4,Liste!B:K,5,FALSE)","v":{"$error":"#N/A"}},null,null,null,null,"Classement",null,{"$f":"VLOOKUP(Q4,Liste!B:F,5,FALSE)","v":{"$error":"#N/A"}},null,null,null,null,"Classement",null,{"$f":"VLOOKUP(X4,Liste!B:F,5,FALSE)","v":{"$error":"#N/A"}}]
["N° cible",null,{"$f":"Feuil1!L23","v":"12E"},null,null,null,null,"N° cible",null,{"$f":"Feuil1!L24","v":"12F"},null,null,null,null,"N° cible",null,{"$f":"Feuil1!L25","v":"12G"},null,null,null,null,"N° cible",null,{"$f":"Feuil1!L26","v":"12H"}]
[{"$f":"Feuil1!D4","v":"2ème Tir"},null,"Licence",null,{"$f":"VLOOKUP(C4,Liste!B:K,4,FALSE)","v":{"$error":"#N/A"}},null,null,{"$f":"Feuil1!D4","v":"2ème Tir"},null,"Licence",null,{"$f":"VLOOKUP(J4,Liste!B:K,4,FALSE)","v":{"$error":"#N/A"}},null,null,{"$f":"Feuil1!D4","v":"2ème Tir"},null,"Licence",null,{"$f":"VLOOKUP(Q4,Liste!B:E,4,FALSE)","v":{"$error":"#N/A"}},null,null,{"$f":"Feuil1!D4","v":"2ème Tir"},null,"Licence",null,{"$f":"VLOOKUP(X4,Liste!B:E,4,FALSE)","v":{"$error":"#N/A"}}]
["N°","Points par flèches",null,null,"Total 3 flèches","Total cumulé",null,{"$f":"A6","v":"N°"},{"$f":"B6","v":"Points par flèches"},null,null,"Total 3 flèches","Total cumulé",null,"N°","Points par flèches",null,null,"Total 3 flèches","Total cumulé",null,{"$f":"O6","v":"N°"},{"$f":"P6","v":"Points par flèches"},null,null,"Total 3 flèches","Total cumulé"]
[null,1,2,3,null,null,null,null,1,2,3,null,null,null,null,1,2,3,null,null,null,null,1,2,3]
[1,null,null,null,null,null,null,1,null,null,null,null,null,null,1,null,null,null,null,null,null,1]
[2,null,null,null,null,null,null,2,null,null,null,null,null,null,2,null,null,null,null,null,null,2]
[3,null,null,null,null,null,null,3,null,null,null,null,null,null,3,null,null,null,null,null,null,3]
[4,null,null,null,null,null,null,4,null,null,null,null,null,null,4,null,null,null,null,null,null,4]
[5,null,null,null,null,null,null,5,null,null,null,null,null,null,5,null,null,null,null,null,null,5]
[6,null,null,null,null,null,null,6,null,null,null,null,null,null,6,null,null,null,null,null,null,6]
["Total distance",null,null,null,null,null,null,"Total distance",null,null,null,null,null,null,"Total distance",null,null,null,null,null,null,"Total distance"]
[10,null,null,9,null,null,null,10,null,null,9,null,null,null,10,null,null,9,null,null,null,10,null,null,9]
[]
["Archer",null,null,"Marqueur",null,null,null,"Archer",null,null,"Marqueur",null,null,null,"Archer",null,null,"Marqueur",null,null,null,"Archer",null,null,"Marqueur"]
[]
[]
[]
[{"$f":"Feuil1!D5","v":"Cie La Flèche Macairoise"},null,null,null,null,null,null,null,null,null,null,null,null,null,{"$f":"Feuil1!D6","v":"2ème étape Challenge CHAIRMARTIN"}]
[]
[{"$f":"Feuil1!D7","v":"2023-01-14"}]

{"sheet":"cible 13","index":156,"n_rows":23,"n_cols":27,"rows_kept":23,"cut":false,"hidden":false,"merged":[[0,1,0,5],[0,8,0,12],[0,15,0,19],[0,22,0,26],[1,1,1,5],[1,8,1,12],[1,15,1,19],[1,22,1,26],[2,21,2,22],[2,23,2,26],[3,0,3,1],[3,7,3,8],[3,14,3,15],[3,21,3,22],[2,0,2,1],[2,2,2,6],[2,7,2,8],[2,9,2,13],[2,14,2,15],[2,16,2,20],[4,0,4,1],[4,2,4,3],[4,4,4,5],[4,7,4,8],[4,9,4,10],[4,16,4,17],[4,18,4,19],[4,21,4,22],[4,23,4,24],[4,25,4,26],[5,4,6,4],[5,5,6,5],[5,7,6,7],[5,8,5,10],[4,14,4,15],[4,11,4,12],[5,21,6,21],[5,22,5,24],[5,25,6,25],[5,26,6,26],[13,0,13,4],[13,7,13,11],[13,14,13,18],[13,21,13,25],[5,11,6,11],[5,12,6,12],[5,14,6,14],[5,15,5,17],[5,18,6,18],[5,19,6,19],[5,0,6,0],[5,1,5,3],[14,21,14,23],[14,24,14,26],[15,0,15,2],[15,3,15,5],[15,7,15,9],[15,10,15,12],[15,14,15,16],[15,17,15,19],[15,21,15,23],[15,24,15,26],[14,0,14,2],[14,3,14,5],[14,7,14,9],[14,10,14,12],[14,14,14,16],[14,17,14,19],[16,21,18,23],[16,24,18,26],[20,0,21,13],[20,14,21,26],[22,0,22,26],[16,0,18,2],[16,3,18,5],[16,7,18,9],[16,10,18,12],[16,14,18,16],[16,17,18,19]]}
["Nom",{"$f":"VLOOKUP(C4,Liste!B:K,2,FALSE)","v":{"$error":"#N/A"}},null,null,null,null,null,"Nom",{"$f":"VLOOKUP(J4,Liste!B:C,2,FALSE)","v":{"$error":"#N/A"}},null,null,null,null,null,"Nom",{"$f":"VLOOKUP(Q4,Liste!B:C,2,FALSE)","v":{"$error":"#N/A"}},null,null,null,null,null,"Nom",{"$f":"VLOOKUP(X4,Liste!B:C,2,FALSE)","v":{"$error":"#N/A"}}]
["Club",{"$f":"VLOOKUP(C4,Liste!B:D,3,FALSE)","v":{"$error":"#N/A"}},null,null,null,null,null,"Club",{"$f":"VLOOKUP(J4,Liste!B:D,3,FALSE)","v":{"$error":"#N/A"}},null,null,null,null,null,"Club",{"$f":"VLOOKUP(Q4,Liste!B:D,3,FALSE)","v":{"$error":"#N/A"}},null,null,null,null,null,"Club",{"$f":"VLOOKUP(X4,Liste!B:D,3,FALSE)","v":{"$error":"#N/A"}}]
["Classement",null,{"$f":"VLOOKUP(C4,Liste!B:K,5,FALSE)","v":{"$error":"#N/A"}},null,null,null,null,"Classement",null,{"$f":"VLOOKUP(J4,Liste!B:K,5,FALSE)","v":{"$error":"#N/A"}},null,null,null,null,"Classement",null,{"$f":"VLOOKUP(Q4,Liste!B:F,5,FALSE)","v":{"$error":"#N/A"}},null,null,null,null,"Classement",null,{"$f":"VLOOKUP(X4,Liste!B:F,5,FALSE)","v":{"$error":"#N/A"}}]
["N° cible",null,{"$f":"Feuil1!N11","v":"13A"},null,null,null,null,"N° cible",null,{"$f":"Feuil1!N12","v":"13B"},null,null,null,null,"N° cible",null,{"$f":"Feuil1!N13","v":"13C"},null,null,null,null,"N° cible",null,{"$f":"Feuil1!N14","v":"13D"}]
[{"$f":"Feuil1!D4","v":"2ème Tir"},null,"Licence",null,{"$f":"VLOOKUP(C4,Liste!B:K,4,FALSE)","v":{"$error":"#N/A"}},null,null,{"$f":"Feuil1!D4","v":"2ème Tir"},null,"Licence",null,{"$f":"VLOOKUP(J4,Liste!B:K,4,FALSE)","v":{"$error":"#N/A"}},null,null,{"$f":"Feuil1!D4","v":"2ème Tir"},null,"Licence",null,{"$f":"VLOOKUP(Q4,Liste!B:E,4,FALSE)","v":{"$error":"#N/A"}},null,null,{"$f":"Feuil1!D4","v":"2ème Tir"},null,"Licence",null,{"$f":"VLOOKUP(X4,Liste!B:E,4,FALSE)","v":{"$error":"#N/A"}}]
["N°","Points par flèches",null,null,"Total 3 flèches","Total cumulé",null,{"$f":"A6","v":"N°"},{"$f":"B6","v":"Points par flèches"},null,null,"Total 3 flèches","Total cumulé",null,"N°","Points par flèches",null,null,"Total 3 flèches","Total cumulé",null,{"$f":"O6","v":"N°"},{"$f":"P6","v":"Points par flèches"},null,null,"Total 3 flèches","Total cumulé"]
[null,1,2,3,null,null,null,null,1,2,3,null,null,null,null,1,2,3,null,null,null,null,1,2,3]
[1,null,null,null,null,null,null,1,null,null,null,null,null,null,1,null,null,null,null,null,null,1]
[2,null,null,null,null,null,null,2,null,null,null,null,null,null,2,null,null,null,null,null,null,2]
[3,null,null,null,null,null,null,3,null,null,null,null,null,null,3,null,null,null,null,null,null,3]
[4,null,null,null,null,null,null,4,null,null,null,null,null,null,4,null,null,null,null,null,null,4]
[5,null,null,null,null,null,null,5,null,null,null,null,null,null,5,null,null,null,null,null,null,5]
[6,null,null,null,null,null,null,6,null,null,null,null,null,null,6,null,null,null,null,null,null,6]
["Total distance",null,null,null,null,null,null,"Total distance",null,null,null,null,null,null,"Total distance",null,null,null,null,null,null,"Total distance"]
[10,null,null,9,null,null,null,10,null,null,9,null,null,null,10,null,null,9,null,null,null,10,null,null,9]
[]
["Archer",null,null,"Marqueur",null,null,null,"Archer",null,null,"Marqueur",null,null,null,"Archer",null,null,"Marqueur",null,null,null,"Archer",null,null,"Marqueur"]
[]
[]
[]
[{"$f":"Feuil1!D5","v":"Cie La Flèche Macairoise"},null,null,null,null,null,null,null,null,null,null,null,null,null,{"$f":"Feuil1!D6","v":"2ème étape Challenge CHAIRMARTIN"}]
[]
[{"$f":"Feuil1!D7","v":"2023-01-14"}]

{"sheet":"cible 13 (2)","index":157,"n_rows":23,"n_cols":27,"rows_kept":23,"cut":false,"hidden":false,"merged":[[0,1,0,5],[0,8,0,12],[0,15,0,19],[0,22,0,26],[1,1,1,5],[1,8,1,12],[1,15,1,19],[1,22,1,26],[2,21,2,22],[2,23,2,26],[3,0,3,1],[3,7,3,8],[3,14,3,15],[3,21,3,22],[2,0,2,1],[2,2,2,6],[2,7,2,8],[2,9,2,13],[2,14,2,15],[2,16,2,20],[4,0,4,1],[4,2,4,3],[4,4,4,5],[4,7,4,8],[4,9,4,10],[4,16,4,17],[4,18,4,19],[4,21,4,22],[4,23,4,24],[4,25,4,26],[5,4,6,4],[5,5,6,5],[5,7,6,7],[5,8,5,10],[4,14,4,15],[4,11,4,12],[5,21,6,21],[5,22,5,24],[5,25,6,25],[5,26,6,26],[13,0,13,4],[13,7,13,11],[13,14,13,18],[13,21,13,25],[5,11,6,11],[5,12,6,12],[5,14,6,14],[5,15,5,17],[5,18,6,18],[5,19,6,19],[5,0,6,0],[5,1,5,3],[14,21,14,23],[14,24,14,26],[15,0,15,2],[15,3,15,5],[15,7,15,9],[15,10,15,12],[15,14,15,16],[15,17,15,19],[15,21,15,23],[15,24,15,26],[14,0,14,2],[14,3,14,5],[14,7,14,9],[14,10,14,12],[14,14,14,16],[14,17,14,19],[16,21,18,23],[16,24,18,26],[20,0,21,13],[20,14,21,26],[22,0,22,26],[16,0,18,2],[16,3,18,5],[16,7,18,9],[16,10,18,12],[16,14,18,16],[16,17,18,19]]}
["Nom",{"$f":"VLOOKUP(C4,Liste!B:K,2,FALSE)","v":{"$error":"#N/A"}},null,null,null,null,null,"Nom",{"$f":"VLOOKUP(J4,Liste!B:C,2,FALSE)","v":{"$error":"#N/A"}},null,null,null,null,null,"Nom",{"$f":"VLOOKUP(Q4,Liste!B:C,2,FALSE)","v":{"$error":"#N/A"}},null,null,null,null,null,"Nom",{"$f":"VLOOKUP(X4,Liste!B:C,2,FALSE)","v":{"$error":"#N/A"}}]
["Club",{"$f":"VLOOKUP(C4,Liste!B:D,3,FALSE)","v":{"$error":"#N/A"}},null,null,null,null,null,"Club",{"$f":"VLOOKUP(J4,Liste!B:D,3,FALSE)","v":{"$error":"#N/A"}},null,null,null,null,null,"Club",{"$f":"VLOOKUP(Q4,Liste!B:D,3,FALSE)","v":{"$error":"#N/A"}},null,null,null,null,null,"Club",{"$f":"VLOOKUP(X4,Liste!B:D,3,FALSE)","v":{"$error":"#N/A"}}]
["Classement",null,{"$f":"VLOOKUP(C4,Liste!B:K,5,FALSE)","v":{"$error":"#N/A"}},null,null,null,null,"Classement",null,{"$f":"VLOOKUP(J4,Liste!B:K,5,FALSE)","v":{"$error":"#N/A"}},null,null,null,null,"Classement",null,{"$f":"VLOOKUP(Q4,Liste!B:F,5,FALSE)","v":{"$error":"#N/A"}},null,null,null,null,"Classement",null,{"$f":"VLOOKUP(X4,Liste!B:F,5,FALSE)","v":{"$error":"#N/A"}}]
["N° cible",null,{"$f":"Feuil1!N15","v":"13E"},null,null,null,null,"N° cible",null,{"$f":"Feuil1!N16","v":"13F"},null,null,null,null,"N° cible",null,{"$f":"Feuil1!N17","v":"13G"},null,null,null,null,"N° cible",null,{"$f":"Feuil1!N18","v":"13H"}]
[{"$f":"Feuil1!D4","v":"2ème Tir"},null,"Licence",null,{"$f":"VLOOKUP(C4,Liste!B:K,4,FALSE)","v":{"$error":"#N/A"}},null,null,{"$f":"Feuil1!D4","v":"2ème Tir"},null,"Licence",null,{"$f":"VLOOKUP(J4,Liste!B:K,4,FALSE)","v":{"$error":"#N/A"}},null,null,{"$f":"Feuil1!D4","v":"2ème Tir"},null,"Licence",null,{"$f":"VLOOKUP(Q4,Liste!B:E,4,FALSE)","v":{"$error":"#N/A"}},null,null,{"$f":"Feuil1!D4","v":"2ème Tir"},null,"Licence",null,{"$f":"VLOOKUP(X4,Liste!B:E,4,FALSE)","v":{"$error":"#N/A"}}]
["N°","Points par flèches",null,null,"Total 3 flèches","Total cumulé",null,{"$f":"A6","v":"N°"},{"$f":"B6","v":"Points par flèches"},null,null,"Total 3 flèches","Total cumulé",null,"N°","Points par flèches",null,null,"Total 3 flèches","Total cumulé",null,{"$f":"O6","v":"N°"},{"$f":"P6","v":"Points par flèches"},null,null,"Total 3 flèches","Total cumulé"]
[null,1,2,3,null,null,null,null,1,2,3,null,null,null,null,1,2,3,null,null,null,null,1,2,3]
[1,null,null,null,null,null,null,1,null,null,null,null,null,null,1,null,null,null,null,null,null,1]
[2,null,null,null,null,null,null,2,null,null,null,null,null,null,2,null,null,null,null,null,null,2]
[3,null,null,null,null,null,null,3,null,null,null,null,null,null,3,null,null,null,null,null,null,3]
[4,null,null,null,null,null,null,4,null,null,null,null,null,null,4,null,null,null,null,null,null,4]
[5,null,null,null,null,null,null,5,null,null,null,null,null,null,5,null,null,null,null,null,null,5]
[6,null,null,null,null,null,null,6,null,null,null,null,null,null,6,null,null,null,null,null,null,6]
["Total distance",null,null,null,null,null,null,"Total distance",null,null,null,null,null,null,"Total distance",null,null,null,null,null,null,"Total distance"]
[10,null,null,9,null,null,null,10,null,null,9,null,null,null,10,null,null,9,null,null,null,10,null,null,9]
[]
["Archer",null,null,"Marqueur",null,null,null,"Archer",null,null,"Marqueur",null,null,null,"Archer",null,null,"Marqueur",null,null,null,"Archer",null,null,"Marqueur"]
[]
[]
[]
[{"$f":"Feuil1!D5","v":"Cie La Flèche Macairoise"},null,null,null,null,null,null,null,null,null,null,null,null,null,{"$f":"Feuil1!D6","v":"2ème étape Challenge CHAIRMARTIN"}]
[]
[{"$f":"Feuil1!D7","v":"2023-01-14"}]

{"sheet":"cible 14","index":158,"n_rows":23,"n_cols":27,"rows_kept":23,"cut":false,"hidden":false,"merged":[[0,1,0,5],[0,8,0,12],[0,15,0,19],[0,22,0,26],[1,1,1,5],[1,8,1,12],[1,15,1,19],[1,22,1,26],[2,21,2,22],[2,23,2,26],[3,0,3,1],[3,7,3,8],[3,14,3,15],[3,21,3,22],[2,0,2,1],[2,2,2,6],[2,7,2,8],[2,9,2,13],[2,14,2,15],[2,16,2,20],[4,0,4,1],[4,2,4,3],[4,4,4,5],[4,7,4,8],[4,9,4,10],[4,16,4,17],[4,18,4,19],[4,21,4,22],[4,23,4,24],[4,25,4,26],[5,4,6,4],[5,5,6,5],[5,7,6,7],[5,8,5,10],[4,14,4,15],[4,11,4,12],[5,21,6,21],[5,22,5,24],[5,25,6,25],[5,26,6,26],[13,0,13,4],[13,7,13,11],[13,14,13,18],[13,21,13,25],[5,11,6,11],[5,12,6,12],[5,14,6,14],[5,15,5,17],[5,18,6,18],[5,19,6,19],[5,0,6,0],[5,1,5,3],[14,21,14,23],[14,24,14,26],[15,0,15,2],[15,3,15,5],[15,7,15,9],[15,10,15,12],[15,14,15,16],[15,17,15,19],[15,21,15,23],[15,24,15,26],[14,0,14,2],[14,3,14,5],[14,7,14,9],[14,10,14,12],[14,14,14,16],[14,17,14,19],[16,21,18,23],[16,24,18,26],[20,0,21,13],[20,14,21,26],[22,0,22,26],[16,0,18,2],[16,3,18,5],[16,7,18,9],[16,10,18,12],[16,14,18,16],[16,17,18,19]]}
[null,{"$f":"VLOOKUP(C4,Liste!B:K,2,FALSE)","v":{"$error":"#N/A"}},null,null,null,null,null,"Nom",{"$f":"VLOOKUP(J4,Liste!B:C,2,FALSE)","v":{"$error":"#N/A"}},null,null,null,null,null,"Nom",{"$f":"VLOOKUP(Q4,Liste!B:C,2,FALSE)","v":{"$error":"#N/A"}},null,null,null,null,null,"Nom",{"$f":"VLOOKUP(X4,Liste!B:C,2,FALSE)","v":{"$error":"#N/A"}}]
["Club",{"$f":"VLOOKUP(C4,Liste!B:D,3,FALSE)","v":{"$error":"#N/A"}},null,null,null,null,null,"Club",{"$f":"VLOOKUP(J4,Liste!B:D,3,FALSE)","v":{"$error":"#N/A"}},null,null,null,null,null,"Club",{"$f":"VLOOKUP(Q4,Liste!B:D,3,FALSE)","v":{"$error":"#N/A"}},null,null,null,null,null,"Club",{"$f":"VLOOKUP(X4,Liste!B:D,3,FALSE)","v":{"$error":"#N/A"}}]
["Classement",null,{"$f":"VLOOKUP(C4,Liste!B:K,5,FALSE)","v":{"$error":"#N/A"}},null,null,null,null,"Classement",null,{"$f":"VLOOKUP(J4,Liste!B:K,5,FALSE)","v":{"$error":"#N/A"}},null,null,null,null,"Classement",null,{"$f":"VLOOKUP(Q4,Liste!B:F,5,FALSE)","v":{"$error":"#N/A"}},null,null,null,null,"Classement",null,{"$f":"VLOOKUP(X4,Liste!B:F,5,FALSE)","v":{"$error":"#N/A"}}]
["N° cible",null,{"$f":"Feuil1!N19","v":"14A"},null,null,null,null,"N° cible",null,{"$f":"Feuil1!N20","v":"14B"},null,null,null,null,"N° cible",null,{"$f":"Feuil1!N21","v":"14C"},null,null,null,null,"N° cible",null,{"$f":"Feuil1!N22","v":"14D"}]
[{"$f":"Feuil1!D4","v":"2ème Tir"},null,"Licence",null,{"$f":"VLOOKUP(C4,Liste!B:K,4,FALSE)","v":{"$error":"#N/A"}},null,null,{"$f":"Feuil1!D4","v":"2ème Tir"},null,"Licence",null,{"$f":"VLOOKUP(J4,Liste!B:K,4,FALSE)","v":{"$error":"#N/A"}},null,null,{"$f":"Feuil1!D4","v":"2ème Tir"},null,"Licence",null,{"$f":"VLOOKUP(Q4,Liste!B:E,4,FALSE)","v":{"$error":"#N/A"}},null,null,{"$f":"Feuil1!D4","v":"2ème Tir"},null,"Licence",null,{"$f":"VLOOKUP(X4,Liste!B:E,4,FALSE)","v":{"$error":"#N/A"}}]
["N°","Points par flèches",null,null,"Total 3 flèches","Total cumulé",null,{"$f":"A6","v":"N°"},{"$f":"B6","v":"Points par flèches"},null,null,"Total 3 flèches","Total cumulé",null,"N°","Points par flèches",null,null,"Total 3 flèches","Total cumulé",null,{"$f":"O6","v":"N°"},{"$f":"P6","v":"Points par flèches"},null,null,"Total 3 flèches","Total cumulé"]
[null,1,2,3,null,null,null,null,1,2,3,null,null,null,null,1,2,3,null,null,null,null,1,2,3]
[1,null,null,null,null,null,null,1,null,null,null,null,null,null,1,null,null,null,null,null,null,1]
[2,null,null,null,null,null,null,2,null,null,null,null,null,null,2,null,null,null,null,null,null,2]
[3,null,null,null,null,null,null,3,null,null,null,null,null,null,3,null,null,null,null,null,null,3]
[4,null,null,null,null,null,null,4,null,null,null,null,null,null,4,null,null,null,null,null,null,4]
[5,null,null,null,null,null,null,5,null,null,null,null,null,null,5,null,null,null,null,null,null,5]
[6,null,null,null,null,null,null,6,null,null,null,null,null,null,6,null,null,null,null,null,null,6]
["Total distance",null,null,null,null,null,null,"Total distance",null,null,null,null,null,null,"Total distance",null,null,null,null,null,null,"Total distance"]
[10,null,null,9,null,null,null,10,null,null,9,null,null,null,10,null,null,9,null,null,null,10,null,null,9]
[]
["Archer",null,null,"Marqueur",null,null,null,"Archer",null,null,"Marqueur",null,null,null,"Archer",null,null,"Marqueur",null,null,null,"Archer",null,null,"Marqueur"]
[]
[]
[]
[{"$f":"Feuil1!D5","v":"Cie La Flèche Macairoise"},null,null,null,null,null,null,null,null,null,null,null,null,null,{"$f":"Feuil1!D6","v":"2ème étape Challenge CHAIRMARTIN"}]
[]
[{"$f":"Feuil1!D7","v":"2023-01-14"}]

{"sheet":"cible 14 (2)","index":159,"n_rows":23,"n_cols":27,"rows_kept":23,"cut":false,"hidden":false,"merged":[[0,1,0,5],[0,8,0,12],[0,15,0,19],[0,22,0,26],[1,1,1,5],[1,8,1,12],[1,15,1,19],[1,22,1,26],[2,21,2,22],[2,23,2,26],[3,0,3,1],[3,7,3,8],[3,14,3,15],[3,21,3,22],[2,0,2,1],[2,2,2,6],[2,7,2,8],[2,9,2,13],[2,14,2,15],[2,16,2,20],[4,0,4,1],[4,2,4,3],[4,4,4,5],[4,7,4,8],[4,9,4,10],[4,16,4,17],[4,18,4,19],[4,21,4,22],[4,23,4,24],[4,25,4,26],[5,4,6,4],[5,5,6,5],[5,7,6,7],[5,8,5,10],[4,14,4,15],[4,11,4,12],[5,21,6,21],[5,22,5,24],[5,25,6,25],[5,26,6,26],[13,0,13,4],[13,7,13,11],[13,14,13,18],[13,21,13,25],[5,11,6,11],[5,12,6,12],[5,14,6,14],[5,15,5,17],[5,18,6,18],[5,19,6,19],[5,0,6,0],[5,1,5,3],[14,21,14,23],[14,24,14,26],[15,0,15,2],[15,3,15,5],[15,7,15,9],[15,10,15,12],[15,14,15,16],[15,17,15,19],[15,21,15,23],[15,24,15,26],[14,0,14,2],[14,3,14,5],[14,7,14,9],[14,10,14,12],[14,14,14,16],[14,17,14,19],[16,21,18,23],[16,24,18,26],[20,0,21,13],[20,14,21,26],[22,0,22,26],[16,0,18,2],[16,3,18,5],[16,7,18,9],[16,10,18,12],[16,14,18,16],[16,17,18,19]]}
["Nom",{"$f":"VLOOKUP(C4,Liste!B:K,2,FALSE)","v":{"$error":"#N/A"}},null,null,null,null,null,"Nom",{"$f":"VLOOKUP(J4,Liste!B:C,2,FALSE)","v":{"$error":"#N/A"}},null,null,null,null,null,"Nom",{"$f":"VLOOKUP(Q4,Liste!B:C,2,FALSE)","v":{"$error":"#N/A"}},null,null,null,null,null,"Nom",{"$f":"VLOOKUP(X4,Liste!B:C,2,FALSE)","v":{"$error":"#N/A"}}]
["Club",{"$f":"VLOOKUP(C4,Liste!B:D,3,FALSE)","v":{"$error":"#N/A"}},null,null,null,null,null,"Club",{"$f":"VLOOKUP(J4,Liste!B:D,3,FALSE)","v":{"$error":"#N/A"}},null,null,null,null,null,"Club",{"$f":"VLOOKUP(Q4,Liste!B:D,3,FALSE)","v":{"$error":"#N/A"}},null,null,null,null,null,"Club",{"$f":"VLOOKUP(X4,Liste!B:D,3,FALSE)","v":{"$error":"#N/A"}}]
["Classement",null,{"$f":"VLOOKUP(C4,Liste!B:K,5,FALSE)","v":{"$error":"#N/A"}},null,null,null,null,"Classement",null,{"$f":"VLOOKUP(J4,Liste!B:K,5,FALSE)","v":{"$error":"#N/A"}},null,null,null,null,"Classement",null,{"$f":"VLOOKUP(Q4,Liste!B:F,5,FALSE)","v":{"$error":"#N/A"}},null,null,null,null,"Classement",null,{"$f":"VLOOKUP(X4,Liste!B:F,5,FALSE)","v":{"$error":"#N/A"}}]
["N° cible",null,{"$f":"Feuil1!N23","v":"14E"},null,null,null,null,"N° cible",null,{"$f":"Feuil1!N24","v":"14F"},null,null,null,null,"N° cible",null,{"$f":"Feuil1!N25","v":"14G"},null,null,null,null,"N° cible",null,{"$f":"Feuil1!N26","v":"14H"}]
[{"$f":"Feuil1!D4","v":"2ème Tir"},null,"Licence",null,{"$f":"VLOOKUP(C4,Liste!B:K,4,FALSE)","v":{"$error":"#N/A"}},null,null,{"$f":"Feuil1!D4","v":"2ème Tir"},null,"Licence",null,{"$f":"VLOOKUP(J4,Liste!B:K,4,FALSE)","v":{"$error":"#N/A"}},null,null,{"$f":"Feuil1!D4","v":"2ème Tir"},null,"Licence",null,{"$f":"VLOOKUP(Q4,Liste!B:E,4,FALSE)","v":{"$error":"#N/A"}},null,null,{"$f":"Feuil1!D4","v":"2ème Tir"},null,"Licence",null,{"$f":"VLOOKUP(X4,Liste!B:E,4,FALSE)","v":{"$error":"#N/A"}}]
["N°","Points par flèches",null,null,"Total 3 flèches","Total cumulé",null,{"$f":"A6","v":"N°"},{"$f":"B6","v":"Points par flèches"},null,null,"Total 3 flèches","Total cumulé",null,"N°","Points par flèches",null,null,"Total 3 flèches","Total cumulé",null,{"$f":"O6","v":"N°"},{"$f":"P6","v":"Points par flèches"},null,null,"Total 3 flèches","Total cumulé"]
[null,1,2,3,null,null,null,null,1,2,3,null,null,null,null,1,2,3,null,null,null,null,1,2,3]
[1,null,null,null,null,null,null,1,null,null,null,null,null,null,1,null,null,null,null,null,null,1]
[2,null,null,null,null,null,null,2,null,null,null,null,null,null,2,null,null,null,null,null,null,2]
[3,null,null,null,null,null,null,3,null,null,null,null,null,null,3,null,null,null,null,null,null,3]
[4,null,null,null,null,null,null,4,null,null,null,null,null,null,4,null,null,null,null,null,null,4]
[5,null,null,null,null,null,null,5,null,null,null,null,null,null,5,null,null,null,null,null,null,5]
[6,null,null,null,null,null,null,6,null,null,null,null,null,null,6,null,null,null,null,null,null,6]
["Total distance",null,null,null,null,null,null,"Total distance",null,null,null,null,null,null,"Total distance",null,null,null,null,null,null,"Total distance"]
[10,null,null,9,null,null,null,10,null,null,9,null,null,null,10,null,null,9,null,null,null,10,null,null,9]
[]
["Archer",null,null,"Marqueur",null,null,null,"Archer",null,null,"Marqueur",null,null,null,"Archer",null,null,"Marqueur",null,null,null,"Archer",null,null,"Marqueur"]
[]
[]
[]
[{"$f":"Feuil1!D5","v":"Cie La Flèche Macairoise"},null,null,null,null,null,null,null,null,null,null,null,null,null,{"$f":"Feuil1!D6","v":"2ème étape Challenge CHAIRMARTIN"}]
[]
[{"$f":"Feuil1!D7","v":"2023-01-14"}]

{"sheet":"cible 15","index":160,"n_rows":23,"n_cols":27,"rows_kept":23,"cut":false,"hidden":false,"merged":[[0,1,0,5],[0,8,0,12],[0,15,0,19],[0,22,0,26],[1,1,1,5],[1,8,1,12],[1,15,1,19],[1,22,1,26],[2,21,2,22],[2,23,2,26],[3,0,3,1],[3,7,3,8],[3,14,3,15],[3,21,3,22],[2,0,2,1],[2,2,2,6],[2,7,2,8],[2,9,2,13],[2,14,2,15],[2,16,2,20],[4,0,4,1],[4,2,4,3],[4,4,4,5],[4,7,4,8],[4,9,4,10],[4,16,4,17],[4,18,4,19],[4,21,4,22],[4,23,4,24],[4,25,4,26],[5,4,6,4],[5,5,6,5],[5,7,6,7],[5,8,5,10],[4,14,4,15],[4,11,4,12],[5,21,6,21],[5,22,5,24],[5,25,6,25],[5,26,6,26],[13,0,13,4],[13,7,13,11],[13,14,13,18],[13,21,13,25],[5,11,6,11],[5,12,6,12],[5,14,6,14],[5,15,5,17],[5,18,6,18],[5,19,6,19],[5,0,6,0],[5,1,5,3],[14,21,14,23],[14,24,14,26],[15,0,15,2],[15,3,15,5],[15,7,15,9],[15,10,15,12],[15,14,15,16],[15,17,15,19],[15,21,15,23],[15,24,15,26],[14,0,14,2],[14,3,14,5],[14,7,14,9],[14,10,14,12],[14,14,14,16],[14,17,14,19],[16,21,18,23],[16,24,18,26],[20,0,21,13],[20,14,21,26],[22,0,22,26],[16,0,18,2],[16,3,18,5],[16,7,18,9],[16,10,18,12],[16,14,18,16],[16,17,18,19]]}
[null,{"$f":"VLOOKUP(C4,Liste!B:K,2,FALSE)","v":{"$error":"#N/A"}},null,null,null,null,null,"Nom",{"$f":"VLOOKUP(J4,Liste!B:C,2,FALSE)","v":{"$error":"#N/A"}},null,null,null,null,null,"Nom",{"$f":"VLOOKUP(Q4,Liste!B:C,2,FALSE)","v":{"$error":"#N/A"}},null,null,null,null,null,"Nom",{"$f":"VLOOKUP(X4,Liste!B:C,2,FALSE)","v":{"$error":"#N/A"}}]
["Club",{"$f":"VLOOKUP(C4,Liste!B:D,3,FALSE)","v":{"$error":"#N/A"}},null,null,null,null,null,"Club",{"$f":"VLOOKUP(J4,Liste!B:D,3,FALSE)","v":{"$error":"#N/A"}},null,null,null,null,null,"Club",{"$f":"VLOOKUP(Q4,Liste!B:D,3,FALSE)","v":{"$error":"#N/A"}},null,null,null,null,null,"Club",{"$f":"VLOOKUP(X4,Liste!B:D,3,FALSE)","v":{"$error":"#N/A"}}]
["Classement",null,{"$f":"VLOOKUP(C4,Liste!B:K,5,FALSE)","v":{"$error":"#N/A"}},null,null,null,null,"Classement",null,{"$f":"VLOOKUP(J4,Liste!B:K,5,FALSE)","v":{"$error":"#N/A"}},null,null,null,null,"Classement",null,{"$f":"VLOOKUP(Q4,Liste!B:F,5,FALSE)","v":{"$error":"#N/A"}},null,null,null,null,"Classement",null,{"$f":"VLOOKUP(X4,Liste!B:F,5,FALSE)","v":{"$error":"#N/A"}}]
["N° cible",null,{"$f":"Feuil1!P11","v":"15A"},null,null,null,null,"N° cible",null,{"$f":"Feuil1!P12","v":"15B"},null,null,null,null,"N° cible",null,{"$f":"Feuil1!P13","v":"15C"},null,null,null,null,"N° cible",null,{"$f":"Feuil1!P14","v":"15D"}]
[{"$f":"Feuil1!D4","v":"2ème Tir"},null,"Licence",null,{"$f":"VLOOKUP(C4,Liste!B:K,4,FALSE)","v":{"$error":"#N/A"}},null,null,{"$f":"Feuil1!D4","v":"2ème Tir"},null,"Licence",null,{"$f":"VLOOKUP(J4,Liste!B:K,4,FALSE)","v":{"$error":"#N/A"}},null,null,{"$f":"Feuil1!D4","v":"2ème Tir"},null,"Licence",null,{"$f":"VLOOKUP(Q4,Liste!B:E,4,FALSE)","v":{"$error":"#N/A"}},null,null,{"$f":"Feuil1!D4","v":"2ème Tir"},null,"Licence",null,{"$f":"VLOOKUP(X4,Liste!B:E,4,FALSE)","v":{"$error":"#N/A"}}]
["N°","Points par flèches",null,null,"Total 3 flèches","Total cumulé",null,{"$f":"A6","v":"N°"},{"$f":"B6","v":"Points par flèches"},null,null,"Total 3 flèches","Total cumulé",null,"N°","Points par flèches",null,null,"Total 3 flèches","Total cumulé",null,{"$f":"O6","v":"N°"},{"$f":"P6","v":"Points par flèches"},null,null,"Total 3 flèches","Total cumulé"]
[null,1,2,3,null,null,null,null,1,2,3,null,null,null,null,1,2,3,null,null,null,null,1,2,3]
[1,null,null,null,null,null,null,1,null,null,null,null,null,null,1,null,null,null,null,null,null,1]
[2,null,null,null,null,null,null,2,null,null,null,null,null,null,2,null,null,null,null,null,null,2]
[3,null,null,null,null,null,null,3,null,null,null,null,null,null,3,null,null,null,null,null,null,3]
[4,null,null,null,null,null,null,4,null,null,null,null,null,null,4,null,null,null,null,null,null,4]
[5,null,null,null,null,null,null,5,null,null,null,null,null,null,5,null,null,null,null,null,null,5]
[6,null,null,null,null,null,null,6,null,null,null,null,null,null,6,null,null,null,null,null,null,6]
["Total distance",null,null,null,null,null,null,"Total distance",null,null,null,null,null,null,"Total distance",null,null,null,null,null,null,"Total distance"]
[10,null,null,9,null,null,null,10,null,null,9,null,null,null,10,null,null,9,null,null,null,10,null,null,9]
[]
["Archer",null,null,"Marqueur",null,null,null,"Archer",null,null,"Marqueur",null,null,null,"Archer",null,null,"Marqueur",null,null,null,"Archer",null,null,"Marqueur"]
[]
[]
[]
[{"$f":"Feuil1!D5","v":"Cie La Flèche Macairoise"},null,null,null,null,null,null,null,null,null,null,null,null,null,{"$f":"Feuil1!D6","v":"2ème étape Challenge CHAIRMARTIN"}]
[]
[{"$f":"Feuil1!D7","v":"2023-01-14"}]

{"sheet":"cible 15 (2)","index":161,"n_rows":23,"n_cols":27,"rows_kept":23,"cut":false,"hidden":false,"merged":[[0,1,0,5],[0,8,0,12],[0,15,0,19],[0,22,0,26],[1,1,1,5],[1,8,1,12],[1,15,1,19],[1,22,1,26],[2,21,2,22],[2,23,2,26],[3,0,3,1],[3,7,3,8],[3,14,3,15],[3,21,3,22],[2,0,2,1],[2,2,2,6],[2,7,2,8],[2,9,2,13],[2,14,2,15],[2,16,2,20],[4,0,4,1],[4,2,4,3],[4,4,4,5],[4,7,4,8],[4,9,4,10],[4,16,4,17],[4,18,4,19],[4,21,4,22],[4,23,4,24],[4,25,4,26],[5,4,6,4],[5,5,6,5],[5,7,6,7],[5,8,5,10],[4,14,4,15],[4,11,4,12],[5,21,6,21],[5,22,5,24],[5,25,6,25],[5,26,6,26],[13,0,13,4],[13,7,13,11],[13,14,13,18],[13,21,13,25],[5,11,6,11],[5,12,6,12],[5,14,6,14],[5,15,5,17],[5,18,6,18],[5,19,6,19],[5,0,6,0],[5,1,5,3],[14,21,14,23],[14,24,14,26],[15,0,15,2],[15,3,15,5],[15,7,15,9],[15,10,15,12],[15,14,15,16],[15,17,15,19],[15,21,15,23],[15,24,15,26],[14,0,14,2],[14,3,14,5],[14,7,14,9],[14,10,14,12],[14,14,14,16],[14,17,14,19],[16,21,18,23],[16,24,18,26],[20,0,21,13],[20,14,21,26],[22,0,22,26],[16,0,18,2],[16,3,18,5],[16,7,18,9],[16,10,18,12],[16,14,18,16],[16,17,18,19]]}
["Nom",{"$f":"VLOOKUP(C4,Liste!B:K,2,FALSE)","v":{"$error":"#N/A"}},null,null,null,null,null,"Nom",{"$f":"VLOOKUP(J4,Liste!B:C,2,FALSE)","v":{"$error":"#N/A"}},null,null,null,null,null,"Nom",{"$f":"VLOOKUP(Q4,Liste!B:C,2,FALSE)","v":{"$error":"#N/A"}},null,null,null,null,null,"Nom",{"$f":"VLOOKUP(X4,Liste!B:C,2,FALSE)","v":{"$error":"#N/A"}}]
["Club",{"$f":"VLOOKUP(C4,Liste!B:D,3,FALSE)","v":{"$error":"#N/A"}},null,null,null,null,null,"Club",{"$f":"VLOOKUP(J4,Liste!B:D,3,FALSE)","v":{"$error":"#N/A"}},null,null,null,null,null,"Club",{"$f":"VLOOKUP(Q4,Liste!B:D,3,FALSE)","v":{"$error":"#N/A"}},null,null,null,null,null,"Club",{"$f":"VLOOKUP(X4,Liste!B:D,3,FALSE)","v":{"$error":"#N/A"}}]
["Classement",null,{"$f":"VLOOKUP(C4,Liste!B:K,5,FALSE)","v":{"$error":"#N/A"}},null,null,null,null,"Classement",null,{"$f":"VLOOKUP(J4,Liste!B:K,5,FALSE)","v":{"$error":"#N/A"}},null,null,null,null,"Classement",null,{"$f":"VLOOKUP(Q4,Liste!B:F,5,FALSE)","v":{"$error":"#N/A"}},null,null,null,null,"Classement",null,{"$f":"VLOOKUP(X4,Liste!B:F,5,FALSE)","v":{"$error":"#N/A"}}]
["N° cible",null,{"$f":"Feuil1!P15","v":"15E"},null,null,null,null,"N° cible",null,{"$f":"Feuil1!P16","v":"15F"},null,null,null,null,"N° cible",null,{"$f":"Feuil1!P17","v":"15G"},null,null,null,null,"N° cible",null,{"$f":"Feuil1!P18","v":"15H"}]
[{"$f":"Feuil1!D4","v":"2ème Tir"},null,"Licence",null,{"$f":"VLOOKUP(C4,Liste!B:K,4,FALSE)","v":{"$error":"#N/A"}},null,null,{"$f":"Feuil1!D4","v":"2ème Tir"},null,"Licence",null,{"$f":"VLOOKUP(J4,Liste!B:K,4,FALSE)","v":{"$error":"#N/A"}},null,null,{"$f":"Feuil1!D4","v":"2ème Tir"},null,"Licence",null,{"$f":"VLOOKUP(Q4,Liste!B:E,4,FALSE)","v":{"$error":"#N/A"}},null,null,{"$f":"Feuil1!D4","v":"2ème Tir"},null,"Licence",null,{"$f":"VLOOKUP(X4,Liste!B:E,4,FALSE)","v":{"$error":"#N/A"}}]
["N°","Points par flèches",null,null,"Total 3 flèches","Total cumulé",null,{"$f":"A6","v":"N°"},{"$f":"B6","v":"Points par flèches"},null,null,"Total 3 flèches","Total cumulé",null,"N°","Points par flèches",null,null,"Total 3 flèches","Total cumulé",null,{"$f":"O6","v":"N°"},{"$f":"P6","v":"Points par flèches"},null,null,"Total 3 flèches","Total cumulé"]
[null,1,2,3,null,null,null,null,1,2,3,null,null,null,null,1,2,3,null,null,null,null,1,2,3]
[1,null,null,null,null,null,null,1,null,null,null,null,null,null,1,null,null,null,null,null,null,1]
[2,null,null,null,null,null,null,2,null,null,null,null,null,null,2,null,null,null,null,null,null,2]
[3,null,null,null,null,null,null,3,null,null,null,null,null,null,3,null,null,null,null,null,null,3]
[4,null,null,null,null,null,null,4,null,null,null,null,null,null,4,null,null,null,null,null,null,4]
[5,null,null,null,null,null,null,5,null,null,null,null,null,null,5,null,null,null,null,null,null,5]
[6,null,null,null,null,null,null,6,null,null,null,null,null,null,6,null,null,null,null,null,null,6]
["Total distance",null,null,null,null,null,null,"Total distance",null,null,null,null,null,null,"Total distance",null,null,null,null,null,null,"Total distance"]
[10,null,null,9,null,null,null,10,null,null,9,null,null,null,10,null,null,9,null,null,null,10,null,null,9]
[]
["Archer",null,null,"Marqueur",null,null,null,"Archer",null,null,"Marqueur",null,null,null,"Archer",null,null,"Marqueur",null,null,null,"Archer",null,null,"Marqueur"]
[]
[]
[]
[{"$f":"Feuil1!D5","v":"Cie La Flèche Macairoise"},null,null,null,null,null,null,null,null,null,null,null,null,null,{"$f":"Feuil1!D6","v":"2ème étape Challenge CHAIRMARTIN"}]
[]
[{"$f":"Feuil1!D7","v":"2023-01-14"}]

{"sheet":"cible 16","index":162,"n_rows":23,"n_cols":27,"rows_kept":23,"cut":false,"hidden":false,"merged":[[0,1,0,5],[0,8,0,12],[0,15,0,19],[0,22,0,26],[1,1,1,5],[1,8,1,12],[1,15,1,19],[1,22,1,26],[2,21,2,22],[2,23,2,26],[3,0,3,1],[3,7,3,8],[3,14,3,15],[3,21,3,22],[2,0,2,1],[2,2,2,6],[2,7,2,8],[2,9,2,13],[2,14,2,15],[2,16,2,20],[4,0,4,1],[4,2,4,3],[4,4,4,5],[4,7,4,8],[4,9,4,10],[4,16,4,17],[4,18,4,19],[4,21,4,22],[4,23,4,24],[4,25,4,26],[5,4,6,4],[5,5,6,5],[5,7,6,7],[5,8,5,10],[4,14,4,15],[4,11,4,12],[5,21,6,21],[5,22,5,24],[5,25,6,25],[5,26,6,26],[13,0,13,4],[13,7,13,11],[13,14,13,18],[13,21,13,25],[5,11,6,11],[5,12,6,12],[5,14,6,14],[5,15,5,17],[5,18,6,18],[5,19,6,19],[5,0,6,0],[5,1,5,3],[14,21,14,23],[14,24,14,26],[15,0,15,2],[15,3,15,5],[15,7,15,9],[15,10,15,12],[15,14,15,16],[15,17,15,19],[15,21,15,23],[15,24,15,26],[14,0,14,2],[14,3,14,5],[14,7,14,9],[14,10,14,12],[14,14,14,16],[14,17,14,19],[16,21,18,23],[16,24,18,26],[20,0,21,13],[20,14,21,26],[22,0,22,26],[16,0,18,2],[16,3,18,5],[16,7,18,9],[16,10,18,12],[16,14,18,16],[16,17,18,19]]}
["Nom",{"$f":"VLOOKUP(C4,Liste!B:K,2,FALSE)","v":{"$error":"#N/A"}},null,null,null,null,null,"Nom",{"$f":"VLOOKUP(J4,Liste!B:C,2,FALSE)","v":{"$error":"#N/A"}},null,null,null,null,null,"Nom",{"$f":"VLOOKUP(Q4,Liste!B:C,2,FALSE)","v":{"$error":"#N/A"}},null,null,null,null,null,"Nom",{"$f":"VLOOKUP(X4,Liste!B:C,2,FALSE)","v":{"$error":"#N/A"}}]
["Club",{"$f":"VLOOKUP(C4,Liste!B:D,3,FALSE)","v":{"$error":"#N/A"}},null,null,null,null,null,"Club",{"$f":"VLOOKUP(J4,Liste!B:D,3,FALSE)","v":{"$error":"#N/A"}},null,null,null,null,null,"Club",{"$f":"VLOOKUP(Q4,Liste!B:D,3,FALSE)","v":{"$error":"#N/A"}},null,null,null,null,null,"Club",{"$f":"VLOOKUP(X4,Liste!B:D,3,FALSE)","v":{"$error":"#N/A"}}]
["Classement",null,{"$f":"VLOOKUP(C4,Liste!B:K,5,FALSE)","v":{"$error":"#N/A"}},null,null,null,null,"Classement",null,{"$f":"VLOOKUP(J4,Liste!B:K,5,FALSE)","v":{"$error":"#N/A"}},null,null,null,null,"Classement",null,{"$f":"VLOOKUP(Q4,Liste!B:F,5,FALSE)","v":{"$error":"#N/A"}},null,null,null,null,"Classement",null,{"$f":"VLOOKUP(X4,Liste!B:F,5,FALSE)","v":{"$error":"#N/A"}}]
["N° cible",null,{"$f":"Feuil1!P19","v":"16A"},null,null,null,null,"N° cible",null,{"$f":"Feuil1!P20","v":"16B"},null,null,null,null,"N° cible",null,{"$f":"Feuil1!P21","v":"16C"},null,null,null,null,"N° cible",null,{"$f":"Feuil1!P22","v":"16D"}]
[{"$f":"Feuil1!D4","v":"2ème Tir"},null,"Licence",null,{"$f":"VLOOKUP(C4,Liste!B:K,4,FALSE)","v":{"$error":"#N/A"}},null,null,{"$f":"Feuil1!D4","v":"2ème Tir"},null,"Licence",null,{"$f":"VLOOKUP(J4,Liste!B:K,4,FALSE)","v":{"$error":"#N/A"}},null,null,{"$f":"Feuil1!D4","v":"2ème Tir"},null,"Licence",null,{"$f":"VLOOKUP(Q4,Liste!B:E,4,FALSE)","v":{"$error":"#N/A"}},null,null,{"$f":"Feuil1!D4","v":"2ème Tir"},null,"Licence",null,{"$f":"VLOOKUP(X4,Liste!B:E,4,FALSE)","v":{"$error":"#N/A"}}]
["N°","Points par flèches",null,null,"Total 3 flèches","Total cumulé",null,{"$f":"A6","v":"N°"},{"$f":"B6","v":"Points par flèches"},null,null,"Total 3 flèches","Total cumulé",null,"N°","Points par flèches",null,null,"Total 3 flèches","Total cumulé",null,{"$f":"O6","v":"N°"},{"$f":"P6","v":"Points par flèches"},null,null,"Total 3 flèches","Total cumulé"]
[null,1,2,3,null,null,null,null,1,2,3,null,null,null,null,1,2,3,null,null,null,null,1,2,3]
[1,null,null,null,null,null,null,1,null,null,null,null,null,null,1,null,null,null,null,null,null,1]
[2,null,null,null,null,null,null,2,null,null,null,null,null,null,2,null,null,null,null,null,null,2]
[3,null,null,null,null,null,null,3,null,null,null,null,null,null,3,null,null,null,null,null,null,3]
[4,null,null,null,null,null,null,4,null,null,null,null,null,null,4,null,null,null,null,null,null,4]
[5,null,null,null,null,null,null,5,null,null,null,null,null,null,5,null,null,null,null,null,null,5]
[6,null,null,null,null,null,null,6,null,null,null,null,null,null,6,null,null,null,null,null,null,6]
["Total distance",null,null,null,null,null,null,"Total distance",null,null,null,null,null,null,"Total distance",null,null,null,null,null,null,"Total distance"]
[10,null,null,9,null,null,null,10,null,null,9,null,null,null,10,null,null,9,null,null,null,10,null,null,9]
[]
["Archer",null,null,"Marqueur",null,null,null,"Archer",null,null,"Marqueur",null,null,null,"Archer",null,null,"Marqueur",null,null,null,"Archer",null,null,"Marqueur"]
[]
[]
[]
[{"$f":"Feuil1!D5","v":"Cie La Flèche Macairoise"},null,null,null,null,null,null,null,null,null,null,null,null,null,{"$f":"Feuil1!D6","v":"2ème étape Challenge CHAIRMARTIN"}]
[]
[{"$f":"Feuil1!D7","v":"2023-01-14"}]

{"sheet":"cible 16 (2)","index":163,"n_rows":23,"n_cols":27,"rows_kept":23,"cut":false,"hidden":false,"merged":[[0,1,0,5],[0,8,0,12],[0,15,0,19],[0,22,0,26],[1,1,1,5],[1,8,1,12],[1,15,1,19],[1,22,1,26],[2,21,2,22],[2,23,2,26],[3,0,3,1],[3,7,3,8],[3,14,3,15],[3,21,3,22],[2,0,2,1],[2,2,2,6],[2,7,2,8],[2,9,2,13],[2,14,2,15],[2,16,2,20],[4,0,4,1],[4,2,4,3],[4,4,4,5],[4,7,4,8],[4,9,4,10],[4,16,4,17],[4,18,4,19],[4,21,4,22],[4,23,4,24],[4,25,4,26],[5,4,6,4],[5,5,6,5],[5,7,6,7],[5,8,5,10],[4,14,4,15],[4,11,4,12],[5,21,6,21],[5,22,5,24],[5,25,6,25],[5,26,6,26],[13,0,13,4],[13,7,13,11],[13,14,13,18],[13,21,13,25],[5,11,6,11],[5,12,6,12],[5,14,6,14],[5,15,5,17],[5,18,6,18],[5,19,6,19],[5,0,6,0],[5,1,5,3],[14,21,14,23],[14,24,14,26],[15,0,15,2],[15,3,15,5],[15,7,15,9],[15,10,15,12],[15,14,15,16],[15,17,15,19],[15,21,15,23],[15,24,15,26],[14,0,14,2],[14,3,14,5],[14,7,14,9],[14,10,14,12],[14,14,14,16],[14,17,14,19],[16,21,18,23],[16,24,18,26],[20,0,21,13],[20,14,21,26],[22,0,22,26],[16,0,18,2],[16,3,18,5],[16,7,18,9],[16,10,18,12],[16,14,18,16],[16,17,18,19]]}
["Nom",{"$f":"VLOOKUP(C4,Liste!B:K,2,FALSE)","v":{"$error":"#N/A"}},null,null,null,null,null,"Nom",{"$f":"VLOOKUP(J4,Liste!B:C,2,FALSE)","v":{"$error":"#N/A"}},null,null,null,null,null,"Nom",{"$f":"VLOOKUP(Q4,Liste!B:C,2,FALSE)","v":{"$error":"#N/A"}},null,null,null,null,null,"Nom",{"$f":"VLOOKUP(X4,Liste!B:C,2,FALSE)","v":{"$error":"#N/A"}}]
["Club",{"$f":"VLOOKUP(C4,Liste!B:D,3,FALSE)","v":{"$error":"#N/A"}},null,null,null,null,null,"Club",{"$f":"VLOOKUP(J4,Liste!B:D,3,FALSE)","v":{"$error":"#N/A"}},null,null,null,null,null,"Club",{"$f":"VLOOKUP(Q4,Liste!B:D,3,FALSE)","v":{"$error":"#N/A"}},null,null,null,null,null,"Club",{"$f":"VLOOKUP(X4,Liste!B:D,3,FALSE)","v":{"$error":"#N/A"}}]
["Classement",null,{"$f":"VLOOKUP(C4,Liste!B:K,5,FALSE)","v":{"$error":"#N/A"}},null,null,null,null,"Classement",null,{"$f":"VLOOKUP(J4,Liste!B:K,5,FALSE)","v":{"$error":"#N/A"}},null,null,null,null,"Classement",null,{"$f":"VLOOKUP(Q4,Liste!B:F,5,FALSE)","v":{"$error":"#N/A"}},null,null,null,null,"Classement",null,{"$f":"VLOOKUP(X4,Liste!B:F,5,FALSE)","v":{"$error":"#N/A"}}]
["N° cible",null,{"$f":"Feuil1!P23","v":"16E"},null,null,null,null,"N° cible",null,{"$f":"Feuil1!P24","v":"16F"},null,null,null,null,"N° cible",null,{"$f":"Feuil1!P25","v":"16G"},null,null,null,null,"N° cible",null,{"$f":"Feuil1!P26","v":"16H"}]
[{"$f":"Feuil1!D4","v":"2ème Tir"},null,"Licence",null,{"$f":"VLOOKUP(C4,Liste!B:K,4,FALSE)","v":{"$error":"#N/A"}},null,null,{"$f":"Feuil1!D4","v":"2ème Tir"},null,"Licence",null,{"$f":"VLOOKUP(J4,Liste!B:K,4,FALSE)","v":{"$error":"#N/A"}},null,null,{"$f":"Feuil1!D4","v":"2ème Tir"},null,"Licence",null,{"$f":"VLOOKUP(Q4,Liste!B:E,4,FALSE)","v":{"$error":"#N/A"}},null,null,{"$f":"Feuil1!D4","v":"2ème Tir"},null,"Licence",null,{"$f":"VLOOKUP(X4,Liste!B:E,4,FALSE)","v":{"$error":"#N/A"}}]
["N°","Points par flèches",null,null,"Total 3 flèches","Total cumulé",null,{"$f":"A6","v":"N°"},{"$f":"B6","v":"Points par flèches"},null,null,"Total 3 flèches","Total cumulé",null,"N°","Points par flèches",null,null,"Total 3 flèches","Total cumulé",null,{"$f":"O6","v":"N°"},{"$f":"P6","v":"Points par flèches"},null,null,"Total 3 flèches","Total cumulé"]
[null,1,2,3,null,null,null,null,1,2,3,null,null,null,null,1,2,3,null,null,null,null,1,2,3]
[1,null,null,null,null,null,null,1,null,null,null,null,null,null,1,null,null,null,null,null,null,1]
[2,null,null,null,null,null,null,2,null,null,null,null,null,null,2,null,null,null,null,null,null,2]
[3,null,null,null,null,null,null,3,null,null,null,null,null,null,3,null,null,null,null,null,null,3]
[4,null,null,null,null,null,null,4,null,null,null,null,null,null,4,null,null,null,null,null,null,4]
[5,null,null,null,null,null,null,5,null,null,null,null,null,null,5,null,null,null,null,null,null,5]
[6,null,null,null,null,null,null,6,null,null,null,null,null,null,6,null,null,null,null,null,null,6]
["Total distance",null,null,null,null,null,null,"Total distance",null,null,null,null,null,null,"Total distance",null,null,null,null,null,null,"Total distance"]
[10,null,null,9,null,null,null,10,null,null,9,null,null,null,10,null,null,9,null,null,null,10,null,null,9]
[]
["Archer",null,null,"Marqueur",null,null,null,"Archer",null,null,"Marqueur",null,null,null,"Archer",null,null,"Marqueur",null,null,null,"Archer",null,null,"Marqueur"]
[]
[]
[]
[{"$f":"Feuil1!D5","v":"Cie La Flèche Macairoise"},null,null,null,null,null,null,null,null,null,null,null,null,null,{"$f":"Feuil1!D6","v":"2ème étape Challenge CHAIRMARTIN"}]
[]
[{"$f":"Feuil1!D7","v":"2023-01-14"}]